BEGIN:VCALENDAR
VERSION:2.0
PRODID:-//Prison Families Alliance - ECPv6.15.20//NONSGML v1.0//EN
CALSCALE:GREGORIAN
METHOD:PUBLISH
X-ORIGINAL-URL:https://prisonfamiliesalliance.org
X-WR-CALDESC:Events for Prison Families Alliance
REFRESH-INTERVAL;VALUE=DURATION:PT1H
X-Robots-Tag:noindex
X-PUBLISHED-TTL:PT1H
BEGIN:VTIMEZONE
TZID:America/Los_Angeles
BEGIN:DAYLIGHT
TZOFFSETFROM:-0800
TZOFFSETTO:-0700
TZNAME:PDT
DTSTART:20240310T100000
END:DAYLIGHT
BEGIN:STANDARD
TZOFFSETFROM:-0700
TZOFFSETTO:-0800
TZNAME:PST
DTSTART:20241103T090000
END:STANDARD
BEGIN:DAYLIGHT
TZOFFSETFROM:-0800
TZOFFSETTO:-0700
TZNAME:PDT
DTSTART:20250309T100000
END:DAYLIGHT
BEGIN:STANDARD
TZOFFSETFROM:-0700
TZOFFSETTO:-0800
TZNAME:PST
DTSTART:20251102T090000
END:STANDARD
BEGIN:DAYLIGHT
TZOFFSETFROM:-0800
TZOFFSETTO:-0700
TZNAME:PDT
DTSTART:20260308T100000
END:DAYLIGHT
BEGIN:STANDARD
TZOFFSETFROM:-0700
TZOFFSETTO:-0800
TZNAME:PST
DTSTART:20261101T090000
END:STANDARD
END:VTIMEZONE
BEGIN:VEVENT
DTSTART;TZID=America/Los_Angeles:20251115T090000
DTEND;TZID=America/Los_Angeles:20251115T100000
DTSTAMP:20260425T150055
CREATED:20251020T010027Z
LAST-MODIFIED:20251020T010027Z
UID:10002557-1763197200-1763200800@prisonfamiliesalliance.org
SUMMARY:Families of Loved Ones with Long Sentences Coffee & Chat Time (9am PT)
DESCRIPTION:9:00am PT\, 10:00apm MT\, 11:00am CT\, Noon ET\nJoin us for PFA Families of Loved Ones with Long Sentence Coffee and Chat Time. This meeting is specifically designed for families with loved ones incarcerated with long sentences and life sentences. Maintaining a relationship with someone incarcerated for an extended period is especially challenging and life-changing. Join this compassionate\, informative\, and supportive gathering with individuals who comprehend and exchange personal experiences and information. The unique circumstances of having a loved one incarcerated for a long time or with a life sentence are best understood by those undergoing similar experiences. Join us for this special meeting – you are not alone. \nClick Zoom Link:  ZOOM LINK \n 
URL:https://prisonfamiliesalliance.org/event/families-of-loved-ones-with-long-sentences-coffee-chat-time-9am-pt/
LOCATION:Zoom
CATEGORIES:Support Group Meeting
END:VEVENT
BEGIN:VEVENT
DTSTART;TZID=America/Los_Angeles:20251115T160000
DTEND;TZID=America/Los_Angeles:20251115T170000
DTSTAMP:20260425T150055
CREATED:20251103T201425Z
LAST-MODIFIED:20251103T201425Z
UID:10002558-1763222400-1763226000@prisonfamiliesalliance.org
SUMMARY:Caring for Yourself Through the Holidays (4pm Pacific Time)
DESCRIPTION:Caring for Yourself Through the Holidays is a compassionate and interactive workshop designed for individuals with incarcerated loved ones. Together\, we’ll explore the hidden sentence families carry\, recognize the emotional landscape that surfaces during the season\, and work on normalizing the experience of grief\, stress\, and longing. Participants will learn why you deserve care\, too and discover practical ways to nurture emotional well-being through coping strategies\, self-care\, and community support. The session concludes with wellness tools and resources to help you move through the holidays with resilience\, balance\, and hope. \nZoom Link  (4pm Pacific Time)
URL:https://prisonfamiliesalliance.org/event/caring-for-yourself-through-the-holidays-4pm-pacific-time/
LOCATION:Zoom
END:VEVENT
END:VCALENDAR