BEGIN:VCALENDAR
VERSION:2.0
PRODID:-//Prison Families Alliance - ECPv6.15.20//NONSGML v1.0//EN
CALSCALE:GREGORIAN
METHOD:PUBLISH
X-WR-CALNAME:Prison Families Alliance
X-ORIGINAL-URL:https://prisonfamiliesalliance.org
X-WR-CALDESC:Events for Prison Families Alliance
REFRESH-INTERVAL;VALUE=DURATION:PT1H
X-Robots-Tag:noindex
X-PUBLISHED-TTL:PT1H
BEGIN:VTIMEZONE
TZID:America/Los_Angeles
BEGIN:DAYLIGHT
TZOFFSETFROM:-0800
TZOFFSETTO:-0700
TZNAME:PDT
DTSTART:20240310T100000
END:DAYLIGHT
BEGIN:STANDARD
TZOFFSETFROM:-0700
TZOFFSETTO:-0800
TZNAME:PST
DTSTART:20241103T090000
END:STANDARD
BEGIN:DAYLIGHT
TZOFFSETFROM:-0800
TZOFFSETTO:-0700
TZNAME:PDT
DTSTART:20250309T100000
END:DAYLIGHT
BEGIN:STANDARD
TZOFFSETFROM:-0700
TZOFFSETTO:-0800
TZNAME:PST
DTSTART:20251102T090000
END:STANDARD
BEGIN:DAYLIGHT
TZOFFSETFROM:-0800
TZOFFSETTO:-0700
TZNAME:PDT
DTSTART:20260308T100000
END:DAYLIGHT
BEGIN:STANDARD
TZOFFSETFROM:-0700
TZOFFSETTO:-0800
TZNAME:PST
DTSTART:20261101T090000
END:STANDARD
END:VTIMEZONE
BEGIN:VEVENT
DTSTART;VALUE=DATE:20251230
DTEND;VALUE=DATE:20251231
DTSTAMP:20260425T113442
CREATED:20251129T014652Z
LAST-MODIFIED:20251129T014723Z
UID:10002932-1767052800-1767139199@prisonfamiliesalliance.org
SUMMARY:Registration Information - Support Circles for Youth With Incarcerated Loved Ones (1/26-3/2)
DESCRIPTION:PFA is excited to collaborate with Project Avery\, a California-based organization that has supported youth with incarcerated loved ones for over 25 years. Through their Project Avery Support Circles\, young people connect in 6-week online sessions on Zoom with peers from across the country\, guided by trained facilitators and young adult mentors who have lived experience. These gatherings create a powerful space where youth feel seen\, understood\, and supported. This program adds an additional layer of care to PFA’s existing youth programs. The next Project Avery session is now open to PFA youth. Email connect@PrisonFamiliesAlliance.org by December 30 for more information and to sign up. \nNext Session is January 26 – March 2. \n 
URL:https://prisonfamiliesalliance.org/event/registration-information-connections-healing-hope-for-youth-with-incarcerated-loved-ones-1-26-3-2/
LOCATION:Zoom
END:VEVENT
BEGIN:VEVENT
DTSTART;TZID=America/Los_Angeles:20251230T180000
DTEND;TZID=America/Los_Angeles:20251230T190000
DTSTAMP:20260425T113442
CREATED:20251128T233347Z
LAST-MODIFIED:20260317T051654Z
UID:10003291-1767117600-1767121200@prisonfamiliesalliance.org
SUMMARY:(Canada) General Support Meeting
DESCRIPTION:6:00pm PT\, 7:00pm MT\, 8:00pm CT\, 9:00pm ET\nThe PFA General Support meetings support our Canadian families and provides a compassionate and safe space for individuals who have a loved one in the prison system. Recognizing the inherent challenges and stress that come with this experience\, we offer a platform for sharing information\, perspectives\, and personal experiences. Join us to connect with others who understand and navigate this journey with empathy and insight. Nobody needs to go through their journey alone; support is here. \nClick Zoom Link:  ZOOM LINK \n 
URL:https://prisonfamiliesalliance.org/event/canada-general-support-meeting-13/2025-12-30/
LOCATION:Zoom
CATEGORIES:Support Group Meeting
END:VEVENT
END:VCALENDAR