BEGIN:VCALENDAR
VERSION:2.0
PRODID:-//Prison Families Alliance - ECPv6.15.20//NONSGML v1.0//EN
CALSCALE:GREGORIAN
METHOD:PUBLISH
X-ORIGINAL-URL:https://prisonfamiliesalliance.org
X-WR-CALDESC:Events for Prison Families Alliance
REFRESH-INTERVAL;VALUE=DURATION:PT1H
X-Robots-Tag:noindex
X-PUBLISHED-TTL:PT1H
BEGIN:VTIMEZONE
TZID:America/Los_Angeles
BEGIN:DAYLIGHT
TZOFFSETFROM:-0800
TZOFFSETTO:-0700
TZNAME:PDT
DTSTART:20250309T100000
END:DAYLIGHT
BEGIN:STANDARD
TZOFFSETFROM:-0700
TZOFFSETTO:-0800
TZNAME:PST
DTSTART:20251102T090000
END:STANDARD
BEGIN:DAYLIGHT
TZOFFSETFROM:-0800
TZOFFSETTO:-0700
TZNAME:PDT
DTSTART:20260308T100000
END:DAYLIGHT
BEGIN:STANDARD
TZOFFSETFROM:-0700
TZOFFSETTO:-0800
TZNAME:PST
DTSTART:20261101T090000
END:STANDARD
BEGIN:DAYLIGHT
TZOFFSETFROM:-0800
TZOFFSETTO:-0700
TZNAME:PDT
DTSTART:20270314T100000
END:DAYLIGHT
BEGIN:STANDARD
TZOFFSETFROM:-0700
TZOFFSETTO:-0800
TZNAME:PST
DTSTART:20271107T090000
END:STANDARD
END:VTIMEZONE
BEGIN:VEVENT
DTSTART;TZID=America/Los_Angeles:20260721T163000
DTEND;TZID=America/Los_Angeles:20260721T173000
DTSTAMP:20260423T131646
CREATED:20251127T205008Z
LAST-MODIFIED:20251127T205008Z
UID:10002678-1784651400-1784655000@prisonfamiliesalliance.org
SUMMARY:(Time shown is Pacific Time - Check Your Time Zone) General Support Meeting
DESCRIPTION:4:30pm PT\, 5:30pm MT\, 6:30pm CT\, 7:30pm ET\nThe PFA General Support meetings provide a compassionate and supportive space for individuals who have a loved one in the prison system. Recognizing the inherent challenges and stress that come with this experience\, we offer a platform for sharing information\, perspectives\, and personal experiences. Join us to connect with others who understand and navigate this journey with empathy and insight. Nobody needs to go through their journey alone; support is here. \nClick Zoom Link:  ZOOM LINK \n 
URL:https://prisonfamiliesalliance.org/event/time-shown-is-pacific-time-check-your-time-zone-general-support-meeting-22/2026-07-21/
LOCATION:Zoom
CATEGORIES:Support Group Meeting
END:VEVENT
END:VCALENDAR