BEGIN:VCALENDAR
VERSION:2.0
PRODID:-//Prison Families Alliance - ECPv6.15.20//NONSGML v1.0//EN
CALSCALE:GREGORIAN
METHOD:PUBLISH
X-WR-CALNAME:Prison Families Alliance
X-ORIGINAL-URL:https://prisonfamiliesalliance.org
X-WR-CALDESC:Events for Prison Families Alliance
REFRESH-INTERVAL;VALUE=DURATION:PT1H
X-Robots-Tag:noindex
X-PUBLISHED-TTL:PT1H
BEGIN:VTIMEZONE
TZID:America/Los_Angeles
BEGIN:DAYLIGHT
TZOFFSETFROM:-0800
TZOFFSETTO:-0700
TZNAME:PDT
DTSTART:20250309T100000
END:DAYLIGHT
BEGIN:STANDARD
TZOFFSETFROM:-0700
TZOFFSETTO:-0800
TZNAME:PST
DTSTART:20251102T090000
END:STANDARD
BEGIN:DAYLIGHT
TZOFFSETFROM:-0800
TZOFFSETTO:-0700
TZNAME:PDT
DTSTART:20260308T100000
END:DAYLIGHT
BEGIN:STANDARD
TZOFFSETFROM:-0700
TZOFFSETTO:-0800
TZNAME:PST
DTSTART:20261101T090000
END:STANDARD
BEGIN:DAYLIGHT
TZOFFSETFROM:-0800
TZOFFSETTO:-0700
TZNAME:PDT
DTSTART:20270314T100000
END:DAYLIGHT
BEGIN:STANDARD
TZOFFSETFROM:-0700
TZOFFSETTO:-0800
TZNAME:PST
DTSTART:20271107T090000
END:STANDARD
END:VTIMEZONE
BEGIN:VEVENT
DTSTART;TZID=America/Los_Angeles:20260803T163000
DTEND;TZID=America/Los_Angeles:20260803T173000
DTSTAMP:20260423T143544
CREATED:20260127T172459Z
LAST-MODIFIED:20260127T174205Z
UID:10003162-1785774600-1785778200@prisonfamiliesalliance.org
SUMMARY:Guidance & Support Circle for Justice-Impacted Families
DESCRIPTION:This is more than your typical support meeting and the format is difference.  This is an opportunity for anyone with a justice-impacted loved one who is seeking guidance\, understanding\, and a safe place to ask questions. The group is facilitated by Jon\, a formerly incarcerated individual and trained paralegal\, who shares insights and suggestions based on his lived experience and knowledge of both the court system and the prison system. While Jon offers helpful perspectives and practical information\, the meeting is a discussion space—not a source of legal advice or representation. It is designed to provide support\, clarity\, and connection for families navigating the challenges of incarceration. \nDisclaimer: All information shared in this meeting is for general discussion only and should not be considered legal advice. \n4:30pm PT | 5:30 MT | 6:30 CT | 7:30 ET \nClick Zoom Link
URL:https://prisonfamiliesalliance.org/event/guidance-support-circle-for-justice-impacted-families-3/2026-08-03/
LOCATION:Zoom
END:VEVENT
BEGIN:VEVENT
DTSTART;TZID=America/Los_Angeles:20260803T180000
DTEND;TZID=America/Los_Angeles:20260803T190000
DTSTAMP:20260423T143544
CREATED:20251125T041505Z
LAST-MODIFIED:20251125T042934Z
UID:10002612-1785780000-1785783600@prisonfamiliesalliance.org
SUMMARY:(In Person) General Support Meeting – La Porte\, IN (6PM CT)
DESCRIPTION:This PFA General Support meeting is in person and provides a compassionate and supportive space for individuals who have a loved one in the carceral system. Recognizing the inherent challenges and stress that come with this experience\, we offer a platform for sharing information\, perspectives\, and personal experiences. Join us to connect with others who understand and navigate this journey with empathy and insight. We look forward to welcoming you and building a supportive network together. \n6:00 CT – First Church of God\, 2020 East LincolnWay\, La Porte\, IN\n 
URL:https://prisonfamiliesalliance.org/event/in-person-general-support-meeting-la-porte-in-6pm-ct-28/
LOCATION:Touro Law School\, 225 Eastview Dr.\, Central Islip\, New York\, 11722
CATEGORIES:Group Meeting
END:VEVENT
END:VCALENDAR