BEGIN:VCALENDAR
VERSION:2.0
PRODID:-//Prison Families Alliance - ECPv6.15.20//NONSGML v1.0//EN
CALSCALE:GREGORIAN
METHOD:PUBLISH
X-ORIGINAL-URL:https://prisonfamiliesalliance.org
X-WR-CALDESC:Events for Prison Families Alliance
REFRESH-INTERVAL;VALUE=DURATION:PT1H
X-Robots-Tag:noindex
X-PUBLISHED-TTL:PT1H
BEGIN:VTIMEZONE
TZID:America/Los_Angeles
BEGIN:DAYLIGHT
TZOFFSETFROM:-0800
TZOFFSETTO:-0700
TZNAME:PDT
DTSTART:20250309T100000
END:DAYLIGHT
BEGIN:STANDARD
TZOFFSETFROM:-0700
TZOFFSETTO:-0800
TZNAME:PST
DTSTART:20251102T090000
END:STANDARD
BEGIN:DAYLIGHT
TZOFFSETFROM:-0800
TZOFFSETTO:-0700
TZNAME:PDT
DTSTART:20260308T100000
END:DAYLIGHT
BEGIN:STANDARD
TZOFFSETFROM:-0700
TZOFFSETTO:-0800
TZNAME:PST
DTSTART:20261101T090000
END:STANDARD
BEGIN:DAYLIGHT
TZOFFSETFROM:-0800
TZOFFSETTO:-0700
TZNAME:PDT
DTSTART:20270314T100000
END:DAYLIGHT
BEGIN:STANDARD
TZOFFSETFROM:-0700
TZOFFSETTO:-0800
TZNAME:PST
DTSTART:20271107T090000
END:STANDARD
END:VTIMEZONE
BEGIN:VEVENT
DTSTART;TZID=America/Los_Angeles:20261230T080000
DTEND;TZID=America/Los_Angeles:20261230T120000
DTSTAMP:20260423T205358
CREATED:20250102T174652Z
LAST-MODIFIED:20250103T181109Z
UID:10002237-1798617600-1798632000@prisonfamiliesalliance.org
SUMMARY:TEST BUG FIX event on 12/30
DESCRIPTION:I am an event used to work around a bug in the events calendar. The calendar will not show past the final event. A workaround solution has been to have an event 2-3 years into the future to allow users to ensure all events are visible on the calendar with a few months buffer. When this current date approaches\, please move this event another year or two into the future IF you are not able to scroll past this event by a few months.
URL:https://prisonfamiliesalliance.org/event/test-event-on-12-30/
LOCATION:Zoom
END:VEVENT
END:VCALENDAR