BEGIN:VCALENDAR
VERSION:2.0
PRODID:-//Prison Families Alliance - ECPv6.15.20//NONSGML v1.0//EN
CALSCALE:GREGORIAN
METHOD:PUBLISH
X-ORIGINAL-URL:https://prisonfamiliesalliance.org
X-WR-CALDESC:Events for Prison Families Alliance
REFRESH-INTERVAL;VALUE=DURATION:PT1H
X-Robots-Tag:noindex
X-PUBLISHED-TTL:PT1H
BEGIN:VTIMEZONE
TZID:America/Los_Angeles
BEGIN:DAYLIGHT
TZOFFSETFROM:-0800
TZOFFSETTO:-0700
TZNAME:PDT
DTSTART:20220313T100000
END:DAYLIGHT
BEGIN:STANDARD
TZOFFSETFROM:-0700
TZOFFSETTO:-0800
TZNAME:PST
DTSTART:20221106T090000
END:STANDARD
BEGIN:DAYLIGHT
TZOFFSETFROM:-0800
TZOFFSETTO:-0700
TZNAME:PDT
DTSTART:20230312T100000
END:DAYLIGHT
BEGIN:STANDARD
TZOFFSETFROM:-0700
TZOFFSETTO:-0800
TZNAME:PST
DTSTART:20231105T090000
END:STANDARD
BEGIN:DAYLIGHT
TZOFFSETFROM:-0800
TZOFFSETTO:-0700
TZNAME:PDT
DTSTART:20240310T100000
END:DAYLIGHT
BEGIN:STANDARD
TZOFFSETFROM:-0700
TZOFFSETTO:-0800
TZNAME:PST
DTSTART:20241103T090000
END:STANDARD
END:VTIMEZONE
BEGIN:VEVENT
DTSTART;TZID=America/Los_Angeles:20230301T163000
DTEND;TZID=America/Los_Angeles:20230301T173000
DTSTAMP:20260425T210248
CREATED:20230125T005608Z
LAST-MODIFIED:20230226T225303Z
UID:10001856-1677688200-1677691800@prisonfamiliesalliance.org
SUMMARY:(Pacific Time Posted) Support for Loved Ones with Sex Offenses
DESCRIPTION:Time: 4:30pm PT\, 5:30pm MT\, 6:30pm CT\, 7:30pm ET​ \nThe facilitators of this meeting have loved ones who have been sentenced as sex offenders and know what it’s like trying to deal with the trauma of this specific crime. Who do you tell? How do you tell others? What is it? This is a safe space to discuss our stories while maintaining dignity and respect for our loved ones and ourselves. \nClick Zoom Link:  ZOOM LINK \nTime: 4:30pm PT\, 5:30pm MT\, 6:30pm CT\, 7:30pm ET
URL:https://prisonfamiliesalliance.org/event/pacific-time-posted-support-for-loved-ones-with-sex-offenses/
LOCATION:Zoom
CATEGORIES:Support Group Meeting
END:VEVENT
BEGIN:VEVENT
DTSTART;TZID=America/Los_Angeles:20230302T163000
DTEND;TZID=America/Los_Angeles:20230302T173000
DTSTAMP:20260425T210248
CREATED:20230205T060330Z
LAST-MODIFIED:20230205T060330Z
UID:10001858-1677774600-1677778200@prisonfamiliesalliance.org
SUMMARY:(Pacific Time) Support for Families of Loved Ones Incarcerated With Mental Illness
DESCRIPTION:4:30pm PT\, 5:30pm MT\, 6:30pm CT\, 7:30pm ET \nThis group offers peer support for those who have loved ones with incarcerated with a mental disability. \nClick Zoom Link:  ZOOM LINK \n4:30pm PT\, 5:30pm MT\, 6:30pm CT\, 7:30pm ET
URL:https://prisonfamiliesalliance.org/event/pacific-time-support-for-families-of-loved-ones-incarcerated-with-mental-illness-2/
LOCATION:Zoom
CATEGORIES:Support Group Meeting
END:VEVENT
BEGIN:VEVENT
DTSTART;TZID=America/Los_Angeles:20230304T080000
DTEND;TZID=America/Los_Angeles:20230304T090000
DTSTAMP:20260425T210248
CREATED:20230205T060505Z
LAST-MODIFIED:20230219T071921Z
UID:10001859-1677916800-1677920400@prisonfamiliesalliance.org
SUMMARY:(Pacific Time) Morning Coffee Cha& Chat Time
DESCRIPTION:8:00am PT\, 9:00am MT\, 10:00am CT\, 11:00am ET \nLet’s get together and chat over a cup of coffee or your beverage of choice. \nClick Zoom Link:  ZOOM LINK \n8:00am PT\, 9:00am MT\, 10:00am CT\, 11:00am ET
URL:https://prisonfamiliesalliance.org/event/pacific-time-morning-coffee-chat/
LOCATION:Zoom
CATEGORIES:Support Group Meeting
END:VEVENT
BEGIN:VEVENT
DTSTART;TZID=America/Los_Angeles:20230305T140000
DTEND;TZID=America/Los_Angeles:20230305T150000
DTSTAMP:20260425T210248
CREATED:20221226T050330Z
LAST-MODIFIED:20230225T223741Z
UID:10001560-1678024800-1678028400@prisonfamiliesalliance.org
SUMMARY:(Pacific Time) Youth Support Group
DESCRIPTION:Time:  2pm PT\, 3pm MT\, 4pm CT\, 5pm ET \nA safe\, non-judgmental\, and supportive meeting for youth to talk kid-to-kid.  Meeting is facilitated by adults\, and youths have fun and are provided tools to help them deal with having an incarcerated family member.  Parent or legal guardian need to fill out registration form: Click Here to Register \nMeeting will be on Zoom and kids will be moved into separate age-appropriate rooms during the meeting.
URL:https://prisonfamiliesalliance.org/event/pacific-time-youth-support-group/
LOCATION:Zoom
CATEGORIES:Support Group Meeting
END:VEVENT
BEGIN:VEVENT
DTSTART;TZID=America/Los_Angeles:20230307T160000
DTEND;TZID=America/Los_Angeles:20230307T170000
DTSTAMP:20260425T210248
CREATED:20230219T073815Z
LAST-MODIFIED:20230219T073815Z
UID:10001860-1678204800-1678208400@prisonfamiliesalliance.org
SUMMARY:(Pacific Time) General Support Group
DESCRIPTION:4:00pm PT\, 5:00pm MT\, 6:00pm CT\, 7:00pm ET \nCompassionate\, informative\, and supportive meetings for anyone who has or had a loved one in the prison system. This can be a stressful and challenging time. Join people who understand and share information\, their perspectives\, and personal experiences. \nClick Zoom Link:  ZOOM LINK \n4:00pm PT\, 5:00pm MT\, 6:00pm CT\, 7:00pm ET
URL:https://prisonfamiliesalliance.org/event/pacific-time-general-support-group/
LOCATION:Zoom
CATEGORIES:Support Group Meeting
END:VEVENT
BEGIN:VEVENT
DTSTART;TZID=America/Los_Angeles:20230308T170000
DTEND;TZID=America/Los_Angeles:20230308T180000
DTSTAMP:20260425T210248
CREATED:20230219T074023Z
LAST-MODIFIED:20230219T074023Z
UID:10001861-1678294800-1678298400@prisonfamiliesalliance.org
SUMMARY:(Pacific Time) Family Re-Entry
DESCRIPTION:Time: 5:00pm PT\, 6:00pm MT\, 7:00pm CT\, 8:00pm ET​ \nThe process of integrating into the community after incarceration can be difficult\, as the world outside prison can be unfamiliar.  Relying on family and friends during this transition can make a positive difference. This group meeting is a place to share support\, resources and tips in helping the whole family before\, during\, and after the reentry transition. \nClick Zoom Link:  ZOOM LINK \nTime: 5:00pm PT\, 6:00pm MT\, 7:00pm CT\, 8:00pm ET​
URL:https://prisonfamiliesalliance.org/event/pacific-time-family-re-entry-2/
LOCATION:Zoom
CATEGORIES:Support Group Meeting
END:VEVENT
BEGIN:VEVENT
DTSTART;TZID=America/Los_Angeles:20230309T163000
DTEND;TZID=America/Los_Angeles:20230309T173000
DTSTAMP:20260425T210248
CREATED:20230219T074203Z
LAST-MODIFIED:20230219T074203Z
UID:10001862-1678379400-1678383000@prisonfamiliesalliance.org
SUMMARY:(Pacific Time) Support for Spouses and Partners
DESCRIPTION:4:30pm PT\, 5:30pm MT\, 6:30pm CT\, 7:30pm ET \nSpouses and Partners may face many challenges including emotional strain\, academic/employment difficulties and economic hardship when their loved one is in the prison system. Being separated from a loved one in prison can create a series of stressful situations such as arrest\, conviction\, imprisonment\, parole/probation and reunification. This special group offers a support system to help overcome these challenges and understands the unique family dynamics. \nClick Zoom Link:  ZOOM LINK
URL:https://prisonfamiliesalliance.org/event/pacific-time-support-for-spouses-and-partners-2/
LOCATION:Zoom
CATEGORIES:Support Group Meeting
END:VEVENT
BEGIN:VEVENT
DTSTART;TZID=America/Los_Angeles:20230310T180000
DTEND;TZID=America/Los_Angeles:20230310T190000
DTSTAMP:20260425T210248
CREATED:20230219T075115Z
LAST-MODIFIED:20230219T075115Z
UID:10001868-1678471200-1678474800@prisonfamiliesalliance.org
SUMMARY:(Pacific Time) General Support Meeting In-Person (Las Vegas\, NV)
DESCRIPTION:6:00pm Pacific Time \nCompassionate\, informative\, and supportive meetings for anyone who has or had a loved one in the prison system. This can be a stressful and challenging time. Join people who understand and share information\, their perspectives\, and personal experiences. \nEmail Connect@PrisonFamiliesAlliance.org for location information \n6:00pm Pacific Time
URL:https://prisonfamiliesalliance.org/event/pacific-time-general-support-meeting-in-person-las-vegas-nv-2/
LOCATION:Zoom
CATEGORIES:Support Group Meeting
END:VEVENT
BEGIN:VEVENT
DTSTART;TZID=America/Los_Angeles:20230311T090000
DTEND;TZID=America/Los_Angeles:20230311T100000
DTSTAMP:20260425T210248
CREATED:20230219T074355Z
LAST-MODIFIED:20230219T074355Z
UID:10001863-1678525200-1678528800@prisonfamiliesalliance.org
SUMMARY:(Pacific Time) Lioness Moms Coffee & Chat Time
DESCRIPTION:9:00am PT\, 10:00am MT\, 11:00am CT\, Noon ET\n\n\n\n\n\nLioness Moms Coffee & Chat Time is every second Saturday. Our mission is to educate\, empower\, encourage and support other mothers and families with freedom challenged loved ones. Come on out and connect with us\, we are stronger together. \nEmail lionessmomschat@gmail.com for the Zoom link. \n9:00am PT\, 10:00am MT\, 11:00am CT\, Noon ET
URL:https://prisonfamiliesalliance.org/event/pacific-time-lioness-moms-coffee-chat-time/
LOCATION:Zoom
CATEGORIES:Support Group Meeting
END:VEVENT
BEGIN:VEVENT
DTSTART;TZID=America/Los_Angeles:20230315T163000
DTEND;TZID=America/Los_Angeles:20230315T173000
DTSTAMP:20260425T210248
CREATED:20230219T074519Z
LAST-MODIFIED:20230219T074519Z
UID:10001864-1678897800-1678901400@prisonfamiliesalliance.org
SUMMARY:(Pacific Time) Support for Families of Loved Ones with Sex Offenses
DESCRIPTION:Time: 4:30pm PT\, 5:30pm MT\, 6:30pm CT\, 7:30pm ET​ \nThe facilitators of this meeting have loved ones who have been sentenced as sex offenders and know what it’s like trying to deal with the trauma of this specific crime. Who do you tell? How do you tell others? What is it? This is a safe space to discuss our stories while maintaining dignity and respect for our loved ones and ourselves. \nClick Zoom Link:  ZOOM LINK \nTime: 4:30pm PT\, 5:30pm MT\, 6:30pm CT\, 7:30pm ET​
URL:https://prisonfamiliesalliance.org/event/pacific-time-support-for-families-of-loved-ones-with-sex-offenses-6/
LOCATION:Zoom
CATEGORIES:Support Group Meeting
END:VEVENT
BEGIN:VEVENT
DTSTART;TZID=America/Los_Angeles:20230318T090000
DTEND;TZID=America/Los_Angeles:20230318T100000
DTSTAMP:20260425T210248
CREATED:20230219T074649Z
LAST-MODIFIED:20230219T074649Z
UID:10001865-1679130000-1679133600@prisonfamiliesalliance.org
SUMMARY:(Pacific Time) Families of Loved Ones with Long Sentences Coffee & Chat Time
DESCRIPTION:9:00am PT\, 10:00apm MT\, 11:00am CT\, Noon ET \nNEW Support Group for Families who have Loved Ones incarcerated with long sentences and life sentences. Join this compassionate\, informative and supportive meeting with those who understand and share information\, and personal experiences. Having a loved one incarcerated for a long time or with a life sentences has its own set of circumstances that only those who are going through it can understand.  Join this special meeting.  You are not alone. \nClick Zoom Link:  ZOOM LINK \n9:00am PT\, 10:00apm MT\, 11:00am CT\, Noon ET
URL:https://prisonfamiliesalliance.org/event/pacific-time-families-of-loved-ones-with-long-sentences-coffee-chat-time/
LOCATION:Zoom
CATEGORIES:Support Group Meeting
END:VEVENT
BEGIN:VEVENT
DTSTART;TZID=America/Los_Angeles:20230321T160000
DTEND;TZID=America/Los_Angeles:20230321T170000
DTSTAMP:20260425T210248
CREATED:20230219T074814Z
LAST-MODIFIED:20230219T074846Z
UID:10001866-1679414400-1679418000@prisonfamiliesalliance.org
SUMMARY:(Pacific Time) General Support Meeting
DESCRIPTION:4:00pm PT\, 5:00pm MT\, 6:00pm CT\, 7:00pm ET \nCompassionate\, informative\, and supportive meetings for anyone who has or had a loved one in the prison system. This can be a stressful and challenging time. Join people who understand and share information\, their perspectives\, and personal experiences. \nClick Zoom Link:  ZOOM LINK \n4:00pm PT\, 5:00pm MT\, 6:00pm CT\, 7:00pm ET
URL:https://prisonfamiliesalliance.org/event/pacific-time-general-support-meeting-5/
LOCATION:Zoom
CATEGORIES:Support Group Meeting
END:VEVENT
BEGIN:VEVENT
DTSTART;TZID=America/Los_Angeles:20230322T170000
DTEND;TZID=America/Los_Angeles:20230322T180000
DTSTAMP:20260425T210248
CREATED:20230219T074956Z
LAST-MODIFIED:20230219T074956Z
UID:10001867-1679504400-1679508000@prisonfamiliesalliance.org
SUMMARY:(Pacific Time) General Support Meeting - IN SPANISH
DESCRIPTION:5:00pm PT\, 6:00pm MT\, 7:00pm CT\, 8:00pm ET \nEsta reunion general es en Espanol – Participe hoy en una reunion que sera compasiva\, informativa y de ayuda para cualquier persona que ha tenido un ser querido en el sistema penitenciario. Tener un ser querido en el sistema penitenciario es una situación estresante y una etapa difícil. Unese con personas que entienden y comparten información\, perspectiva y experiencias personales.” \nClick Zoom Link:  ZOOM LINK \n5:00pm PT\, 6:00pm MT\, 7:00pm CT\, 8:00pm ET
URL:https://prisonfamiliesalliance.org/event/pacific-time-general-support-meeting-in-spanish-3/
LOCATION:Zoom
CATEGORIES:Support Group Meeting
END:VEVENT
BEGIN:VEVENT
DTSTART;TZID=America/Los_Angeles:20230325T123000
DTEND;TZID=America/Los_Angeles:20230325T133000
DTSTAMP:20260425T210248
CREATED:20230219T075335Z
LAST-MODIFIED:20230219T075352Z
UID:10001869-1679747400-1679751000@prisonfamiliesalliance.org
SUMMARY:(Pacific Time) Michigan Citizens for Justice (those affected by a sex offense conviction)
DESCRIPTION:Time: 12:30pm PT\, 1:30pm MT\, 2:30pm CT\, 3:30pm ET​ \nThis meeting is open to family members and those with a sex offense conviction. This is a safe place to discuss our stories\, while maintaining dignity and respect for our loved ones and ourselves. It is facilitated by people with lived experience. \nEmail wash@micitizensforjustice.com for the Zoom link. \nTime: 12:30pm PT\, 1:30pm MT\, 2:30pm CT\, 3:30pm ET​
URL:https://prisonfamiliesalliance.org/event/pacific-time-michigan-citizens-for-justice-those-affected-by-a-sex-offense-conviction/
LOCATION:Zoom
CATEGORIES:Support Group Meeting
END:VEVENT
BEGIN:VEVENT
DTSTART;TZID=America/Los_Angeles:20230327T180000
DTEND;TZID=America/Los_Angeles:20230327T190000
DTSTAMP:20260425T210248
CREATED:20230219T075859Z
LAST-MODIFIED:20230219T075921Z
UID:10001870-1679940000-1679943600@prisonfamiliesalliance.org
SUMMARY:(Pacific Time) Support Meeting for Families who Have Loved Ones Incarcerated in Alaska/West Coast
DESCRIPTION:6:00pm PT \nCompassionate\, informative\, and supportive meetings for anyone who has or had a loved one in the prison system. This can be a stressful and challenging time. Join people who understand and share information\, their perspectives\, and personal experiences. This group focuses on loved ones incarcerated on the West Coast and Alaska.  If you have a loved one in another state and would like to create a group email connect@PrisonFamiliesAlliance.org \nClick Zoom Link:  ZOOM LINK \n6:00pm PT
URL:https://prisonfamiliesalliance.org/event/pacific-time-support-meeting-for-families-who-have-loved-ones-incarcerated-in-alaska-west-coast/
LOCATION:Zoom
CATEGORIES:Support Group Meeting
END:VEVENT
END:VCALENDAR