BEGIN:VCALENDAR
VERSION:2.0
PRODID:-//Prison Families Alliance - ECPv6.15.20//NONSGML v1.0//EN
CALSCALE:GREGORIAN
METHOD:PUBLISH
X-ORIGINAL-URL:https://prisonfamiliesalliance.org
X-WR-CALDESC:Events for Prison Families Alliance
REFRESH-INTERVAL;VALUE=DURATION:PT1H
X-Robots-Tag:noindex
X-PUBLISHED-TTL:PT1H
BEGIN:VTIMEZONE
TZID:America/Los_Angeles
BEGIN:DAYLIGHT
TZOFFSETFROM:-0800
TZOFFSETTO:-0700
TZNAME:PDT
DTSTART:20220313T100000
END:DAYLIGHT
BEGIN:STANDARD
TZOFFSETFROM:-0700
TZOFFSETTO:-0800
TZNAME:PST
DTSTART:20221106T090000
END:STANDARD
BEGIN:DAYLIGHT
TZOFFSETFROM:-0800
TZOFFSETTO:-0700
TZNAME:PDT
DTSTART:20230312T100000
END:DAYLIGHT
BEGIN:STANDARD
TZOFFSETFROM:-0700
TZOFFSETTO:-0800
TZNAME:PST
DTSTART:20231105T090000
END:STANDARD
BEGIN:DAYLIGHT
TZOFFSETFROM:-0800
TZOFFSETTO:-0700
TZNAME:PDT
DTSTART:20240310T100000
END:DAYLIGHT
BEGIN:STANDARD
TZOFFSETFROM:-0700
TZOFFSETTO:-0800
TZNAME:PST
DTSTART:20241103T090000
END:STANDARD
END:VTIMEZONE
BEGIN:VEVENT
DTSTART;TZID=America/Los_Angeles:20230401T080000
DTEND;TZID=America/Los_Angeles:20230401T090000
DTSTAMP:20260425T191737
CREATED:20230316T032341Z
LAST-MODIFIED:20230316T040859Z
UID:10001582-1680336000-1680339600@prisonfamiliesalliance.org
SUMMARY:(Check Your Time Zone) Morning Coffee & Chat Time
DESCRIPTION:8:00am PT\, 9:00am MT\, 10:00am CT\, 11:00am ET \nLet’s get together and chat over a cup of coffee or your beverage of choice. \nClick Zoom Link:  ZOOM LINK \n8:00am PT\, 9:00am MT\, 10:00am CT\, 11:00am ET
URL:https://prisonfamiliesalliance.org/event/pacific-time-morning-coffee-chat-time/
LOCATION:Zoom
CATEGORIES:Support Group Meeting
END:VEVENT
BEGIN:VEVENT
DTSTART;TZID=America/Los_Angeles:20230404T160000
DTEND;TZID=America/Los_Angeles:20230404T170000
DTSTAMP:20260425T191737
CREATED:20230316T033558Z
LAST-MODIFIED:20230316T033558Z
UID:10001588-1680624000-1680627600@prisonfamiliesalliance.org
SUMMARY:(Check Your Time Zone) General Support Meeting
DESCRIPTION:4:00pm PT\, 5:00pm MT\, 6:00pm CT\, 7:00pm ET\nCompassionate\, informative\, and supportive meetings for anyone who has or had a loved one in the prison system. This can be a stressful and challenging time. Join people who understand and share information\, their perspectives\, and personal experiences. \nClick Zoom Link:  ZOOM LINK \n4:00pm PT\, 5:00pm MT\, 6:00pm CT\, 7:00pm ET
URL:https://prisonfamiliesalliance.org/event/check-your-time-zone-general-support-meeting/
LOCATION:Zoom
CATEGORIES:Support Group Meeting
END:VEVENT
BEGIN:VEVENT
DTSTART;TZID=America/Los_Angeles:20230405T163000
DTEND;TZID=America/Los_Angeles:20230405T173000
DTSTAMP:20260425T191737
CREATED:20230316T032901Z
LAST-MODIFIED:20230316T032901Z
UID:10001584-1680712200-1680715800@prisonfamiliesalliance.org
SUMMARY:(Check Your Time Zone) Support for Families of Loved Ones with Sex Offenses
DESCRIPTION:Time: 4:30pm PT\, 5:30pm MT\, 6:30pm CT\, 7:30pm ET​ \nThe facilitators of this meeting have loved ones who have been sentenced as sex offenders and know what it’s like trying to deal with the trauma of this specific crime. Who do you tell? How do you tell others? What is it? This is a safe space to discuss our stories while maintaining dignity and respect for our loved ones and ourselves. \nClick Zoom Link:  ZOOM LINK \nTime: 4:30pm PT\, 5:30pm MT\, 6:30pm CT\, 7:30pm ET
URL:https://prisonfamiliesalliance.org/event/check-your-time-zone-support-for-families-of-loved-ones-with-sex-offenses/
LOCATION:Zoom
CATEGORIES:Support Group Meeting
END:VEVENT
BEGIN:VEVENT
DTSTART;TZID=America/Los_Angeles:20230406T163000
DTEND;TZID=America/Los_Angeles:20230406T173000
DTSTAMP:20260425T191737
CREATED:20230316T041051Z
LAST-MODIFIED:20230316T041126Z
UID:10001873-1680798600-1680802200@prisonfamiliesalliance.org
SUMMARY:(Check Your Time Zone) Support for Families of Loved Ones Incarcerated With Mental Illness
DESCRIPTION:4:30pm PT\, 5:30pm MT\, 6:30pm CT\, 7:30pm ET \nThis group offers peer support for those who have loved ones with incarcerated with a mental disability. \nClick Zoom Link:  ZOOM LINK \n4:30pm PT\, 5:30pm MT\, 6:30pm CT\, 7:30pm ET \n 
URL:https://prisonfamiliesalliance.org/event/check-your-time-zone-support-for-families-of-loved-ones-incarcerated-with-mental-illness/
LOCATION:Zoom
CATEGORIES:Support Group Meeting
END:VEVENT
BEGIN:VEVENT
DTSTART;TZID=America/Los_Angeles:20230408T090000
DTEND;TZID=America/Los_Angeles:20230408T100000
DTSTAMP:20260425T191737
CREATED:20230316T035718Z
LAST-MODIFIED:20230316T035718Z
UID:10001598-1680944400-1680948000@prisonfamiliesalliance.org
SUMMARY:(Check Your Time Zone) Lioness Moms Coffee & Chat Time
DESCRIPTION:9:00am PT\, 10:00am MT\, 11:00am CT\, Noon ET\n\n\n\n\n\nLioness Moms Coffee & Chat Time is every second Saturday. Our mission is to educate\, empower\, encourage and support other mothers and families with freedom challenged loved ones. Come on out and connect with us\, we are stronger together. \nEmail lionessmomschat@gmail.com for the Zoom link. \n9:00am PT\, 10:00am MT\, 11:00am CT\, Noon ET
URL:https://prisonfamiliesalliance.org/event/check-your-time-zone-lioness-moms-coffee-chat-time/
LOCATION:Zoom
CATEGORIES:Support Group Meeting
END:VEVENT
BEGIN:VEVENT
DTSTART;TZID=America/Los_Angeles:20230412T170000
DTEND;TZID=America/Los_Angeles:20230412T180000
DTSTAMP:20260425T191737
CREATED:20230316T034158Z
LAST-MODIFIED:20230316T034158Z
UID:10001592-1681318800-1681322400@prisonfamiliesalliance.org
SUMMARY:(Check Your Time Zone) Family Re-Entry
DESCRIPTION:Time: 5:00pm PT\, 6:00pm MT\, 7:00pm CT\, 8:00pm ET​ \nThe process of integrating into the community after incarceration can be difficult\, as the world outside prison can be unfamiliar.  Relying on family and friends during this transition can make a positive difference. This group meeting is a place to share support\, resources and tips in helping the whole family before\, during\, and after the reentry transition. \nClick Zoom Link:  ZOOM LINK \nTime: 5:00pm PT\, 6:00pm MT\, 7:00pm CT\, 8:00pm ET​
URL:https://prisonfamiliesalliance.org/event/check-your-time-zone-family-re-entry/
LOCATION:Zoom
CATEGORIES:Support Group Meeting
END:VEVENT
BEGIN:VEVENT
DTSTART;TZID=America/Los_Angeles:20230413T163000
DTEND;TZID=America/Los_Angeles:20230413T173000
DTSTAMP:20260425T191737
CREATED:20230316T035051Z
LAST-MODIFIED:20230316T035224Z
UID:10001596-1681403400-1681407000@prisonfamiliesalliance.org
SUMMARY:(Check your Time Zone) Support for Spouses and Partners
DESCRIPTION:4:30pm PT\, 5:30pm MT\, 6:30pm CT\, 7:30pm ET \nSpouses and Partners may face many challenges including emotional strain\, academic/employment difficulties and economic hardship when their loved one is in the prison system. Being separated from a loved one in prison can create a series of stressful situations such as arrest\, conviction\, imprisonment\, parole/probation and reunification. This special group offers a support system to help overcome these challenges and understands the unique family dynamics. \nClick Zoom Link:  ZOOM LINK
URL:https://prisonfamiliesalliance.org/event/check-your-time-zone-support-for-spouses-and-partners/
LOCATION:Zoom
CATEGORIES:Support Group Meeting
END:VEVENT
BEGIN:VEVENT
DTSTART;TZID=America/Los_Angeles:20230414T173000
DTEND;TZID=America/Los_Angeles:20230414T183000
DTSTAMP:20260425T191737
CREATED:20230316T035923Z
LAST-MODIFIED:20230316T040010Z
UID:10001600-1681493400-1681497000@prisonfamiliesalliance.org
SUMMARY:(Pacific Time) General Support Meeting - In Person (Las Vegas\, NV)
DESCRIPTION:6:00pm Pacific Time \nCompassionate\, informative\, and supportive meetings for anyone who has or had a loved one in the prison system. This can be a stressful and challenging time. Join people who understand and share information\, their perspectives\, and personal experiences. \nEmail Connect@PrisonFamiliesAlliance.org for location information \n6:00pm Pacific Time
URL:https://prisonfamiliesalliance.org/event/pacific-time-general-support-meeting-in-person-las-vegas-nv-3/
LOCATION:Zoom
CATEGORIES:Support Group Meeting
END:VEVENT
BEGIN:VEVENT
DTSTART;TZID=America/Los_Angeles:20230415T090000
DTEND;TZID=America/Los_Angeles:20230415T100000
DTSTAMP:20260425T191737
CREATED:20230316T040226Z
LAST-MODIFIED:20230316T040226Z
UID:10001872-1681549200-1681552800@prisonfamiliesalliance.org
SUMMARY:(Check Your Time Zone) Families of Loved Ones with Long Sentences Coffee & Chat Time
DESCRIPTION:9:00am PT\, 10:00apm MT\, 11:00am CT\, Noon ET \nNEW Support Group for Families who have Loved Ones incarcerated with long sentences and life sentences. Join this compassionate\, informative and supportive meeting with those who understand and share information\, and personal experiences. Having a loved one incarcerated for a long time or with a life sentences has its own set of circumstances that only those who are going through it can understand.  Join this special meeting.  You are not alone. \nClick Zoom Link:  ZOOM LINK \n9:00am PT\, 10:00apm MT\, 11:00am CT\, Noon ET \n 
URL:https://prisonfamiliesalliance.org/event/check-your-time-zone-families-of-loved-ones-with-long-sentences-coffee-chat-time/
LOCATION:Zoom
CATEGORIES:Support Group Meeting
END:VEVENT
BEGIN:VEVENT
DTSTART;TZID=America/Los_Angeles:20230418T160000
DTEND;TZID=America/Los_Angeles:20230418T170000
DTSTAMP:20260425T191737
CREATED:20230316T033641Z
LAST-MODIFIED:20230316T033641Z
UID:10001590-1681833600-1681837200@prisonfamiliesalliance.org
SUMMARY:(Check Your Time Zone) General Support Meeting
DESCRIPTION:4:00pm PT\, 5:00pm MT\, 6:00pm CT\, 7:00pm ET \nCompassionate\, informative\, and supportive meetings for anyone who has or had a loved one in the prison system. This can be a stressful and challenging time. Join people who understand and share information\, their perspectives\, and personal experiences. \nClick Zoom Link:  ZOOM LINK \n4:00pm PT\, 5:00pm MT\, 6:00pm CT\, 7:00pm ET
URL:https://prisonfamiliesalliance.org/event/check-your-time-zone-general-support-meeting-2/
LOCATION:Zoom
CATEGORIES:Support Group Meeting
END:VEVENT
BEGIN:VEVENT
DTSTART;TZID=America/Los_Angeles:20230419T163000
DTEND;TZID=America/Los_Angeles:20230419T173000
DTSTAMP:20260425T191737
CREATED:20230316T032959Z
LAST-MODIFIED:20230316T032959Z
UID:10001586-1681921800-1681925400@prisonfamiliesalliance.org
SUMMARY:(Check Your Time Zone) Support for Families of Loved Ones with Sex Offenses
DESCRIPTION:Time: 4:30pm PT\, 5:30pm MT\, 6:30pm CT\, 7:30pm ET​ \nThe facilitators of this meeting have loved ones who have been sentenced as sex offenders and know what it’s like trying to deal with the trauma of this specific crime. Who do you tell? How do you tell others? What is it? This is a safe space to discuss our stories while maintaining dignity and respect for our loved ones and ourselves. \nClick Zoom Link:  ZOOM LINK \nTime: 4:30pm PT\, 5:30pm MT\, 6:30pm CT\, 7:30pm ET
URL:https://prisonfamiliesalliance.org/event/check-your-time-zone-support-for-families-of-loved-ones-with-sex-offenses-2/
LOCATION:Zoom
CATEGORIES:Support Group Meeting
END:VEVENT
BEGIN:VEVENT
DTSTART;TZID=America/Los_Angeles:20230422T123000
DTEND;TZID=America/Los_Angeles:20230422T133000
DTSTAMP:20260425T191737
CREATED:20230316T034557Z
LAST-MODIFIED:20230316T034557Z
UID:10001594-1682166600-1682170200@prisonfamiliesalliance.org
SUMMARY:(Check Your Time Zone) Michigan Citizens for Justice (those affected by a sex offense conviction)
DESCRIPTION:Time: 12:30pm PT\, 1:30pm MT\, 2:30pm CT\, 3:30pm ET​ \nThis meeting is open to family members and those with a sex offense conviction. This is a safe place to discuss our stories\, while maintaining dignity and respect for our loved ones and ourselves. It is facilitated by people with lived experience. \nEmail wash@micitizensforjustice.com for the Zoom link. \nTime: 12:30pm PT\, 1:30pm MT\, 2:30pm CT\, 3:30pm ET​ \n 
URL:https://prisonfamiliesalliance.org/event/check-your-time-zone-michigan-citizens-for-justice-those-affected-by-a-sex-offense-conviction/
LOCATION:Zoom
CATEGORIES:Support Group Meeting
END:VEVENT
BEGIN:VEVENT
DTSTART;TZID=America/Los_Angeles:20230424T180000
DTEND;TZID=America/Los_Angeles:20230424T190000
DTSTAMP:20260425T191737
CREATED:20230316T031905Z
LAST-MODIFIED:20230316T033136Z
UID:10001871-1682359200-1682362800@prisonfamiliesalliance.org
SUMMARY:(Pacific Time) Support Meeting for Families who Have Loved Ones Incarcerated in Alaska/West Coast
DESCRIPTION:6:00pm PT \nCompassionate\, informative\, and supportive meetings for anyone who has or had a loved one in the prison system. This can be a stressful and challenging time. Join people who understand and share information\, their perspectives\, and personal experiences. This group focuses on loved ones incarcerated on the West Coast and Alaska.  If you have a loved one in another state and would like to create a group email connect@PrisonFamiliesAlliance.org \nClick Zoom Link:  ZOOM LINK \n6:00pm PT
URL:https://prisonfamiliesalliance.org/event/pacific-time-alaska-west-coast-support-meeting/
LOCATION:Zoom
CATEGORIES:Support Group Meeting
END:VEVENT
END:VCALENDAR