BEGIN:VCALENDAR
VERSION:2.0
PRODID:-//Prison Families Alliance - ECPv6.15.20//NONSGML v1.0//EN
CALSCALE:GREGORIAN
METHOD:PUBLISH
X-WR-CALNAME:Prison Families Alliance
X-ORIGINAL-URL:https://prisonfamiliesalliance.org
X-WR-CALDESC:Events for Prison Families Alliance
REFRESH-INTERVAL;VALUE=DURATION:PT1H
X-Robots-Tag:noindex
X-PUBLISHED-TTL:PT1H
BEGIN:VTIMEZONE
TZID:America/Los_Angeles
BEGIN:DAYLIGHT
TZOFFSETFROM:-0800
TZOFFSETTO:-0700
TZNAME:PDT
DTSTART:20220313T100000
END:DAYLIGHT
BEGIN:STANDARD
TZOFFSETFROM:-0700
TZOFFSETTO:-0800
TZNAME:PST
DTSTART:20221106T090000
END:STANDARD
BEGIN:DAYLIGHT
TZOFFSETFROM:-0800
TZOFFSETTO:-0700
TZNAME:PDT
DTSTART:20230312T100000
END:DAYLIGHT
BEGIN:STANDARD
TZOFFSETFROM:-0700
TZOFFSETTO:-0800
TZNAME:PST
DTSTART:20231105T090000
END:STANDARD
BEGIN:DAYLIGHT
TZOFFSETFROM:-0800
TZOFFSETTO:-0700
TZNAME:PDT
DTSTART:20240310T100000
END:DAYLIGHT
BEGIN:STANDARD
TZOFFSETFROM:-0700
TZOFFSETTO:-0800
TZNAME:PST
DTSTART:20241103T090000
END:STANDARD
END:VTIMEZONE
BEGIN:VEVENT
DTSTART;TZID=America/Los_Angeles:20230702T140000
DTEND;TZID=America/Los_Angeles:20230702T150000
DTSTAMP:20260425T142625
CREATED:20230604T234813Z
LAST-MODIFIED:20230611T201940Z
UID:10001900-1688306400-1688310000@prisonfamiliesalliance.org
SUMMARY:(Check Your Time Zone) Youth Support Group
DESCRIPTION:Time:  2pm PT\, 3pm MT\, 4pm CT\, 5pm ET \nA safe\, non-judgmental\, and supportive meeting for youth to talk kid-to-kid.  Meeting is facilitated by adults\, and youths have fun and are provided tools to help them deal with having an incarcerated family member.  Parent or legal guardian need to fill out registration form: Click Here to Register \nMeeting will be on Zoom and youth will be moved into separate age-appropriate rooms during the meeting
URL:https://prisonfamiliesalliance.org/event/check-your-time-zone-youth-support-group-2/
LOCATION:Zoom
CATEGORIES:Support Group Meeting
END:VEVENT
BEGIN:VEVENT
DTSTART;TZID=America/Los_Angeles:20230705T163000
DTEND;TZID=America/Los_Angeles:20230705T173000
DTSTAMP:20260425T142625
CREATED:20230605T001455Z
LAST-MODIFIED:20230605T001455Z
UID:10001902-1688574600-1688578200@prisonfamiliesalliance.org
SUMMARY:(Check Your Time Zone) Support for Families of Loved Ones with Sex Offenses
DESCRIPTION:Time: 4:30pm PT\, 5:30pm MT\, 6:30pm CT\, 7:30pm ET​ \nThe facilitators of this meeting have loved ones who have been sentenced as sex offenders and know what it’s like trying to deal with the trauma of this specific crime. Who do you tell? How do you tell others? What is it? This is a safe space to discuss our stories while maintaining dignity and respect for our loved ones and ourselves. \nClick Zoom Link:  ZOOM LINK \nTime: 4:30pm PT\, 5:30pm MT\, 6:30pm CT\, 7:30pm ET​
URL:https://prisonfamiliesalliance.org/event/check-your-time-zone-support-for-families-of-loved-ones-with-sex-offenses-5/
LOCATION:Zoom
CATEGORIES:Support Group Meeting
END:VEVENT
BEGIN:VEVENT
DTSTART;TZID=America/Los_Angeles:20230706T163000
DTEND;TZID=America/Los_Angeles:20230706T173000
DTSTAMP:20260425T142625
CREATED:20230609T012619Z
LAST-MODIFIED:20230609T012752Z
UID:10001619-1688661000-1688664600@prisonfamiliesalliance.org
SUMMARY:(Check Your Time Zone) Support for Families of Loved Ones Incarcerated With Mental Illness
DESCRIPTION:4:30pm PT\, 5:30pm MT\, 6:30pm CT\, 7:30pm ET \nThis group offers peer support for those who have loved ones with incarcerated with a mental disability. \nClick Zoom Link:  ZOOM LINK \n4:30pm PT\, 5:30pm MT\, 6:30pm CT\, 7:30pm ET \n 
URL:https://prisonfamiliesalliance.org/event/check-your-time-zone-support-for-families-of-loved-ones-incarcerated-with-mental-illness-4/
LOCATION:Zoom
CATEGORIES:Support Group Meeting
END:VEVENT
BEGIN:VEVENT
DTSTART;TZID=America/Los_Angeles:20230708T090000
DTEND;TZID=America/Los_Angeles:20230708T100000
DTSTAMP:20260425T142625
CREATED:20230605T001907Z
LAST-MODIFIED:20230611T202918Z
UID:10001903-1688806800-1688810400@prisonfamiliesalliance.org
SUMMARY:(Check Your Time Zone) Lioness Moms Coffee & Chat Time
DESCRIPTION:9:00am PT\, 10:00am MT\, 11:00am CT\, Noon ET \nLioness Moms Coffee & Chat Time is every second Saturday. Our mission is to educate\, empower\, encourage and support other mothers and families with freedom challenged loved ones. Come on out and connect with us\, we are stronger together. \nEmail lionessmomschat@gmail.com for the Zoom link. \n9:00am PT\, 10:00am MT\, 11:00am CT\, Noon ET \n 
URL:https://prisonfamiliesalliance.org/event/check-your-time-zone-lioness-moms-coffee-chat-time-4/
LOCATION:Zoom
CATEGORIES:Support Group Meeting
END:VEVENT
BEGIN:VEVENT
DTSTART;TZID=America/Los_Angeles:20230712T170000
DTEND;TZID=America/Los_Angeles:20230712T180000
DTSTAMP:20260425T142625
CREATED:20230605T004037Z
LAST-MODIFIED:20230611T203022Z
UID:10001904-1689181200-1689184800@prisonfamiliesalliance.org
SUMMARY:(Check Your Time Zone) Family Re-Entry
DESCRIPTION:Time: 5:00pm PT\, 6:00pm MT\, 7:00pm CT\, 8:00pm ET​ \nThe process of integrating into the community after incarceration can be difficult\, as the world outside prison can be unfamiliar.  Relying on family and friends during this transition can make a positive difference. This group meeting is a place to share support\, resources and tips in helping the whole family before\, during\, and after the reentry transition. \nClick Zoom Link:  ZOOM LINK \nTime: 5:00pm PT\, 6:00pm MT\, 7:00pm CT\, 8:00pm ET​ \n 
URL:https://prisonfamiliesalliance.org/event/check-your-time-zone-family-re-entry-4/
LOCATION:Zoom
CATEGORIES:Support Group Meeting
END:VEVENT
BEGIN:VEVENT
DTSTART;TZID=America/Los_Angeles:20230713T163000
DTEND;TZID=America/Los_Angeles:20230713T173000
DTSTAMP:20260425T142625
CREATED:20230610T181049Z
LAST-MODIFIED:20230610T181049Z
UID:10001620-1689265800-1689269400@prisonfamiliesalliance.org
SUMMARY:(Check your Time Zone) Support for Spouses and Partners
DESCRIPTION:4:30pm PT\, 5:30pm MT\, 6:30pm CT\, 7:30pm ET \nSpouses and Partners may face many challenges including emotional strain\, academic/employment difficulties and economic hardship when their loved one is in the prison system. Being separated from a loved one in prison can create a series of stressful situations such as arrest\, conviction\, imprisonment\, parole/probation and reunification. This special group offers a support system to help overcome these challenges and understands the unique family dynamics. \nClick Zoom Link:  ZOOM LINK \n 
URL:https://prisonfamiliesalliance.org/event/check-your-time-zone-support-for-spouses-and-partners-5/
LOCATION:Zoom
CATEGORIES:Support Group Meeting
END:VEVENT
BEGIN:VEVENT
DTSTART;TZID=America/Los_Angeles:20230715T090000
DTEND;TZID=America/Los_Angeles:20230715T100000
DTSTAMP:20260425T142625
CREATED:20230610T182334Z
LAST-MODIFIED:20230611T202602Z
UID:10001622-1689411600-1689415200@prisonfamiliesalliance.org
SUMMARY:(Check Your Time Zone) Families of Loved Ones with Long Sentences Coffee & Chat Time
DESCRIPTION:Support Group for Families who have Loved Ones incarcerated with long sentences and life sentences. Join this compassionate\, informative and supportive meeting with those who understand and share information\, and personal experiences. Having a loved one incarcerated for a long time or with a life sentences has its own set of circumstances that only those who are going through it can understand.  Join this special meeting.  You are not alone. \nClick Zoom Link:  ZOOM LINK \n9:00am PT\, 10:00apm MT\, 11:00am CT\, Noon ET \n 
URL:https://prisonfamiliesalliance.org/event/check-your-time-zone-families-of-loved-ones-with-long-sentences-coffee-chat-time-4/
LOCATION:Zoom
CATEGORIES:Support Group Meeting
END:VEVENT
BEGIN:VEVENT
DTSTART;TZID=America/Los_Angeles:20230718T160000
DTEND;TZID=America/Los_Angeles:20230718T170000
DTSTAMP:20260425T142625
CREATED:20230610T184238Z
LAST-MODIFIED:20230610T184238Z
UID:10001624-1689696000-1689699600@prisonfamiliesalliance.org
SUMMARY:(Check Your Time Zone) General Support Meeting
DESCRIPTION:4:00pm PT\, 5:00pm MT\, 6:00pm CT\, 7:00pm ET \nCompassionate\, informative\, and supportive meetings for anyone who has or had a loved one in the prison system. This can be a stressful and challenging time. Join people who understand and share information\, their perspectives\, and personal experiences. \nClick Zoom Link:  ZOOM LINK \n4:00pm PT\, 5:00pm MT\, 6:00pm CT\, 7:00pm ET \n 
URL:https://prisonfamiliesalliance.org/event/check-your-time-zone-general-support-meeting-8/
LOCATION:Zoom
CATEGORIES:Support Group Meeting
END:VEVENT
BEGIN:VEVENT
DTSTART;TZID=America/Los_Angeles:20230719T163000
DTEND;TZID=America/Los_Angeles:20230719T163000
DTSTAMP:20260425T142625
CREATED:20230609T011239Z
LAST-MODIFIED:20230609T012021Z
UID:10001905-1689784200-1689784200@prisonfamiliesalliance.org
SUMMARY:(Check Your Time Zone) Support for Families of Loved Ones with Sex Offenses
DESCRIPTION:Time: 4:30pm PT\, 5:30pm MT\, 6:30pm CT\, 7:30pm ET​ \nThe facilitators of this meeting have loved ones who have been sentenced as sex offenders and know what it’s like trying to deal with the trauma of this specific crime. Who do you tell? How do you tell others? What is it? This is a safe space to discuss our stories while maintaining dignity and respect for our loved ones and ourselves. \nClick Zoom Link:  ZOOM LINK \nTime: 4:30pm PT\, 5:30pm MT\, 6:30pm CT\, 7:30pm ET​ \n 
URL:https://prisonfamiliesalliance.org/event/check-your-time-zone-support-for-families-of-loved-ones-with-sex-offenses-6/
LOCATION:Zoom
CATEGORIES:Support Group Meeting
END:VEVENT
BEGIN:VEVENT
DTSTART;TZID=America/Los_Angeles:20230722T123000
DTEND;TZID=America/Los_Angeles:20230722T133000
DTSTAMP:20260425T142625
CREATED:20230609T011747Z
LAST-MODIFIED:20230611T203301Z
UID:10001617-1690029000-1690032600@prisonfamiliesalliance.org
SUMMARY:(Check Your Time Zone) Michigan Citizens for Justice (those affected by a sex offense conviction)
DESCRIPTION:Time: 12:30pm PT\, 1:30pm MT\, 2:30pm CT\, 3:30pm ET​ \nThis meeting is open to family members and those with a sex offense conviction. This is a safe place to discuss our stories\, while maintaining dignity and respect for our loved ones and ourselves. It is facilitated by people with lived experience. \nEmail wash@micitizensforjustice.com for the Zoom link. \nTime: 12:30pm PT\, 1:30pm MT\, 2:30pm CT\, \n 
URL:https://prisonfamiliesalliance.org/event/check-your-time-zone-michigan-citizens-for-justice-those-affected-by-a-sex-offense-conviction330pm-et/
LOCATION:Zoom
CATEGORIES:Support Group Meeting
END:VEVENT
BEGIN:VEVENT
DTSTART;TZID=America/Los_Angeles:20230724T180000
DTEND;TZID=America/Los_Angeles:20230724T190000
DTSTAMP:20260425T142625
CREATED:20230620T015318Z
LAST-MODIFIED:20230620T015318Z
UID:10001913-1690221600-1690225200@prisonfamiliesalliance.org
SUMMARY:(Check Your Time Zone) Support Meeting for Families who Have Loved Ones Incarcerated in Alaska and The West
DESCRIPTION:6:00pm PT \nCompassionate\, informative\, and supportive meetings for anyone who has or had a loved one in the prison system. This can be a stressful and challenging time. Join people who understand and share information\, their perspectives\, and personal experiences. This group focuses on loved ones incarcerated on the West Coast and Alaska.  If you have a loved one in another state and would like to create a group email connect@PrisonFamiliesAlliance.org \nClick Zoom Link:  ZOOM LINK \n6:00pm PT
URL:https://prisonfamiliesalliance.org/event/check-your-time-zone-support-meeting-for-families-who-have-loved-ones-incarcerated-in-alaska-and-the-west/
LOCATION:Zoom
CATEGORIES:Support Group Meeting
END:VEVENT
END:VCALENDAR