BEGIN:VCALENDAR
VERSION:2.0
PRODID:-//Prison Families Alliance - ECPv6.15.20//NONSGML v1.0//EN
CALSCALE:GREGORIAN
METHOD:PUBLISH
X-ORIGINAL-URL:https://prisonfamiliesalliance.org
X-WR-CALDESC:Events for Prison Families Alliance
REFRESH-INTERVAL;VALUE=DURATION:PT1H
X-Robots-Tag:noindex
X-PUBLISHED-TTL:PT1H
BEGIN:VTIMEZONE
TZID:America/Los_Angeles
BEGIN:DAYLIGHT
TZOFFSETFROM:-0800
TZOFFSETTO:-0700
TZNAME:PDT
DTSTART:20220313T100000
END:DAYLIGHT
BEGIN:STANDARD
TZOFFSETFROM:-0700
TZOFFSETTO:-0800
TZNAME:PST
DTSTART:20221106T090000
END:STANDARD
BEGIN:DAYLIGHT
TZOFFSETFROM:-0800
TZOFFSETTO:-0700
TZNAME:PDT
DTSTART:20230312T100000
END:DAYLIGHT
BEGIN:STANDARD
TZOFFSETFROM:-0700
TZOFFSETTO:-0800
TZNAME:PST
DTSTART:20231105T090000
END:STANDARD
BEGIN:DAYLIGHT
TZOFFSETFROM:-0800
TZOFFSETTO:-0700
TZNAME:PDT
DTSTART:20240310T100000
END:DAYLIGHT
BEGIN:STANDARD
TZOFFSETFROM:-0700
TZOFFSETTO:-0800
TZNAME:PST
DTSTART:20241103T090000
END:STANDARD
END:VTIMEZONE
BEGIN:VEVENT
DTSTART;TZID=America/Los_Angeles:20231003T160000
DTEND;TZID=America/Los_Angeles:20231003T170000
DTSTAMP:20260425T093625
CREATED:20230926T050649Z
LAST-MODIFIED:20230926T050649Z
UID:10001654-1696348800-1696352400@prisonfamiliesalliance.org
SUMMARY:(Check Your Time Zone) General Support Meeting
DESCRIPTION:4:00pm PT\, 5:00pm MT\, 6:00pm CT\, 7:00pm ET \nCompassionate\, informative\, and supportive meetings for anyone who has or had a loved one in the prison system. This can be a stressful and challenging time. Join people who understand and share information\, their perspectives\, and personal experiences. \nClick Zoom Link:  ZOOM LINK \n4:00pm PT\, 5:00pm MT\, 6:00pm CT\, 7:00pm ET
URL:https://prisonfamiliesalliance.org/event/check-your-time-zone-general-support-meeting-11/
LOCATION:Zoom
CATEGORIES:Support Group Meeting
END:VEVENT
BEGIN:VEVENT
DTSTART;TZID=America/Los_Angeles:20231004T163000
DTEND;TZID=America/Los_Angeles:20231004T173000
DTSTAMP:20260425T093625
CREATED:20230926T050422Z
LAST-MODIFIED:20230926T050435Z
UID:10001650-1696437000-1696440600@prisonfamiliesalliance.org
SUMMARY:(Check Your Time Zone) Support for Families of Loved Ones with Sex Offenses
DESCRIPTION:Time: 4:30pm PT\, 5:30pm MT\, 6:30pm CT\, 7:30pm ET​ \nThe facilitators of this meeting have loved ones who have been sentenced as sex offenders and know what it’s like trying to deal with the trauma of this specific crime. Who do you tell? How do you tell others? What is it? This is a safe space to discuss our stories while maintaining dignity and respect for our loved ones and ourselves. \nClick Zoom Link:  ZOOM LINK \nTime: 4:30pm PT\, 5:30pm MT\, 6:30pm CT\, 7:30pm ET​
URL:https://prisonfamiliesalliance.org/event/check-your-time-zone-support-for-families-of-loved-ones-with-sex-offenses-11/
LOCATION:Zoom
CATEGORIES:Support Group Meeting
END:VEVENT
BEGIN:VEVENT
DTSTART;TZID=America/Los_Angeles:20231005T163000
DTEND;TZID=America/Los_Angeles:20231005T173000
DTSTAMP:20260425T093625
CREATED:20230926T051326Z
LAST-MODIFIED:20231002T053716Z
UID:10001663-1696523400-1696527000@prisonfamiliesalliance.org
SUMMARY:(Check Your Time Zone) Support for Families of Loved Ones Incarcerated With Mental Illness
DESCRIPTION:This group offers peer support for those who have loved ones with incarcerated with a mental disability. \nClick Zoom Link:  ZOOM LINK \n4:30pm PT\, 5:30pm MT\, 6:30pm CT\, 7:30pm ET
URL:https://prisonfamiliesalliance.org/event/check-your-time-zone-support-for-families-of-loved-ones-incarcerated-with-mental-illness-7/
LOCATION:Zoom
CATEGORIES:Support Group Meeting
END:VEVENT
BEGIN:VEVENT
DTSTART;TZID=America/Los_Angeles:20231008T140000
DTEND;TZID=America/Los_Angeles:20231008T150000
DTSTAMP:20260425T093625
CREATED:20230926T051437Z
LAST-MODIFIED:20230926T051437Z
UID:10001664-1696773600-1696777200@prisonfamiliesalliance.org
SUMMARY:(Check Your Time Zone) Youth Support Group
DESCRIPTION:Time:  2pm PT\, 3pm MT\, 4pm CT\, 5pm ET \nA safe\, non-judgmental\, and supportive meeting for youth to talk kid-to-kid.  Meeting is facilitated by adults\, and youths have fun and are provided tools to help them deal with having an incarcerated family member.  Parent or legal guardian need to fill out registration form: Click Here to Register \nMeeting will be on Zoom and kids will be moved into separate age-appropriate rooms during the meeting
URL:https://prisonfamiliesalliance.org/event/check-your-time-zone-youth-support-group-5/
LOCATION:Zoom
CATEGORIES:Support Group Meeting
END:VEVENT
BEGIN:VEVENT
DTSTART;TZID=America/Los_Angeles:20231011T170000
DTEND;TZID=America/Los_Angeles:20231011T180000
DTSTAMP:20260425T093625
CREATED:20230926T051204Z
LAST-MODIFIED:20230926T051204Z
UID:10001662-1697043600-1697047200@prisonfamiliesalliance.org
SUMMARY:(Check Your Time Zone) Family Re-Entry
DESCRIPTION:Time: 5:00pm PT\, 6:00pm MT\, 7:00pm CT\, 8:00pm ET​ \nThe process of integrating into the community after incarceration can be difficult\, as the world outside prison can be unfamiliar.  Relying on family and friends during this transition can make a positive difference. This group meeting is a place to share support\, resources and tips in helping the whole family before\, during\, and after the reentry transition. \nClick Zoom Link:  ZOOM LINK \nTime: 5:00pm PT\, 6:00pm MT\, 7:00pm CT\, 8:00pm ET​ \n 
URL:https://prisonfamiliesalliance.org/event/check-your-time-zone-family-re-entry-7/
LOCATION:Zoom
CATEGORIES:Support Group Meeting
END:VEVENT
BEGIN:VEVENT
DTSTART;TZID=America/Los_Angeles:20231012T163000
DTEND;TZID=America/Los_Angeles:20231012T173000
DTSTAMP:20260425T093625
CREATED:20230926T051035Z
LAST-MODIFIED:20230926T051035Z
UID:10001660-1697128200-1697131800@prisonfamiliesalliance.org
SUMMARY:(Check your Time Zone) Support for Spouses and Partners
DESCRIPTION:4:30pm PT\, 5:30pm MT\, 6:30pm CT\, 7:30pm ET \nSpouses and Partners may face many challenges including emotional strain\, academic/employment difficulties and economic hardship when their loved one is in the prison system. Being separated from a loved one in prison can create a series of stressful situations such as arrest\, conviction\, imprisonment\, parole/probation and reunification. This special group offers a support system to help overcome these challenges and understands the unique family dynamics. \nClick Zoom Link:  ZOOM LINK
URL:https://prisonfamiliesalliance.org/event/check-your-time-zone-support-for-spouses-and-partners-9/
LOCATION:Zoom
CATEGORIES:Support Group Meeting
END:VEVENT
BEGIN:VEVENT
DTSTART;TZID=America/Los_Angeles:20231013T173000
DTEND;TZID=America/Los_Angeles:20231013T183000
DTSTAMP:20260425T093625
CREATED:20230926T051945Z
LAST-MODIFIED:20230926T051945Z
UID:10001942-1697218200-1697221800@prisonfamiliesalliance.org
SUMMARY:PFA CARES Meeting in Person Las Vegas\, NV
DESCRIPTION:​PFA CARES​\n\n\n\n(Community\, Advocacy\, Resources\, Education\, Support) \nAll adults and youth impacted by the criminal justice system are invited to share a meal followed by separated programs for adults and youth ages 5-17. All youth must be accompanied by an adult. \nFor more information click link.
URL:https://prisonfamiliesalliance.org/event/pfa-cares-meeting-in-person-las-vegas-nv-11/
LOCATION:Foundation for Recovery\, 4800 Alpine Place\, Las Vegas\, NV\, 89018\, United States
CATEGORIES:Support Group Meeting
END:VEVENT
BEGIN:VEVENT
DTSTART;TZID=America/Los_Angeles:20231014T090000
DTEND;TZID=America/Los_Angeles:20231014T100000
DTSTAMP:20260425T093625
CREATED:20230926T051721Z
LAST-MODIFIED:20230926T051721Z
UID:10001940-1697274000-1697277600@prisonfamiliesalliance.org
SUMMARY:(Check Your Time Zone) Lioness Moms Coffee & Chat Time
DESCRIPTION:9:00am PT\, 10:00am MT\, 11:00am CT\, Noon ET \nLioness Moms Coffee & Chat Time is every second Saturday. Our mission is to educate\, empower\, encourage and support other mothers and families with freedom challenged loved ones. Come on out and connect with us\, we are stronger together. \nEmail lionessmomschat@gmail.com for the Zoom link. \n9:00am PT\, 10:00am MT\, 11:00am CT\, Noon ET
URL:https://prisonfamiliesalliance.org/event/check-your-time-zone-lioness-moms-coffee-chat-time-7/
LOCATION:Zoom
CATEGORIES:Support Group Meeting
END:VEVENT
BEGIN:VEVENT
DTSTART;TZID=America/Los_Angeles:20231017T160000
DTEND;TZID=America/Los_Angeles:20231017T170000
DTSTAMP:20260425T093625
CREATED:20230926T050742Z
LAST-MODIFIED:20230926T050742Z
UID:10001656-1697558400-1697562000@prisonfamiliesalliance.org
SUMMARY:(Check Your Time Zone) General Support Meeting
DESCRIPTION:4:00pm PT\, 5:00pm MT\, 6:00pm CT\, 7:00pm ET \nCompassionate\, informative\, and supportive meetings for anyone who has or had a loved one in the prison system. This can be a stressful and challenging time. Join people who understand and share information\, their perspectives\, and personal experiences. \nClick Zoom Link:  ZOOM LINK \n4:00pm PT\, 5:00pm MT\, 6:00pm CT\, 7:00pm ET
URL:https://prisonfamiliesalliance.org/event/check-your-time-zone-general-support-meeting-12/
LOCATION:Zoom
CATEGORIES:Support Group Meeting
END:VEVENT
BEGIN:VEVENT
DTSTART;TZID=America/Los_Angeles:20231018T163000
DTEND;TZID=America/Los_Angeles:20231018T173000
DTSTAMP:20260425T093625
CREATED:20230926T050523Z
LAST-MODIFIED:20230926T050523Z
UID:10001652-1697646600-1697650200@prisonfamiliesalliance.org
SUMMARY:(Check Your Time Zone) Support for Families of Loved Ones with Sex Offenses
DESCRIPTION:Time: 4:30pm PT\, 5:30pm MT\, 6:30pm CT\, 7:30pm ET​ \nThe facilitators of this meeting have loved ones who have been sentenced as sex offenders and know what it’s like trying to deal with the trauma of this specific crime. Who do you tell? How do you tell others? What is it? This is a safe space to discuss our stories while maintaining dignity and respect for our loved ones and ourselves. \nClick Zoom Link:  ZOOM LINK \nTime: 4:30pm PT\, 5:30pm MT\, 6:30pm CT\, 7:30pm ET​
URL:https://prisonfamiliesalliance.org/event/check-your-time-zone-support-for-families-of-loved-ones-with-sex-offenses-12/
LOCATION:Zoom
CATEGORIES:Support Group Meeting
END:VEVENT
BEGIN:VEVENT
DTSTART;TZID=America/Los_Angeles:20231021T090000
DTEND;TZID=America/Los_Angeles:20231021T100000
DTSTAMP:20260425T093625
CREATED:20230926T051605Z
LAST-MODIFIED:20231023T032837Z
UID:10001665-1697878800-1697882400@prisonfamiliesalliance.org
SUMMARY:(Check Your Time Zone) Families of Loved Ones with Long Sentences Coffee & Chat Time
DESCRIPTION:Support Group for Families who have Loved Ones incarcerated with long sentences and life sentences. Join this compassionate\, informative and supportive meeting with those who understand and share information\, and personal experiences. Having a loved one incarcerated for a long time or with a life sentences has its own set of circumstances that only those who are going through it can understand.  Join this special meeting.  You are not alone. \nClick Zoom Link:  ZOOM LINK \n9:00am PT\, 10:00apm MT\, 11:00am CT\, Noon ET
URL:https://prisonfamiliesalliance.org/event/check-your-time-zone-families-of-loved-ones-with-long-sentences-coffee-chat-time-7/
LOCATION:Zoom
CATEGORIES:Support Group Meeting
END:VEVENT
BEGIN:VEVENT
DTSTART;TZID=America/Los_Angeles:20231025T170000
DTEND;TZID=America/Los_Angeles:20231025T180000
DTSTAMP:20260425T093625
CREATED:20230926T050910Z
LAST-MODIFIED:20230926T050910Z
UID:10001658-1698253200-1698256800@prisonfamiliesalliance.org
SUMMARY:(Check Your Time Zone) Support for Siblings
DESCRIPTION:5:00pm PT | 6:00pm MT | 7:00pm CT | 8:00pm ET \nThis group is support for those who have or had a brother or sister in the carceral system. Most people don’t think of the impact to siblings.   Join people who understand\, support each other and share information. \nClick Zoom Link:  ZOOM LINK \n5:00pm PT | 6:00pm MT | 7:00pm CT | 8:00pm ET
URL:https://prisonfamiliesalliance.org/event/check-your-time-zone-support-for-siblings-2/
LOCATION:Zoom
CATEGORIES:Support Group Meeting
END:VEVENT
BEGIN:VEVENT
DTSTART;TZID=America/Los_Angeles:20231026T163000
DTEND;TZID=America/Los_Angeles:20231026T173000
DTSTAMP:20260425T093625
CREATED:20231002T053938Z
LAST-MODIFIED:20231026T232709Z
UID:10001944-1698337800-1698341400@prisonfamiliesalliance.org
SUMMARY:(Check Your Time Zone) Support for Families of Loved Ones Incarcerated With Substance Use Disorder
DESCRIPTION:This group offers peer support for those who have loved ones with incarcerated with substance use disorder. \n4:30pm PT\, 5:30pm MT\, 6:30pm CT\, 7:30pm ET \nZoom Link
URL:https://prisonfamiliesalliance.org/event/check-your-time-zone-support-for-families-of-loved-ones-incarcerated-with-substance-use-disorder/
LOCATION:Zoom
CATEGORIES:Support Group Meeting
END:VEVENT
END:VCALENDAR