BEGIN:VCALENDAR
VERSION:2.0
PRODID:-//Prison Families Alliance - ECPv6.15.20//NONSGML v1.0//EN
CALSCALE:GREGORIAN
METHOD:PUBLISH
X-ORIGINAL-URL:https://prisonfamiliesalliance.org
X-WR-CALDESC:Events for Prison Families Alliance
REFRESH-INTERVAL;VALUE=DURATION:PT1H
X-Robots-Tag:noindex
X-PUBLISHED-TTL:PT1H
BEGIN:VTIMEZONE
TZID:America/Los_Angeles
BEGIN:DAYLIGHT
TZOFFSETFROM:-0800
TZOFFSETTO:-0700
TZNAME:PDT
DTSTART:20230312T100000
END:DAYLIGHT
BEGIN:STANDARD
TZOFFSETFROM:-0700
TZOFFSETTO:-0800
TZNAME:PST
DTSTART:20231105T090000
END:STANDARD
BEGIN:DAYLIGHT
TZOFFSETFROM:-0800
TZOFFSETTO:-0700
TZNAME:PDT
DTSTART:20240310T100000
END:DAYLIGHT
BEGIN:STANDARD
TZOFFSETFROM:-0700
TZOFFSETTO:-0800
TZNAME:PST
DTSTART:20241103T090000
END:STANDARD
BEGIN:DAYLIGHT
TZOFFSETFROM:-0800
TZOFFSETTO:-0700
TZNAME:PDT
DTSTART:20250309T100000
END:DAYLIGHT
BEGIN:STANDARD
TZOFFSETFROM:-0700
TZOFFSETTO:-0800
TZNAME:PST
DTSTART:20251102T090000
END:STANDARD
END:VTIMEZONE
BEGIN:VEVENT
DTSTART;TZID=America/Los_Angeles:20240603T183000
DTEND;TZID=America/Los_Angeles:20240603T193000
DTSTAMP:20260424T204615
CREATED:20240526T230209Z
LAST-MODIFIED:20240526T230209Z
UID:10002063-1717439400-1717443000@prisonfamiliesalliance.org
SUMMARY:(In Person) PFA Yavapai County Detention Center Family and Friends Support Group
DESCRIPTION:Join the Yavapai County Detention Center Family and Friends Support Group\, specially designed for those with incarcerated loved ones. The Yavapai County Sheriff in association with Prison Families Alliance (PFA)\, offers a safe and compassionate environment to share your experiences and find solace among others facing similar challenges. These meetings provide a space to discuss the emotional\, social\, and logistical difficulties of having a loved one in jail\, fostering a sense of community and mutual support. \nMeetings take place the First and Third Monday of each month: ​Yavapai County Detention Center Family and Friends Support Group​\, 2830 N Commonwealth Dr.\, Camp Verde\, AZ (Visitation Trailer)– 6:30pm PT
URL:https://prisonfamiliesalliance.org/event/in-person-pfa-yavapai-county-detention-center-family-and-friends-support-group/
LOCATION:Yavapai County Detention Center\, 2830 N CommonWealth Dr\, Camp Verde\, United States
CATEGORIES:Support Group Meeting
END:VEVENT
BEGIN:VEVENT
DTSTART;TZID=America/Los_Angeles:20240604T160000
DTEND;TZID=America/Los_Angeles:20240604T170000
DTSTAMP:20260424T204615
CREATED:20240526T201358Z
LAST-MODIFIED:20240526T201358Z
UID:10002046-1717516800-1717520400@prisonfamiliesalliance.org
SUMMARY:(Check Your Time Zone) General Support Meeting
DESCRIPTION:The PFA General Support meetings provide a compassionate and supportive space for individuals who have a loved one in the prison system. Recognizing the inherent challenges and stress that come with this experience\, we offer a platform for sharing information\, perspectives\, and personal experiences. Join us to connect with others who understand and navigate this journey with empathy and insight. Nobody needs to go through their journey alone; support is here. \nClick Zoom Link:  ZOOM LINK \n4:00pm PT\, 5:00pm MT\, 6:00pm CT\, 7:00pm ET
URL:https://prisonfamiliesalliance.org/event/check-your-time-zone-general-support-meeting-24/
LOCATION:Zoom
CATEGORIES:Support Group Meeting
END:VEVENT
BEGIN:VEVENT
DTSTART;TZID=America/Los_Angeles:20240605T163000
DTEND;TZID=America/Los_Angeles:20240605T173000
DTSTAMP:20260424T204615
CREATED:20240526T202528Z
LAST-MODIFIED:20240526T221559Z
UID:10002049-1717605000-1717608600@prisonfamiliesalliance.org
SUMMARY:(Check Your Time Zone) Support for Families of Loved Ones with Sex Offenses
DESCRIPTION:The PFA Support for Families of Loved Ones with Sex Offenses provides a safe and compassionate environment uniquely designed for those whose loved ones have been convicted of sex offenses. Recognizing the profound stigma this brings\, the group helps families navigate the associated trauma and challenges. The facilitators\, who deeply understand these complexities\, address the many questions and concerns that arise from this experience. In this space\, members share their stories with dignity and respect\, cultivating a community grounded in empathy and support. \nClick Zoom Link:  ZOOM LINK \nTime: 4:30pm PT\, 5:30pm MT\, 6:30pm CT\, 7:30pm ET​
URL:https://prisonfamiliesalliance.org/event/check-your-time-zone-support-for-families-of-loved-ones-with-sex-offenses-26/
LOCATION:Zoom
CATEGORIES:Support Group Meeting
END:VEVENT
BEGIN:VEVENT
DTSTART;TZID=America/Los_Angeles:20240606T163000
DTEND;TZID=America/Los_Angeles:20240606T173000
DTSTAMP:20260424T204615
CREATED:20240526T202805Z
LAST-MODIFIED:20240526T202805Z
UID:10002051-1717691400-1717695000@prisonfamiliesalliance.org
SUMMARY:(Check Your Time Zone) Support for Families of Loved Ones Incarcerated With Mental Illness
DESCRIPTION:The PFA Support for Families with Incarcerated Loved Ones with Mental Illness provides a vital platform for individuals who have loved ones with a mental disability and are navigating the challenges of incarceration. Here\, peer support is offered in a compassionate and understanding environment\, allowing participants to share their experiences\, concerns\, and insights. Whether you’re seeking advice\, understanding\, or simply a listening ear\, this group offers solidarity and empathy as we navigate the complexities of supporting our incarcerated loved ones with mental disabilities together. \nClick Zoom Link:  ZOOM LINK \n4:30pm PT\, 5:30pm MT\, 6:30pm CT\, 7:30pm ET
URL:https://prisonfamiliesalliance.org/event/check-your-time-zone-support-for-families-of-loved-ones-incarcerated-with-mental-illness-12/
LOCATION:Zoom
CATEGORIES:Support Group Meeting
END:VEVENT
BEGIN:VEVENT
DTSTART;TZID=America/Los_Angeles:20240608T090000
DTEND;TZID=America/Los_Angeles:20240608T100000
DTSTAMP:20260424T204615
CREATED:20240526T203039Z
LAST-MODIFIED:20240526T203039Z
UID:10002052-1717837200-1717840800@prisonfamiliesalliance.org
SUMMARY:(Check Your Time Zone) PFA Lioness Moms CHAT
DESCRIPTION:Join us for PFA Lioness Moms CHAT\, a support meeting tailored for mothers with incarcerated loved ones\, although others are welcome to join. Our mission is to educate\, empower\, encourage\, and support mothers and families facing challenges to their loved one’s freedom. Come connect with us – together\, we are stronger. \nClick Zoom Link:  ZOOM LINK \n9:00am PT\, 10:00am MT\, 11:00am CT\, Noon ET
URL:https://prisonfamiliesalliance.org/event/check-your-time-zone-pfa-lioness-moms-chat-5/
LOCATION:Zoom
CATEGORIES:Support Group Meeting
END:VEVENT
BEGIN:VEVENT
DTSTART;TZID=America/Los_Angeles:20240612T170000
DTEND;TZID=America/Los_Angeles:20240612T180000
DTSTAMP:20260424T204615
CREATED:20240526T203223Z
LAST-MODIFIED:20240526T203223Z
UID:10002053-1718211600-1718215200@prisonfamiliesalliance.org
SUMMARY:(Check Your Time Zone) Family Re-Entry
DESCRIPTION:The PFA Family Re-Entry support meeting offers a crucial space for individuals navigating the challenging process of having a loved one reintegrate into the family and community after incarceration. Recognizing the unfamiliarity of the world outside prison\, family support during this transition can make a positive difference to their loved one and help reduce recidivism. Here\, we come together to share support\, resources\, and practical tips to assist the family before\, during\, and after the reentry transition. Join us as we collaborate to navigate this journey with understanding and resilience. \nClick Zoom Link:  ZOOM LINK \nTime: 5:00pm PT\, 6:00pm MT\, 7:00pm CT\, 8:00pm ET​
URL:https://prisonfamiliesalliance.org/event/check-your-time-zone-family-re-entry-15/
LOCATION:Zoom
CATEGORIES:Support Group Meeting
END:VEVENT
BEGIN:VEVENT
DTSTART;TZID=America/Los_Angeles:20240613T163000
DTEND;TZID=America/Los_Angeles:20240613T173000
DTSTAMP:20260424T204615
CREATED:20240526T203445Z
LAST-MODIFIED:20240526T203445Z
UID:10002054-1718296200-1718299800@prisonfamiliesalliance.org
SUMMARY:(Check your Time Zone) Support for Spouses and Partners
DESCRIPTION:The PFA Support for Spouses and Partners meeting caters specifically to spouses and partners who encounter numerous challenges\, from emotional strain to academic and employment hurdles\, and economic hardship while their loved one is in the carceral system. This specialized group provides a robust support system to navigate these challenges\, offering understanding of the unique family dynamics involved. Join us as we come together to overcome obstacles and provide mutual support in the journey ahead. \nClick Zoom Link:  ZOOM LINK \n4:30pm PT\, 5:30pm MT\, 6:30pm CT\, 7:30pm ET \n 
URL:https://prisonfamiliesalliance.org/event/check-your-time-zone-support-for-spouses-and-partners-19/
LOCATION:Zoom
CATEGORIES:Support Group Meeting
END:VEVENT
BEGIN:VEVENT
DTSTART;TZID=America/Los_Angeles:20240615T070000
DTEND;TZID=America/Los_Angeles:20240615T200000
DTSTAMP:20260424T204615
CREATED:20240526T231253Z
LAST-MODIFIED:20240527T021619Z
UID:10002065-1718434800-1718481600@prisonfamiliesalliance.org
SUMMARY:(In Person-10am ET) General Support Meeting – Westminster\, Maryland
DESCRIPTION:Join us for in-person PFA General Support meetings\, offering compassion\, information\, and support for individuals who have had or currently have a loved one in the prison system. We understand the stress and challenges that come with this experience. Come connect with others who share insights\, perspectives\, and personal experiences. Let’s support each other through these difficult times. Please note\, this meeting is for adults only. \nThis meeting takes place at 147 Sullivan Road\, Westminster\, MD  21157. (Note: The Westminster Church of the Nazarene has graciously provided space for these PFA meetings.) \n10:00am – 11:00am East Coast Time Zone
URL:https://prisonfamiliesalliance.org/event/in-person-general-support-meeting-westminster-maryland/
LOCATION:Westminster First Church of the Nazerene\, 127 Sullivan Road\, Westminster\, 21157\, United States
CATEGORIES:Support Group Meeting
END:VEVENT
BEGIN:VEVENT
DTSTART;TZID=America/Los_Angeles:20240615T090000
DTEND;TZID=America/Los_Angeles:20240615T100000
DTSTAMP:20260424T204615
CREATED:20240526T203753Z
LAST-MODIFIED:20240526T203753Z
UID:10002056-1718442000-1718445600@prisonfamiliesalliance.org
SUMMARY:(Check Your Time Zone) Families of Loved Ones with Long Sentences Coffee & Chat Time
DESCRIPTION:Join us for PFA Families of Loved Ones with Long Sentence Coffee and Chat Time. This meeting is specifically designed for families with loved ones incarcerated with long sentences and life sentences. Maintaining a relationship with someone incarcerated for an extended period is especially challenging and life-changing. Join this compassionate\, informative\, and supportive gathering with individuals who comprehend and exchange personal experiences and information. The unique circumstances of having a loved one incarcerated for a long time or with a life sentence are best understood by those undergoing similar experiences. Join us for this special meeting – you are not alone. \nClick Zoom Link:  ZOOM LINK \n9:00am PT\, 10:00apm MT\, 11:00am CT\, Noon ET
URL:https://prisonfamiliesalliance.org/event/check-your-time-zone-families-of-loved-ones-with-long-sentences-coffee-chat-time-15/
LOCATION:Zoom
CATEGORIES:Support Group Meeting
END:VEVENT
BEGIN:VEVENT
DTSTART;TZID=America/Los_Angeles:20240616T110000
DTEND;TZID=America/Los_Angeles:20240616T120000
DTSTAMP:20260424T204615
CREATED:20240526T205859Z
LAST-MODIFIED:20240526T205859Z
UID:10002057-1718535600-1718539200@prisonfamiliesalliance.org
SUMMARY:(Check Your Time Zone) PFA Youth Group - (Ages 7-12)
DESCRIPTION:PFA Youth Group – (Ages 7-12) \nA safe\, non-judgmental\, and supportive meeting for youth to talk kid-to-kid.  Meeting is facilitated by adults\, and youths have fun and are provided tools to help them deal with having an incarcerated family member.  Parent or legal guardian need to fill out registration form: Click Here to Register (Scroll down to registration form and submit). Zoom link will be emailed prior to meeting. Email connect@PrisonFamiliesAlliance.org if you need additional information. \nYouth 7-12 years old: 11am PT\, Noon MT\, 1pm CT\, 2pm ET (45 minute session)
URL:https://prisonfamiliesalliance.org/event/check-your-time-zone-pfa-youth-group-ages-7-12/
LOCATION:Zoom
CATEGORIES:Support Group Meeting
END:VEVENT
BEGIN:VEVENT
DTSTART;TZID=America/Los_Angeles:20240616T120000
DTEND;TZID=America/Los_Angeles:20240616T130000
DTSTAMP:20260424T204615
CREATED:20240526T210646Z
LAST-MODIFIED:20240526T210646Z
UID:10002058-1718539200-1718542800@prisonfamiliesalliance.org
SUMMARY:(Check Your Time Zone) PFA Youth Group - (Ages 13-17)
DESCRIPTION:PFA Youth Group – (Ages 13-17) \nA safe\, non-judgmental\, and supportive meeting for youth to talk kid-to-kid.  Meeting is facilitated by adults\, and youths have fun and are provided tools to help them deal with having an incarcerated family member.  Parent or legal guardian need to fill out registration form: Click Here to Register (Scroll down to registration form and submit). Zoom link will be emailed prior to meeting. Email connect@PrisonFamiliesAlliance.org if you need additional information. \nYouth 13-17 years old: Noon PT\, 1pm MT\, 2pm CT\, 3pm ET (1 hour session)
URL:https://prisonfamiliesalliance.org/event/check-your-time-zone-pfa-youth-group-ages-13-17/
LOCATION:Zoom
CATEGORIES:Support Group Meeting
END:VEVENT
BEGIN:VEVENT
DTSTART;TZID=America/Los_Angeles:20240617T183000
DTEND;TZID=America/Los_Angeles:20240617T193000
DTSTAMP:20260424T204615
CREATED:20240526T230310Z
LAST-MODIFIED:20240526T230310Z
UID:10002064-1718649000-1718652600@prisonfamiliesalliance.org
SUMMARY:(In Person) PFA Yavapai County Detention Center Family and Friends Support Group
DESCRIPTION:Join the Yavapai County Detention Center Family and Friends Support Group\, specially designed for those with incarcerated loved ones. The Yavapai County Sheriff in association with Prison Families Alliance (PFA)\, offers a safe and compassionate environment to share your experiences and find solace among others facing similar challenges. These meetings provide a space to discuss the emotional\, social\, and logistical difficulties of having a loved one in jail\, fostering a sense of community and mutual support. \nMeetings take place the First and Third Monday of each month: ​Yavapai County Detention Center Family and Friends Support Group​\, 2830 N Commonwealth Dr.\, Camp Verde\, AZ (Visitation Trailer)– 6:30pm PT
URL:https://prisonfamiliesalliance.org/event/in-person-pfa-yavapai-county-detention-center-family-and-friends-support-group-2/
LOCATION:Yavapai County Detention Center\, 2830 N CommonWealth Dr\, Camp Verde\, United States
CATEGORIES:Support Group Meeting
END:VEVENT
BEGIN:VEVENT
DTSTART;TZID=America/Los_Angeles:20240618T160000
DTEND;TZID=America/Los_Angeles:20240618T170000
DTSTAMP:20260424T204615
CREATED:20240526T201530Z
LAST-MODIFIED:20240616T042224Z
UID:10002047-1718726400-1718730000@prisonfamiliesalliance.org
SUMMARY:General Support Meeting (4PT\, 5MT\, 6CT\, 7ET)
DESCRIPTION:The PFA General Support meetings provide a compassionate and supportive space for individuals who have a loved one in the prison system. Recognizing the inherent challenges and stress that come with this experience\, we offer a platform for sharing information\, perspectives\, and personal experiences. Join us to connect with others who understand and navigate this journey with empathy and insight. Nobody needs to go through their journey alone; support is here. \nClick Zoom Link:  ZOOM LINK \n4:00pm PT\, 5:00pm MT\, 6:00pm CT\, 7:00pm ET
URL:https://prisonfamiliesalliance.org/event/check-your-time-zone-general-support-meeting-25/
LOCATION:Zoom
CATEGORIES:Support Group Meeting
END:VEVENT
BEGIN:VEVENT
DTSTART;TZID=America/Los_Angeles:20240619T163000
DTEND;TZID=America/Los_Angeles:20240619T173000
DTSTAMP:20260424T204615
CREATED:20240526T202633Z
LAST-MODIFIED:20240616T042327Z
UID:10002050-1718814600-1718818200@prisonfamiliesalliance.org
SUMMARY:Support for Families of Loved Ones with Sex Offenses (4:30PT\, 5:30MT\, 6:30CT\, 7:30ET)
DESCRIPTION:The PFA Support for Families of Loved Ones with Sex Offenses provides a safe and compassionate environment uniquely designed for those whose loved ones have been convicted of sex offenses. Recognizing the profound stigma this brings\, the group helps families navigate the associated trauma and challenges. The facilitators\, who deeply understand these complexities\, address the many questions and concerns that arise from this experience. In this space\, members share their stories with dignity and respect\, cultivating a community grounded in empathy and support. \nClick Zoom Link:  ZOOM LINK \nTime: 4:30pm PT\, 5:30pm MT\, 6:30pm CT\, 7:30pm ET​
URL:https://prisonfamiliesalliance.org/event/check-your-time-zone-support-for-families-of-loved-ones-with-sex-offenses-27/
LOCATION:Zoom
CATEGORIES:Support Group Meeting
END:VEVENT
BEGIN:VEVENT
DTSTART;TZID=America/Los_Angeles:20240620T160000
DTEND;TZID=America/Los_Angeles:20240620T170000
DTSTAMP:20260424T204615
CREATED:20240526T202229Z
LAST-MODIFIED:20240616T042559Z
UID:10002048-1718899200-1718902800@prisonfamiliesalliance.org
SUMMARY:(In Person) General Support Meeting – Central Islip\, New York (7PM ET)
DESCRIPTION:This PFA General Support meeting is in person and provides a compassionate and supportive space for individuals who have a loved one in the carceral system. Recognizing the inherent challenges and stress that come with this experience\, we offer a platform for sharing information\, perspectives\, and personal experiences. Join us to connect with others who understand and navigate this journey with empathy and insight. We look forward to welcoming you and building a supportive network together. \n7:00 ET – Touro Law School\, Public Advocacy Center (PAC)\, 225 Eastview Dr.\, Central Islip\, NY 
URL:https://prisonfamiliesalliance.org/event/in-person-7pm-et-general-support-meeting/
LOCATION:Touro Law School\, 225 Eastview Dr.\, Central Islip\, New York\, 11722
CATEGORIES:Support Group Meeting
END:VEVENT
BEGIN:VEVENT
DTSTART;TZID=America/Los_Angeles:20240625T163000
DTEND;TZID=America/Los_Angeles:20240625T173000
DTSTAMP:20260424T204615
CREATED:20240526T214153Z
LAST-MODIFIED:20240625T041755Z
UID:10002061-1719333000-1719336600@prisonfamiliesalliance.org
SUMMARY:Support for Siblings (4:30PM PT\, 5:30PM MT\, 6:30PM CT\, 7:30MT ET)
DESCRIPTION:The PFA Support Group for Siblings with an incarcerated brother or sister provides a vital space for individuals who have experienced or are currently experiencing having a sibling in the carceral system. Often overlooked\, the impact on siblings can be profound. Most people do not consider the impact of incarceration to siblings and the special bond they have\, especially when they grow up together. Join us to connect with others who understand firsthand\, offer mutual support\, and exchange valuable information in a compassionate and understanding environment. \nClick Zoom Link: ZOOM LINK \n4:30pm PT | 5:30pm MT | 6:30pm CT | 7:30pm ET
URL:https://prisonfamiliesalliance.org/event/check-your-time-zone-support-for-siblings-10/
LOCATION:Zoom
CATEGORIES:Support Group Meeting
END:VEVENT
BEGIN:VEVENT
DTSTART;TZID=America/Los_Angeles:20240626T170000
DTEND;TZID=America/Los_Angeles:20240626T180000
DTSTAMP:20260424T204615
CREATED:20240526T214635Z
LAST-MODIFIED:20240625T040737Z
UID:10002062-1719421200-1719424800@prisonfamiliesalliance.org
SUMMARY:General Support Meeting in Spanish (5PM PT\, 6PM MT\, 7PM CT\, 8PM ET)
DESCRIPTION:PFA General Support Meeting in Spanish: Esta reunion general es en Espanol – Participe hoy en una reunion que sera compasiva\, informativa y de ayuda para cualquier persona que ha tenido un ser querido en el sistema penitenciario. Tener un ser querido en el sistema penitenciario es una situación estresante y una etapa difícil. Unese con personas que entienden y comparten información\, perspectiva y experiencias personales. \nClick Zoom Link:  ZOOM LINK \n5:00pm PT\, 6:00pm MT\, 7:00pm CT\, 8:00pm ET \n 
URL:https://prisonfamiliesalliance.org/event/check-your-time-zone-general-support-meeting-in-spanish-6/
LOCATION:Zoom
CATEGORIES:Support Group Meeting
END:VEVENT
BEGIN:VEVENT
DTSTART;TZID=America/Los_Angeles:20240627T163000
DTEND;TZID=America/Los_Angeles:20240627T173000
DTSTAMP:20260424T204615
CREATED:20240526T203544Z
LAST-MODIFIED:20240625T041709Z
UID:10002055-1719505800-1719509400@prisonfamiliesalliance.org
SUMMARY:Support for Spouses and Partners (4:30PM PT\, 5:30PM MT\, 6:30PM CT\, 7:30PM ET)
DESCRIPTION:The PFA Support for Spouses and Partners meeting caters specifically to spouses and partners who encounter numerous challenges\, from emotional strain to academic and employment hurdles\, and economic hardship while their loved one is in the carceral system. This specialized group provides a robust support system to navigate these challenges\, offering understanding of the unique family dynamics involved. Join us as we come together to overcome obstacles and provide mutual support in the journey ahead. \nClick Zoom Link:  ZOOM LINK \n4:30pm PT\, 5:30pm MT\, 6:30pm CT\, 7:30pm ET
URL:https://prisonfamiliesalliance.org/event/check-your-time-zone-support-for-spouses-and-partners-20/
LOCATION:Zoom
CATEGORIES:Support Group Meeting
END:VEVENT
BEGIN:VEVENT
DTSTART;TZID=America/Los_Angeles:20240627T173000
DTEND;TZID=America/Los_Angeles:20240627T183000
DTSTAMP:20260424T204615
CREATED:20240526T213953Z
LAST-MODIFIED:20240625T040902Z
UID:10002060-1719509400-1719513000@prisonfamiliesalliance.org
SUMMARY:Support for Families of Loved Ones Incarcerated With Addictions (4:30PM PT\, 5:30PM MT\, 6:30PM CT\, 7:30PM ET)
DESCRIPTION:The PFA Support for Families of Loved Ones Incarcerated with Addictions is tailored to families with loved ones incarcerated due to addiction-related issues. In this compassionate\, informative\, and supportive meeting\, you’ll find understanding peers who share insights and personal experiences. Having a loved one incarcerated who has or had addictions has its own set of circumstances and we recognize the unique challenges families are faced with. We offer a safe space for mutual support and shared understanding. You’re not alone in this journey – join us in this special meeting where you’ll find a supportive community ready to listen and empathize. \nClick Zoom Link:  ZOOM LINK \n4:30pm PT\, 5:30pm MT\, 6:30pm CT\, 7:30pm ET \n  \n 
URL:https://prisonfamiliesalliance.org/event/check-your-time-zone-support-for-families-of-loved-ones-incarcerated-with-addictions-7/
LOCATION:Zoom
CATEGORIES:Support Group Meeting
END:VEVENT
END:VCALENDAR