BEGIN:VCALENDAR
VERSION:2.0
PRODID:-//Prison Families Alliance - ECPv6.15.20//NONSGML v1.0//EN
CALSCALE:GREGORIAN
METHOD:PUBLISH
X-ORIGINAL-URL:https://prisonfamiliesalliance.org
X-WR-CALDESC:Events for Prison Families Alliance
REFRESH-INTERVAL;VALUE=DURATION:PT1H
X-Robots-Tag:noindex
X-PUBLISHED-TTL:PT1H
BEGIN:VTIMEZONE
TZID:America/Los_Angeles
BEGIN:DAYLIGHT
TZOFFSETFROM:-0800
TZOFFSETTO:-0700
TZNAME:PDT
DTSTART:20230312T100000
END:DAYLIGHT
BEGIN:STANDARD
TZOFFSETFROM:-0700
TZOFFSETTO:-0800
TZNAME:PST
DTSTART:20231105T090000
END:STANDARD
BEGIN:DAYLIGHT
TZOFFSETFROM:-0800
TZOFFSETTO:-0700
TZNAME:PDT
DTSTART:20240310T100000
END:DAYLIGHT
BEGIN:STANDARD
TZOFFSETFROM:-0700
TZOFFSETTO:-0800
TZNAME:PST
DTSTART:20241103T090000
END:STANDARD
BEGIN:DAYLIGHT
TZOFFSETFROM:-0800
TZOFFSETTO:-0700
TZNAME:PDT
DTSTART:20250309T100000
END:DAYLIGHT
BEGIN:STANDARD
TZOFFSETFROM:-0700
TZOFFSETTO:-0800
TZNAME:PST
DTSTART:20251102T090000
END:STANDARD
END:VTIMEZONE
BEGIN:VTIMEZONE
TZID:America/New_York
BEGIN:DAYLIGHT
TZOFFSETFROM:-0500
TZOFFSETTO:-0400
TZNAME:EDT
DTSTART:20230312T070000
END:DAYLIGHT
BEGIN:STANDARD
TZOFFSETFROM:-0400
TZOFFSETTO:-0500
TZNAME:EST
DTSTART:20231105T060000
END:STANDARD
BEGIN:DAYLIGHT
TZOFFSETFROM:-0500
TZOFFSETTO:-0400
TZNAME:EDT
DTSTART:20240310T070000
END:DAYLIGHT
BEGIN:STANDARD
TZOFFSETFROM:-0400
TZOFFSETTO:-0500
TZNAME:EST
DTSTART:20241103T060000
END:STANDARD
BEGIN:DAYLIGHT
TZOFFSETFROM:-0500
TZOFFSETTO:-0400
TZNAME:EDT
DTSTART:20250309T070000
END:DAYLIGHT
BEGIN:STANDARD
TZOFFSETFROM:-0400
TZOFFSETTO:-0500
TZNAME:EST
DTSTART:20251102T060000
END:STANDARD
END:VTIMEZONE
BEGIN:VEVENT
DTSTART;TZID=America/Los_Angeles:20240701T183000
DTEND;TZID=America/Los_Angeles:20240701T193000
DTSTAMP:20260424T165947
CREATED:20240624T004705Z
LAST-MODIFIED:20240624T004705Z
UID:10002084-1719858600-1719862200@prisonfamiliesalliance.org
SUMMARY:(In Person) PFA Yavapai County Detention Center Family and Friends Support Group – Camp Verde\, AZ
DESCRIPTION:Join the Yavapai County Detention Center Family and Friends Support Group\, specially designed for those with incarcerated loved ones. The Yavapai County Sheriff in association with Prison Families Alliance (PFA)\, offers a safe and compassionate environment to share your experiences and find solace among others facing similar challenges. These meetings provide a space to discuss the emotional\, social\, and logistical difficulties of having a loved one in jail\, fostering a sense of community and mutual support. \nMeetings take place the First and Third Monday of each month: ​Yavapai County Detention Center Family and Friends Support Group​\, 2830 N Commonwealth Dr.\, Camp Verde\, AZ (Visitation Trailer)– 6:30pm AZ
URL:https://prisonfamiliesalliance.org/event/in-person-pfa-yavapai-county-detention-center-family-and-friends-support-group-camp-verde-az/
LOCATION:Yavapai County Detention Center\, 2830 N CommonWealth Dr\, Camp Verde\, United States
CATEGORIES:Support Group Meeting
END:VEVENT
BEGIN:VEVENT
DTSTART;TZID=America/Los_Angeles:20240702T160000
DTEND;TZID=America/Los_Angeles:20240702T170000
DTSTAMP:20260424T165947
CREATED:20240623T212557Z
LAST-MODIFIED:20240704T215553Z
UID:10002070-1719936000-1719939600@prisonfamiliesalliance.org
SUMMARY:(Check Your Time Zone) General Support Meeting
DESCRIPTION:The PFA General Support meetings provide a compassionate and supportive space for individuals who have a loved one in the prison system. Recognizing the inherent challenges and stress that come with this experience\, we offer a platform for sharing information\, perspectives\, and personal experiences. Join us to connect with others who understand and navigate this journey with empathy and insight. Nobody needs to go through their journey alone; support is here. \nClick Zoom Link:  ZOOM LINK \n4:00pm PT\, 5:00pm MT\, 6:00pm CT\, 7:00pm ET
URL:https://prisonfamiliesalliance.org/event/check-your-time-zone-general-support-meeting-26/
LOCATION:Zoom
CATEGORIES:Support Group Meeting
END:VEVENT
BEGIN:VEVENT
DTSTART;TZID=America/Los_Angeles:20240703T163000
DTEND;TZID=America/Los_Angeles:20240703T173000
DTSTAMP:20260424T165947
CREATED:20240623T213206Z
LAST-MODIFIED:20240625T042400Z
UID:10002072-1720024200-1720027800@prisonfamiliesalliance.org
SUMMARY:(Check Your Time Zone) Support for Families of Loved Ones with Sex Offenses
DESCRIPTION:The PFA Support for Families of Loved Ones with Sex Offenses provides a safe and compassionate environment uniquely designed for those whose loved ones have been convicted of sex offenses. Recognizing the profound stigma this brings\, the group helps families navigate the associated trauma and challenges. The facilitators\, who deeply understand these complexities\, address the many questions and concerns that arise from this experience. In this space\, members share their stories with dignity and respect\, cultivating a community grounded in empathy and support. \nClick Zoom Link:  ZOOM LINK \nTime: 4:30pm PT\, 5:30pm MT\, 6:30pm CT\, 7:30pm ET​
URL:https://prisonfamiliesalliance.org/event/check-your-time-zone-support-for-families-of-loved-ones-with-sex-offenses-28/
LOCATION:Zoom
CATEGORIES:Support Group Meeting
END:VEVENT
BEGIN:VEVENT
DTSTART;TZID=America/Los_Angeles:20240710T170000
DTEND;TZID=America/Los_Angeles:20240710T180000
DTSTAMP:20260424T165947
CREATED:20240623T213623Z
LAST-MODIFIED:20240704T215816Z
UID:10002074-1720630800-1720634400@prisonfamiliesalliance.org
SUMMARY:(Check Your Time Zone) Family Re-Entry
DESCRIPTION:The PFA Family Re-Entry support meeting offers a crucial space for individuals navigating the challenging process of having a loved one reintegrate into the family and community after incarceration. Recognizing the unfamiliarity of the world outside prison\, family support during this transition can make a positive difference to their loved one and help reduce recidivism. Here\, we come together to share support\, resources\, and practical tips to assist the family before\, during\, and after the reentry transition. Join us as we collaborate to navigate this journey with understanding and resilience. \nClick Zoom Link:  ZOOM LINK \nTime: 5:00pm PT\, 6:00pm MT\, 7:00pm CT\, 8:00pm ET​
URL:https://prisonfamiliesalliance.org/event/check-your-time-zone-family-re-entry-16/
LOCATION:Zoom
CATEGORIES:Support Group Meeting
END:VEVENT
BEGIN:VEVENT
DTSTART;TZID=America/Los_Angeles:20240711T163000
DTEND;TZID=America/Los_Angeles:20240711T173000
DTSTAMP:20260424T165947
CREATED:20240623T213807Z
LAST-MODIFIED:20240703T023009Z
UID:10002075-1720715400-1720719000@prisonfamiliesalliance.org
SUMMARY:(Check your Time Zone) Support for Spouses and Partners
DESCRIPTION:The PFA Support for Spouses and Partners meeting caters specifically to spouses and partners who encounter numerous challenges\, from emotional strain to academic and employment hurdles\, and economic hardship while their loved one is in the carceral system. This specialized group provides a robust support system to navigate these challenges\, offering understanding of the unique family dynamics involved. Join us as we come together to overcome obstacles and provide mutual support in the journey ahead. \nClick Zoom Link:  ZOOM LINK \n4:30pm PT\, 5:30pm MT\, 6:30pm CT\, 7:30pm ET
URL:https://prisonfamiliesalliance.org/event/check-your-time-zone-support-for-spouses-and-partners-21/
LOCATION:Zoom
CATEGORIES:Support Group Meeting
END:VEVENT
BEGIN:VEVENT
DTSTART;TZID=America/Los_Angeles:20240713T090000
DTEND;TZID=America/Los_Angeles:20240713T100000
DTSTAMP:20260424T165947
CREATED:20240623T215710Z
LAST-MODIFIED:20240703T023102Z
UID:10002077-1720861200-1720864800@prisonfamiliesalliance.org
SUMMARY:(Check Your Time Zone) PFA Lioness Moms CHAT
DESCRIPTION:Join us for PFA Lioness Moms CHAT\, a support meeting tailored for mothers with incarcerated loved ones\, although others are welcome to join. Our mission is to educate\, empower\, encourage\, and support mothers and families facing challenges to their loved one’s freedom. Come connect with us – together\, we are stronger. \nClick Zoom Link:  ZOOM LINK \n9:00am PT\, 10:00am MT\, 11:00am CT\, Noon ET
URL:https://prisonfamiliesalliance.org/event/check-your-time-zone-pfa-lioness-moms-chat-6/
LOCATION:Zoom
CATEGORIES:Support Group Meeting
END:VEVENT
BEGIN:VEVENT
DTSTART;TZID=America/New_York:20240713T100000
DTEND;TZID=America/New_York:20240713T110000
DTSTAMP:20260424T165947
CREATED:20240624T005942Z
LAST-MODIFIED:20240624T005942Z
UID:10002089-1720864800-1720868400@prisonfamiliesalliance.org
SUMMARY:(In Person) General Support Meeting – Westminster\, Maryland
DESCRIPTION:Join us for in-person PFA General Support meetings\, offering compassion\, information\, and support for individuals who have had or currently have a loved one in the prison system. We understand the stress and challenges that come with this experience. Come connect with others who share insights\, perspectives\, and personal experiences. Let’s support each other through these difficult times. Please note\, this meeting is for adults only. \nThis meeting takes place at 147 Sullivan Road\, Westminster\, MD  21157. (Note: The Westminster Church of the Nazarene has graciously provided space for these PFA meetings.) \n10:00am – 11:00am East Coast Time Zone
URL:https://prisonfamiliesalliance.org/event/in-person-general-support-meeting-westminster-maryland-2/
LOCATION:Westminster First Church of the Nazerene\, 127 Sullivan Road\, Westminster\, 21157\, United States
CATEGORIES:Support Group Meeting
END:VEVENT
BEGIN:VEVENT
DTSTART;TZID=America/Los_Angeles:20240715T183000
DTEND;TZID=America/Los_Angeles:20240715T193000
DTSTAMP:20260424T165947
CREATED:20240624T004819Z
LAST-MODIFIED:20240624T004819Z
UID:10002085-1721068200-1721071800@prisonfamiliesalliance.org
SUMMARY:(In Person) PFA Yavapai County Detention Center Family and Friends Support Group – Camp Verde\, AZ
DESCRIPTION:Join the Yavapai County Detention Center Family and Friends Support Group\, specially designed for those with incarcerated loved ones. The Yavapai County Sheriff in association with Prison Families Alliance (PFA)\, offers a safe and compassionate environment to share your experiences and find solace among others facing similar challenges. These meetings provide a space to discuss the emotional\, social\, and logistical difficulties of having a loved one in jail\, fostering a sense of community and mutual support. \nMeetings take place the First and Third Monday of each month: ​Yavapai County Detention Center Family and Friends Support Group​\, 2830 N Commonwealth Dr.\, Camp Verde\, AZ (Visitation Trailer)– 6:30pm AZ
URL:https://prisonfamiliesalliance.org/event/in-person-pfa-yavapai-county-detention-center-family-and-friends-support-group-camp-verde-az-2/
LOCATION:Yavapai County Detention Center\, 2830 N CommonWealth Dr\, Camp Verde\, United States
CATEGORIES:Support Group Meeting
END:VEVENT
BEGIN:VEVENT
DTSTART;TZID=America/Los_Angeles:20240716T160000
DTEND;TZID=America/Los_Angeles:20240716T170000
DTSTAMP:20260424T165947
CREATED:20240623T212717Z
LAST-MODIFIED:20240703T023229Z
UID:10002071-1721145600-1721149200@prisonfamiliesalliance.org
SUMMARY:(Check Your Time Zone) General Support Meeting
DESCRIPTION:The PFA General Support meetings provide a compassionate and supportive space for individuals who have a loved one in the prison system. Recognizing the inherent challenges and stress that come with this experience\, we offer a platform for sharing information\, perspectives\, and personal experiences. Join us to connect with others who understand and navigate this journey with empathy and insight. Nobody needs to go through their journey alone; support is here. \nClick Zoom Link:  ZOOM LINK \n4:00pm PT\, 5:00pm MT\, 6:00pm CT\, 7:00pm ET
URL:https://prisonfamiliesalliance.org/event/check-your-time-zone-general-support-meeting-27/
LOCATION:Zoom
CATEGORIES:Support Group Meeting
END:VEVENT
BEGIN:VEVENT
DTSTART;TZID=America/Los_Angeles:20240717T163000
DTEND;TZID=America/Los_Angeles:20240717T173000
DTSTAMP:20260424T165947
CREATED:20240623T213325Z
LAST-MODIFIED:20240703T023354Z
UID:10002073-1721233800-1721237400@prisonfamiliesalliance.org
SUMMARY:(Check Your Time Zone) Support for Families of Loved Ones with Sex Offenses
DESCRIPTION:The PFA Support for Families of Loved Ones with Sex Offenses provides a safe and compassionate environment uniquely designed for those whose loved ones have been convicted of sex offenses. Recognizing the profound stigma this brings\, the group helps families navigate the associated trauma and challenges. The facilitators\, who deeply understand these complexities\, address the many questions and concerns that arise from this experience. In this space\, members share their stories with dignity and respect\, cultivating a community grounded in empathy and support. \nClick Zoom Link:  ZOOM LINK \nTime: 4:30pm PT\, 5:30pm MT\, 6:30pm CT\, 7:30pm ET​
URL:https://prisonfamiliesalliance.org/event/check-your-time-zone-support-for-families-of-loved-ones-with-sex-offenses-29/
LOCATION:Zoom
CATEGORIES:Support Group Meeting
END:VEVENT
BEGIN:VEVENT
DTSTART;TZID=America/Los_Angeles:20240720T090000
DTEND;TZID=America/Los_Angeles:20240720T100000
DTSTAMP:20260424T165947
CREATED:20240623T220011Z
LAST-MODIFIED:20240703T023546Z
UID:10002078-1721466000-1721469600@prisonfamiliesalliance.org
SUMMARY:(Check Your Time Zone) Families of Loved Ones with Long Sentences Coffee & Chat Time
DESCRIPTION:Join us for PFA Families of Loved Ones with Long Sentence Coffee and Chat Time. This meeting is specifically designed for families with loved ones incarcerated with long sentences and life sentences. Maintaining a relationship with someone incarcerated for an extended period is especially challenging and life-changing. Join this compassionate\, informative\, and supportive gathering with individuals who comprehend and exchange personal experiences and information. The unique circumstances of having a loved one incarcerated for a long time or with a life sentence are best understood by those undergoing similar experiences. Join us for this special meeting – you are not alone. \nClick Zoom Link:  ZOOM LINK \n9:00am PT\, 10:00apm MT\, 11:00am CT\, Noon ET
URL:https://prisonfamiliesalliance.org/event/check-your-time-zone-families-of-loved-ones-with-long-sentences-coffee-chat-time-16/
LOCATION:Zoom
CATEGORIES:Support Group Meeting
END:VEVENT
BEGIN:VEVENT
DTSTART;TZID=America/Los_Angeles:20240723T163000
DTEND;TZID=America/Los_Angeles:20240723T173000
DTSTAMP:20260424T165947
CREATED:20240624T003815Z
LAST-MODIFIED:20240703T023827Z
UID:10002081-1721752200-1721755800@prisonfamiliesalliance.org
SUMMARY:(Check Your Time Zone) Support for Siblings
DESCRIPTION:The PFA Support Group for Siblings with an incarcerated brother or sister provides a vital space for individuals who have experienced or are currently experiencing having a sibling in the carceral system. Often overlooked\, the impact on siblings can be profound. Most people do not consider the impact of incarceration to siblings and the special bond they have\, especially when they grow up together. Join us to connect with others who understand firsthand\, offer mutual support\, and exchange valuable information in a compassionate and understanding environment. \nClick Zoom Link: ZOOM LINK \n4:30pm PT | 5:30pm MT | 6:30pm CT | 7:30pm ET
URL:https://prisonfamiliesalliance.org/event/check-your-time-zone-support-for-siblings-11/
LOCATION:Zoom
CATEGORIES:Support Group Meeting
END:VEVENT
BEGIN:VEVENT
DTSTART;TZID=America/Los_Angeles:20240724T170000
DTEND;TZID=America/Los_Angeles:20240724T180000
DTSTAMP:20260424T165947
CREATED:20240624T003919Z
LAST-MODIFIED:20240703T024303Z
UID:10002082-1721840400-1721844000@prisonfamiliesalliance.org
SUMMARY:(Check Your Time Zone) General Support Meeting in Spanish
DESCRIPTION:PFA General Support Meeting in Spanish: Esta reunion general es en Espanol – Participe hoy en una reunion que sera compasiva\, informativa y de ayuda para cualquier persona que ha tenido un ser querido en el sistema penitenciario. Tener un ser querido en el sistema penitenciario es una situación estresante y una etapa difícil. Unese con personas que entienden y comparten información\, perspectiva y experiencias personales. \nClick Zoom Link:  ZOOM LINK \n5:00pm PT\, 6:00pm MT\, 7:00pm CT\, 8:00pm ET \n 
URL:https://prisonfamiliesalliance.org/event/check-your-time-zone-general-support-meeting-in-spanish-7/
LOCATION:Zoom
CATEGORIES:Support Group Meeting
END:VEVENT
BEGIN:VEVENT
DTSTART;TZID=America/Los_Angeles:20240725T163000
DTEND;TZID=America/Los_Angeles:20240725T173000
DTSTAMP:20260424T165947
CREATED:20240623T213943Z
LAST-MODIFIED:20240703T024917Z
UID:10002076-1721925000-1721928600@prisonfamiliesalliance.org
SUMMARY:(Check your Time Zone) Support for Spouses and Partners
DESCRIPTION:The PFA Support for Spouses and Partners meeting caters specifically to spouses and partners who encounter numerous challenges\, from emotional strain to academic and employment hurdles\, and economic hardship while their loved one is in the carceral system. This specialized group provides a robust support system to navigate these challenges\, offering understanding of the unique family dynamics involved. Join us as we come together to overcome obstacles and provide mutual support in the journey ahead. \nClick Zoom Link:  ZOOM LINK \n4:30pm PT\, 5:30pm MT\, 6:30pm CT\, 7:30pm ET
URL:https://prisonfamiliesalliance.org/event/check-your-time-zone-support-for-spouses-and-partners-22/
LOCATION:Zoom
CATEGORIES:Support Group Meeting
END:VEVENT
BEGIN:VEVENT
DTSTART;TZID=America/Los_Angeles:20240725T173000
DTEND;TZID=America/Los_Angeles:20240725T183000
DTSTAMP:20260424T165947
CREATED:20240624T004441Z
LAST-MODIFIED:20240714T175203Z
UID:10002083-1721928600-1721932200@prisonfamiliesalliance.org
SUMMARY:(Check Your Time Zone) Support for Families of Loved Ones Incarcerated With Addictions
DESCRIPTION:The PFA Support for Families of Loved Ones Incarcerated with Addictions is tailored to families with loved ones incarcerated due to addiction-related issues. In this compassionate\, informative\, and supportive meeting\, you’ll find understanding peers who share insights and personal experiences. Having a loved one incarcerated who has or had addictions has its own set of circumstances and we recognize the unique challenges families are faced with. We offer a safe space for mutual support and shared understanding. You’re not alone in this journey – join us in this special meeting where you’ll find a supportive community ready to listen and empathize. \nClick Zoom Link:  ZOOM LINK \n5:30pm PT\, 6:30pm MT\, 7:30pm CT\, 8:30pm ET
URL:https://prisonfamiliesalliance.org/event/check-your-time-zone-support-for-families-of-loved-ones-incarcerated-with-addictions-8/
LOCATION:Zoom
CATEGORIES:Support Group Meeting
END:VEVENT
END:VCALENDAR