BEGIN:VCALENDAR
VERSION:2.0
PRODID:-//Prison Families Alliance - ECPv6.15.20//NONSGML v1.0//EN
CALSCALE:GREGORIAN
METHOD:PUBLISH
X-ORIGINAL-URL:https://prisonfamiliesalliance.org
X-WR-CALDESC:Events for Prison Families Alliance
REFRESH-INTERVAL;VALUE=DURATION:PT1H
X-Robots-Tag:noindex
X-PUBLISHED-TTL:PT1H
BEGIN:VTIMEZONE
TZID:America/Los_Angeles
BEGIN:DAYLIGHT
TZOFFSETFROM:-0800
TZOFFSETTO:-0700
TZNAME:PDT
DTSTART:20220313T100000
END:DAYLIGHT
BEGIN:STANDARD
TZOFFSETFROM:-0700
TZOFFSETTO:-0800
TZNAME:PST
DTSTART:20221106T090000
END:STANDARD
BEGIN:DAYLIGHT
TZOFFSETFROM:-0800
TZOFFSETTO:-0700
TZNAME:PDT
DTSTART:20230312T100000
END:DAYLIGHT
BEGIN:STANDARD
TZOFFSETFROM:-0700
TZOFFSETTO:-0800
TZNAME:PST
DTSTART:20231105T090000
END:STANDARD
BEGIN:DAYLIGHT
TZOFFSETFROM:-0800
TZOFFSETTO:-0700
TZNAME:PDT
DTSTART:20240310T100000
END:DAYLIGHT
BEGIN:STANDARD
TZOFFSETFROM:-0700
TZOFFSETTO:-0800
TZNAME:PST
DTSTART:20241103T090000
END:STANDARD
END:VTIMEZONE
BEGIN:VEVENT
DTSTART;TZID=America/Los_Angeles:20230503T163000
DTEND;TZID=America/Los_Angeles:20230503T173000
DTSTAMP:20260425T191410
CREATED:20230422T055219Z
LAST-MODIFIED:20230422T055219Z
UID:10001876-1683131400-1683135000@prisonfamiliesalliance.org
SUMMARY:(Pacific Time) Support for Families of Loved Ones with Sex Offenses
DESCRIPTION:Time: 4:30pm PT\, 5:30pm MT\, 6:30pm CT\, 7:30pm ET​ \nThe facilitators of this meeting have loved ones who have been sentenced as sex offenders and know what it’s like trying to deal with the trauma of this specific crime. Who do you tell? How do you tell others? What is it? This is a safe space to discuss our stories while maintaining dignity and respect for our loved ones and ourselves. \nClick Zoom Link:  ZOOM LINK \nTime: 4:30pm PT\, 5:30pm MT\, 6:30pm CT\, 7:30pm ET​
URL:https://prisonfamiliesalliance.org/event/pacific-time-support-for-families-of-loved-ones-with-sex-offenses-7/
LOCATION:Zoom
CATEGORIES:Support Group Meeting
END:VEVENT
END:VCALENDAR