BEGIN:VCALENDAR
VERSION:2.0
PRODID:-//Prison Families Alliance - ECPv6.15.20//NONSGML v1.0//EN
CALSCALE:GREGORIAN
METHOD:PUBLISH
X-ORIGINAL-URL:https://prisonfamiliesalliance.org
X-WR-CALDESC:Events for Prison Families Alliance
REFRESH-INTERVAL;VALUE=DURATION:PT1H
X-Robots-Tag:noindex
X-PUBLISHED-TTL:PT1H
BEGIN:VTIMEZONE
TZID:America/Los_Angeles
BEGIN:DAYLIGHT
TZOFFSETFROM:-0800
TZOFFSETTO:-0700
TZNAME:PDT
DTSTART:20220313T100000
END:DAYLIGHT
BEGIN:STANDARD
TZOFFSETFROM:-0700
TZOFFSETTO:-0800
TZNAME:PST
DTSTART:20221106T090000
END:STANDARD
BEGIN:DAYLIGHT
TZOFFSETFROM:-0800
TZOFFSETTO:-0700
TZNAME:PDT
DTSTART:20230312T100000
END:DAYLIGHT
BEGIN:STANDARD
TZOFFSETFROM:-0700
TZOFFSETTO:-0800
TZNAME:PST
DTSTART:20231105T090000
END:STANDARD
BEGIN:DAYLIGHT
TZOFFSETFROM:-0800
TZOFFSETTO:-0700
TZNAME:PDT
DTSTART:20240310T100000
END:DAYLIGHT
BEGIN:STANDARD
TZOFFSETFROM:-0700
TZOFFSETTO:-0800
TZNAME:PST
DTSTART:20241103T090000
END:STANDARD
END:VTIMEZONE
BEGIN:VEVENT
DTSTART;TZID=America/Los_Angeles:20231216T090000
DTEND;TZID=America/Los_Angeles:20231216T100000
DTSTAMP:20260425T080211
CREATED:20231202T143353Z
LAST-MODIFIED:20231202T143353Z
UID:10001960-1702717200-1702720800@prisonfamiliesalliance.org
SUMMARY:(Check Your Time Zone) Families of Loved Ones with Long Sentences Coffee & Chat Time
DESCRIPTION:Support Group for Families who have Loved Ones incarcerated with long and life sentences. Join this compassionate\, informative and supportive meeting with those who understand and share information\, and personal experiences. Having a loved one incarcerated for a long time or with a life sentences has its own set of circumstances that only those who are going through it can understand.  Join this special meeting.  You are not alone. \nClick Zoom Link:  ZOOM LINK \n9:00am PT\, 10:00apm MT\, 11:00am CT\, Noon ET
URL:https://prisonfamiliesalliance.org/event/check-your-time-zone-families-of-loved-ones-with-long-sentences-coffee-chat-time-9/
LOCATION:Zoom
CATEGORIES:Support Group Meeting
END:VEVENT
END:VCALENDAR