BEGIN:VCALENDAR
VERSION:2.0
PRODID:-//Prison Families Alliance - ECPv6.15.20//NONSGML v1.0//EN
CALSCALE:GREGORIAN
METHOD:PUBLISH
X-WR-CALNAME:Prison Families Alliance
X-ORIGINAL-URL:https://prisonfamiliesalliance.org
X-WR-CALDESC:Events for Prison Families Alliance
REFRESH-INTERVAL;VALUE=DURATION:PT1H
X-Robots-Tag:noindex
X-PUBLISHED-TTL:PT1H
BEGIN:VTIMEZONE
TZID:America/Los_Angeles
BEGIN:DAYLIGHT
TZOFFSETFROM:-0800
TZOFFSETTO:-0700
TZNAME:PDT
DTSTART:20230312T100000
END:DAYLIGHT
BEGIN:STANDARD
TZOFFSETFROM:-0700
TZOFFSETTO:-0800
TZNAME:PST
DTSTART:20231105T090000
END:STANDARD
BEGIN:DAYLIGHT
TZOFFSETFROM:-0800
TZOFFSETTO:-0700
TZNAME:PDT
DTSTART:20240310T100000
END:DAYLIGHT
BEGIN:STANDARD
TZOFFSETFROM:-0700
TZOFFSETTO:-0800
TZNAME:PST
DTSTART:20241103T090000
END:STANDARD
BEGIN:DAYLIGHT
TZOFFSETFROM:-0800
TZOFFSETTO:-0700
TZNAME:PDT
DTSTART:20250309T100000
END:DAYLIGHT
BEGIN:STANDARD
TZOFFSETFROM:-0700
TZOFFSETTO:-0800
TZNAME:PST
DTSTART:20251102T090000
END:STANDARD
END:VTIMEZONE
BEGIN:VEVENT
DTSTART;TZID=America/Los_Angeles:20240204T140000
DTEND;TZID=America/Los_Angeles:20240204T150000
DTSTAMP:20260425T042940
CREATED:20240203T055122Z
LAST-MODIFIED:20240203T055231Z
UID:10001711-1707055200-1707058800@prisonfamiliesalliance.org
SUMMARY:(Check Your Time Zone) Youth Support Group
DESCRIPTION:Time:  2pm PT\, 3pm MT\, 4pm CT\, 5pm ET \nA safe\, non-judgmental\, and supportive meeting for youth to talk kid-to-kid.  Meeting is facilitated by adults\, and youths have fun and are provided tools to help them deal with having an incarcerated family member.  Parent or legal guardian need to fill out registration form: Click Here to Register \nYouth will be drawing pictures in today’s meeting and should have paper and something to draw with (pen\, pencil\, crayon\, or marker). \nMeeting will be on Zoom and kids will be moved into separate age-appropriate rooms during the meeting
URL:https://prisonfamiliesalliance.org/event/check-your-time-zone-youth-support-group-9/
LOCATION:Zoom
CATEGORIES:Support Group Meeting
END:VEVENT
END:VCALENDAR