BEGIN:VCALENDAR
VERSION:2.0
PRODID:-//Prison Families Alliance - ECPv6.15.20//NONSGML v1.0//EN
CALSCALE:GREGORIAN
METHOD:PUBLISH
X-WR-CALNAME:Prison Families Alliance
X-ORIGINAL-URL:https://prisonfamiliesalliance.org
X-WR-CALDESC:Events for Prison Families Alliance
REFRESH-INTERVAL;VALUE=DURATION:PT1H
X-Robots-Tag:noindex
X-PUBLISHED-TTL:PT1H
BEGIN:VTIMEZONE
TZID:America/Los_Angeles
BEGIN:DAYLIGHT
TZOFFSETFROM:-0800
TZOFFSETTO:-0700
TZNAME:PDT
DTSTART:20230312T100000
END:DAYLIGHT
BEGIN:STANDARD
TZOFFSETFROM:-0700
TZOFFSETTO:-0800
TZNAME:PST
DTSTART:20231105T090000
END:STANDARD
BEGIN:DAYLIGHT
TZOFFSETFROM:-0800
TZOFFSETTO:-0700
TZNAME:PDT
DTSTART:20240310T100000
END:DAYLIGHT
BEGIN:STANDARD
TZOFFSETFROM:-0700
TZOFFSETTO:-0800
TZNAME:PST
DTSTART:20241103T090000
END:STANDARD
BEGIN:DAYLIGHT
TZOFFSETFROM:-0800
TZOFFSETTO:-0700
TZNAME:PDT
DTSTART:20250309T100000
END:DAYLIGHT
BEGIN:STANDARD
TZOFFSETFROM:-0700
TZOFFSETTO:-0800
TZNAME:PST
DTSTART:20251102T090000
END:STANDARD
END:VTIMEZONE
BEGIN:VEVENT
DTSTART;TZID=America/Los_Angeles:20240820T163000
DTEND;TZID=America/Los_Angeles:20240820T173000
DTSTAMP:20260424T152645
CREATED:20240714T012711Z
LAST-MODIFIED:20240815T223300Z
UID:10002092-1724171400-1724175000@prisonfamiliesalliance.org
SUMMARY:(Check Your Time Zone) General Support Meeting SPECIAL EVENT - Faces of Mass Incarceration Documentary
DESCRIPTION:The PFA General Support meetings will be showing a special viewing  of THE FACES OF MASS INCARCERATION DOCUMENTARY:  Who are the real people shamed and stigmatized by mass incarceration?  The Faces of Mass Incarceration documentary sheds light on this question\, eliminating much of society’s fear of a long misunderstood population – the prison family. By putting a face of those whose lives have been most directly affected by mass incarceration\, this documentary substantially reduces erroneous stereotypes and unnecessary fears. \nClick Zoom Link:  ZOOM LINK \n4:30pm PT\, 5:30pm MT\, 6:30pm CT\, 7:30pm ET
URL:https://prisonfamiliesalliance.org/event/check-your-time-zone-general-support-meeting-time-change-2/
LOCATION:Zoom
CATEGORIES:Support Group Meeting
END:VEVENT
END:VCALENDAR