BEGIN:VCALENDAR
VERSION:2.0
PRODID:-//Prison Families Alliance - ECPv6.15.20//NONSGML v1.0//EN
CALSCALE:GREGORIAN
METHOD:PUBLISH
X-WR-CALNAME:Prison Families Alliance
X-ORIGINAL-URL:https://prisonfamiliesalliance.org
X-WR-CALDESC:Events for Prison Families Alliance
REFRESH-INTERVAL;VALUE=DURATION:PT1H
X-Robots-Tag:noindex
X-PUBLISHED-TTL:PT1H
BEGIN:VTIMEZONE
TZID:America/Los_Angeles
BEGIN:DAYLIGHT
TZOFFSETFROM:-0800
TZOFFSETTO:-0700
TZNAME:PDT
DTSTART:20230312T100000
END:DAYLIGHT
BEGIN:STANDARD
TZOFFSETFROM:-0700
TZOFFSETTO:-0800
TZNAME:PST
DTSTART:20231105T090000
END:STANDARD
BEGIN:DAYLIGHT
TZOFFSETFROM:-0800
TZOFFSETTO:-0700
TZNAME:PDT
DTSTART:20240310T100000
END:DAYLIGHT
BEGIN:STANDARD
TZOFFSETFROM:-0700
TZOFFSETTO:-0800
TZNAME:PST
DTSTART:20241103T090000
END:STANDARD
BEGIN:DAYLIGHT
TZOFFSETFROM:-0800
TZOFFSETTO:-0700
TZNAME:PDT
DTSTART:20250309T100000
END:DAYLIGHT
BEGIN:STANDARD
TZOFFSETFROM:-0700
TZOFFSETTO:-0800
TZNAME:PST
DTSTART:20251102T090000
END:STANDARD
END:VTIMEZONE
BEGIN:VEVENT
DTSTART;TZID=America/Los_Angeles:20241126T163000
DTEND;TZID=America/Los_Angeles:20241126T173000
DTSTAMP:20260424T082839
CREATED:20241013T062405Z
LAST-MODIFIED:20241013T062405Z
UID:10002177-1732638600-1732642200@prisonfamiliesalliance.org
SUMMARY:(Check Your Time Zone) Support for Siblings
DESCRIPTION:The PFA Support Group for Siblings with an incarcerated brother or sister provides a vital space for individuals who have experienced or are currently experiencing having a sibling in the carceral system. Often overlooked\, the impact on siblings can be profound. Most people do not consider the impact of incarceration to siblings and the special bond they have\, especially when they grow up together. Join us to connect with others who understand firsthand\, offer mutual support\, and exchange valuable information in a compassionate and understanding environment. \nClick Zoom Link: ZOOM LINK \n4:30pm PT | 5:30pm MT | 6:30pm CT | 7:30pm ET
URL:https://prisonfamiliesalliance.org/event/check-your-time-zone-support-for-siblings-15/
LOCATION:Zoom
CATEGORIES:Support Group Meeting
END:VEVENT
END:VCALENDAR