BEGIN:VCALENDAR
VERSION:2.0
PRODID:-//Prison Families Alliance - ECPv6.15.20//NONSGML v1.0//EN
CALSCALE:GREGORIAN
METHOD:PUBLISH
X-ORIGINAL-URL:https://prisonfamiliesalliance.org
X-WR-CALDESC:Events for Prison Families Alliance
REFRESH-INTERVAL;VALUE=DURATION:PT1H
X-Robots-Tag:noindex
X-PUBLISHED-TTL:PT1H
BEGIN:VTIMEZONE
TZID:America/Los_Angeles
BEGIN:DAYLIGHT
TZOFFSETFROM:-0800
TZOFFSETTO:-0700
TZNAME:PDT
DTSTART:20240310T100000
END:DAYLIGHT
BEGIN:STANDARD
TZOFFSETFROM:-0700
TZOFFSETTO:-0800
TZNAME:PST
DTSTART:20241103T090000
END:STANDARD
BEGIN:DAYLIGHT
TZOFFSETFROM:-0800
TZOFFSETTO:-0700
TZNAME:PDT
DTSTART:20250309T100000
END:DAYLIGHT
BEGIN:STANDARD
TZOFFSETFROM:-0700
TZOFFSETTO:-0800
TZNAME:PST
DTSTART:20251102T090000
END:STANDARD
BEGIN:DAYLIGHT
TZOFFSETFROM:-0800
TZOFFSETTO:-0700
TZNAME:PDT
DTSTART:20260308T100000
END:DAYLIGHT
BEGIN:STANDARD
TZOFFSETFROM:-0700
TZOFFSETTO:-0800
TZNAME:PST
DTSTART:20261101T090000
END:STANDARD
END:VTIMEZONE
BEGIN:VTIMEZONE
TZID:America/New_York
BEGIN:DAYLIGHT
TZOFFSETFROM:-0500
TZOFFSETTO:-0400
TZNAME:EDT
DTSTART:20240310T070000
END:DAYLIGHT
BEGIN:STANDARD
TZOFFSETFROM:-0400
TZOFFSETTO:-0500
TZNAME:EST
DTSTART:20241103T060000
END:STANDARD
BEGIN:DAYLIGHT
TZOFFSETFROM:-0500
TZOFFSETTO:-0400
TZNAME:EDT
DTSTART:20250309T070000
END:DAYLIGHT
BEGIN:STANDARD
TZOFFSETFROM:-0400
TZOFFSETTO:-0500
TZNAME:EST
DTSTART:20251102T060000
END:STANDARD
BEGIN:DAYLIGHT
TZOFFSETFROM:-0500
TZOFFSETTO:-0400
TZNAME:EDT
DTSTART:20260308T070000
END:DAYLIGHT
BEGIN:STANDARD
TZOFFSETFROM:-0400
TZOFFSETTO:-0500
TZNAME:EST
DTSTART:20261101T060000
END:STANDARD
END:VTIMEZONE
BEGIN:VEVENT
DTSTART;TZID=America/Los_Angeles:20250510T090000
DTEND;TZID=America/Los_Angeles:20250510T100000
DTSTAMP:20260424T004142
CREATED:20250421T033139Z
LAST-MODIFIED:20250421T033139Z
UID:10002343-1746867600-1746871200@prisonfamiliesalliance.org
SUMMARY:(Time shown is Pacific Time - Check Your Time Zone) Lioness Moms CHAT
DESCRIPTION:9:00am PT\, 10:00am MT\, 11:00am CT\, Noon ET\nJoin us for Lioness Moms CHAT\, a support meeting tailored for mothers with incarcerated loved ones\, although others are welcome to join. Our mission is to educate\, empower\, encourage\, and support mothers and families facing challenges to their loved one’s freedom. Come connect with us – together\, we are stronger. \nClick Zoom Link:  ZOOM LINK \n 
URL:https://prisonfamiliesalliance.org/event/time-shown-is-pacific-time-check-your-time-zone-lioness-moms-chat-3/
LOCATION:Zoom
CATEGORIES:Support Group Meeting
END:VEVENT
BEGIN:VEVENT
DTSTART;TZID=America/New_York:20250510T100000
DTEND;TZID=America/New_York:20250510T110000
DTSTAMP:20260424T004142
CREATED:20250421T034055Z
LAST-MODIFIED:20250428T035715Z
UID:10002349-1746871200-1746874800@prisonfamiliesalliance.org
SUMMARY:(In Person) General Support Meeting – Westminster\, Maryland
DESCRIPTION:Join us for in-person General Support meetings\, offering compassion\, information\, and support for individuals who have had or currently have a loved one in the prison system. We understand the stress and challenges that come with this experience. Come connect with others who share insights\, perspectives\, and personal experiences. Let’s support each other through these difficult times. Please note\, this meeting is for adults only. \nThis meeting takes place at 147 Sullivan Road\, Westminster\, MD  21157. (Note: The Westminster Church of the Nazarene has graciously provided space for these PFA meetings.) \n10:00am – 11:00am East Coast Time Zone
URL:https://prisonfamiliesalliance.org/event/in-person-general-support-meeting-westminster-maryland-10/
LOCATION:Westminster First Church of the Nazerene\, 127 Sullivan Road\, Westminster\, 21157\, United States
CATEGORIES:Support Group Meeting
END:VEVENT
BEGIN:VEVENT
DTSTART;TZID=America/Los_Angeles:20250510T180000
DTEND;TZID=America/Los_Angeles:20250510T190000
DTSTAMP:20260424T004142
CREATED:20260415T164018Z
LAST-MODIFIED:20260415T164749Z
UID:10003372-1746900000-1746903600@prisonfamiliesalliance.org
SUMMARY:West States Family Support Group)
DESCRIPTION:Compassionate\, informative\, and supportive meetings for anyone who has or had a loved one in the prison system. This can be a stressful and challenging time. Join people who understand and share information\, their perspectives\, and personal experiences. This group focuses on loved ones incarcerated on the West States facilities. If you have a loved one in another state and would like to create a group email connect@PrisonFamiliesAlliance.org \nClick Zoom Link:  ZOOM LINK \n6:00pm PT
URL:https://prisonfamiliesalliance.org/event/west-states-family-support-group-6pmpt-3-2/2025-05-10/
LOCATION:Zoom
CATEGORIES:Support Group Meeting
END:VEVENT
END:VCALENDAR