BEGIN:VCALENDAR
VERSION:2.0
PRODID:-//Prison Families Alliance - ECPv6.15.20//NONSGML v1.0//EN
CALSCALE:GREGORIAN
METHOD:PUBLISH
X-ORIGINAL-URL:https://prisonfamiliesalliance.org
X-WR-CALDESC:Events for Prison Families Alliance
REFRESH-INTERVAL;VALUE=DURATION:PT1H
X-Robots-Tag:noindex
X-PUBLISHED-TTL:PT1H
BEGIN:VTIMEZONE
TZID:America/Los_Angeles
BEGIN:DAYLIGHT
TZOFFSETFROM:-0800
TZOFFSETTO:-0700
TZNAME:PDT
DTSTART:20240310T100000
END:DAYLIGHT
BEGIN:STANDARD
TZOFFSETFROM:-0700
TZOFFSETTO:-0800
TZNAME:PST
DTSTART:20241103T090000
END:STANDARD
BEGIN:DAYLIGHT
TZOFFSETFROM:-0800
TZOFFSETTO:-0700
TZNAME:PDT
DTSTART:20250309T100000
END:DAYLIGHT
BEGIN:STANDARD
TZOFFSETFROM:-0700
TZOFFSETTO:-0800
TZNAME:PST
DTSTART:20251102T090000
END:STANDARD
BEGIN:DAYLIGHT
TZOFFSETFROM:-0800
TZOFFSETTO:-0700
TZNAME:PDT
DTSTART:20260308T100000
END:DAYLIGHT
BEGIN:STANDARD
TZOFFSETFROM:-0700
TZOFFSETTO:-0800
TZNAME:PST
DTSTART:20261101T090000
END:STANDARD
END:VTIMEZONE
BEGIN:VEVENT
DTSTART;TZID=America/Los_Angeles:20250719T090000
DTEND;TZID=America/Los_Angeles:20250719T100000
DTSTAMP:20260423T213957
CREATED:20250606T165327Z
LAST-MODIFIED:20250606T165327Z
UID:10002406-1752915600-1752919200@prisonfamiliesalliance.org
SUMMARY:(Pacific Time) West Coast Family Support Group
DESCRIPTION:9:00am PT \nCompassionate\, informative\, and supportive meetings for anyone who has or had a loved one in the prison system. This can be a stressful and challenging time. Join people who understand and share information\, their perspectives\, and personal experiences. This group focuses on loved ones incarcerated on the West Coast facilities. If you have a loved one in another state and would like to create a group email connect@PrisonFamiliesAlliance.org \nClick Zoom Link:  ZOOM LINK \n9:00am
URL:https://prisonfamiliesalliance.org/event/pacific-time-west-coast-family-support-group-6/
LOCATION:Zoom
CATEGORIES:Support Group Meeting
END:VEVENT
BEGIN:VEVENT
DTSTART;TZID=America/Los_Angeles:20250719T090000
DTEND;TZID=America/Los_Angeles:20250719T100000
DTSTAMP:20260423T213957
CREATED:20250606T165445Z
LAST-MODIFIED:20250606T165445Z
UID:10002407-1752915600-1752919200@prisonfamiliesalliance.org
SUMMARY:(Time shown is Pacific Time - Check Your Time Zone) Families of Loved Ones with Long Sentences Coffee & Chat Time
DESCRIPTION:9:00am PT\, 10:00apm MT\, 11:00am CT\, Noon ET\nJoin us for PFA Families of Loved Ones with Long Sentence Coffee and Chat Time. This meeting is specifically designed for families with loved ones incarcerated with long sentences and life sentences. Maintaining a relationship with someone incarcerated for an extended period is especially challenging and life-changing. Join this compassionate\, informative\, and supportive gathering with individuals who comprehend and exchange personal experiences and information. The unique circumstances of having a loved one incarcerated for a long time or with a life sentence are best understood by those undergoing similar experiences. Join us for this special meeting – you are not alone. \nClick Zoom Link:  ZOOM LINK \n 
URL:https://prisonfamiliesalliance.org/event/time-shown-is-pacific-time-check-your-time-zone-families-of-loved-ones-with-long-sentences-coffee-chat-time-5/
LOCATION:Zoom
CATEGORIES:Support Group Meeting
END:VEVENT
END:VCALENDAR