BEGIN:VCALENDAR
VERSION:2.0
PRODID:-//Prison Families Alliance - ECPv6.15.20//NONSGML v1.0//EN
CALSCALE:GREGORIAN
METHOD:PUBLISH
X-WR-CALNAME:Prison Families Alliance
X-ORIGINAL-URL:https://prisonfamiliesalliance.org
X-WR-CALDESC:Events for Prison Families Alliance
REFRESH-INTERVAL;VALUE=DURATION:PT1H
X-Robots-Tag:noindex
X-PUBLISHED-TTL:PT1H
BEGIN:VTIMEZONE
TZID:America/Los_Angeles
BEGIN:DAYLIGHT
TZOFFSETFROM:-0800
TZOFFSETTO:-0700
TZNAME:PDT
DTSTART:20240310T100000
END:DAYLIGHT
BEGIN:STANDARD
TZOFFSETFROM:-0700
TZOFFSETTO:-0800
TZNAME:PST
DTSTART:20241103T090000
END:STANDARD
BEGIN:DAYLIGHT
TZOFFSETFROM:-0800
TZOFFSETTO:-0700
TZNAME:PDT
DTSTART:20250309T100000
END:DAYLIGHT
BEGIN:STANDARD
TZOFFSETFROM:-0700
TZOFFSETTO:-0800
TZNAME:PST
DTSTART:20251102T090000
END:STANDARD
BEGIN:DAYLIGHT
TZOFFSETFROM:-0800
TZOFFSETTO:-0700
TZNAME:PDT
DTSTART:20260308T100000
END:DAYLIGHT
BEGIN:STANDARD
TZOFFSETFROM:-0700
TZOFFSETTO:-0800
TZNAME:PST
DTSTART:20261101T090000
END:STANDARD
END:VTIMEZONE
BEGIN:VEVENT
DTSTART;TZID=America/Los_Angeles:20251001T163000
DTEND;TZID=America/Los_Angeles:20251001T173000
DTSTAMP:20260423T165023
CREATED:20250928T022519Z
LAST-MODIFIED:20250928T022519Z
UID:10002532-1759336200-1759339800@prisonfamiliesalliance.org
SUMMARY:(Time shown is Pacific Time - Check Your Time Zone) Support for Families of Loved Ones with Sex Offenses
DESCRIPTION:Time: 4:30pm PT\, 5:30pm MT\, 6:30pm CT\, 7:30pm ET​\nThe PFA Support for Families of Loved Ones with Sex Offenses provides a safe and compassionate environment uniquely designed for those whose loved ones have been convicted of sex offenses. Recognizing the profound stigma this brings\, the group helps families navigate the associated trauma and challenges. The facilitators\, who deeply understand these complexities\, address the many questions and concerns that arise from this experience. In this space\, members share their stories with dignity and respect\, cultivating a community grounded in empathy and support. \nClick Zoom Link:  ZOOM LINK \n 
URL:https://prisonfamiliesalliance.org/event/time-shown-is-pacific-time-check-your-time-zone-support-for-families-of-loved-ones-with-sex-offenses-13/
LOCATION:Zoom
CATEGORIES:Support Group Meeting
END:VEVENT
END:VCALENDAR