BEGIN:VCALENDAR
VERSION:2.0
PRODID:-//Prison Families Alliance - ECPv6.15.20//NONSGML v1.0//EN
CALSCALE:GREGORIAN
METHOD:PUBLISH
X-WR-CALNAME:Prison Families Alliance
X-ORIGINAL-URL:https://prisonfamiliesalliance.org
X-WR-CALDESC:Events for Prison Families Alliance
REFRESH-INTERVAL;VALUE=DURATION:PT1H
X-Robots-Tag:noindex
X-PUBLISHED-TTL:PT1H
BEGIN:VTIMEZONE
TZID:America/Los_Angeles
BEGIN:DAYLIGHT
TZOFFSETFROM:-0800
TZOFFSETTO:-0700
TZNAME:PDT
DTSTART:20240310T100000
END:DAYLIGHT
BEGIN:STANDARD
TZOFFSETFROM:-0700
TZOFFSETTO:-0800
TZNAME:PST
DTSTART:20241103T090000
END:STANDARD
BEGIN:DAYLIGHT
TZOFFSETFROM:-0800
TZOFFSETTO:-0700
TZNAME:PDT
DTSTART:20250309T100000
END:DAYLIGHT
BEGIN:STANDARD
TZOFFSETFROM:-0700
TZOFFSETTO:-0800
TZNAME:PST
DTSTART:20251102T090000
END:STANDARD
BEGIN:DAYLIGHT
TZOFFSETFROM:-0800
TZOFFSETTO:-0700
TZNAME:PDT
DTSTART:20260308T100000
END:DAYLIGHT
BEGIN:STANDARD
TZOFFSETFROM:-0700
TZOFFSETTO:-0800
TZNAME:PST
DTSTART:20261101T090000
END:STANDARD
END:VTIMEZONE
BEGIN:VTIMEZONE
TZID:America/New_York
BEGIN:DAYLIGHT
TZOFFSETFROM:-0500
TZOFFSETTO:-0400
TZNAME:EDT
DTSTART:20240310T070000
END:DAYLIGHT
BEGIN:STANDARD
TZOFFSETFROM:-0400
TZOFFSETTO:-0500
TZNAME:EST
DTSTART:20241103T060000
END:STANDARD
BEGIN:DAYLIGHT
TZOFFSETFROM:-0500
TZOFFSETTO:-0400
TZNAME:EDT
DTSTART:20250309T070000
END:DAYLIGHT
BEGIN:STANDARD
TZOFFSETFROM:-0400
TZOFFSETTO:-0500
TZNAME:EST
DTSTART:20251102T060000
END:STANDARD
BEGIN:DAYLIGHT
TZOFFSETFROM:-0500
TZOFFSETTO:-0400
TZNAME:EDT
DTSTART:20260308T070000
END:DAYLIGHT
BEGIN:STANDARD
TZOFFSETFROM:-0400
TZOFFSETTO:-0500
TZNAME:EST
DTSTART:20261101T060000
END:STANDARD
END:VTIMEZONE
BEGIN:VEVENT
DTSTART;TZID=America/Los_Angeles:20251111T180000
DTEND;TZID=America/Los_Angeles:20251111T190000
DTSTAMP:20260423T154353
CREATED:20251020T005715Z
LAST-MODIFIED:20251020T005715Z
UID:10002554-1762884000-1762887600@prisonfamiliesalliance.org
SUMMARY:West States Family Support Group (6pmPT)
DESCRIPTION:Compassionate\, informative\, and supportive meetings for anyone who has or had a loved one in the prison system. This can be a stressful and challenging time. Join people who understand and share information\, their perspectives\, and personal experiences. This group focuses on loved ones incarcerated on the West States facilities. If you have a loved one in another state and would like to create a group email connect@PrisonFamiliesAlliance.org \nClick Zoom Link:  ZOOM LINK \n6:00pm PT
URL:https://prisonfamiliesalliance.org/event/west-states-family-support-group-6pmpt/
LOCATION:Zoom
CATEGORIES:Support Group Meeting
END:VEVENT
BEGIN:VEVENT
DTSTART;TZID=America/Los_Angeles:20251111T180000
DTEND;TZID=America/Los_Angeles:20251111T190000
DTSTAMP:20260423T154353
CREATED:20251128T233347Z
LAST-MODIFIED:20260317T051654Z
UID:10003286-1762884000-1762887600@prisonfamiliesalliance.org
SUMMARY:(Canada) General Support Meeting
DESCRIPTION:6:00pm PT\, 7:00pm MT\, 8:00pm CT\, 9:00pm ET\nThe PFA General Support meetings support our Canadian families and provides a compassionate and safe space for individuals who have a loved one in the prison system. Recognizing the inherent challenges and stress that come with this experience\, we offer a platform for sharing information\, perspectives\, and personal experiences. Join us to connect with others who understand and navigate this journey with empathy and insight. Nobody needs to go through their journey alone; support is here. \nClick Zoom Link:  ZOOM LINK \n 
URL:https://prisonfamiliesalliance.org/event/canada-general-support-meeting-13/2025-11-11/
LOCATION:Zoom
CATEGORIES:Support Group Meeting
END:VEVENT
BEGIN:VEVENT
DTSTART;TZID=America/New_York:20251111T183000
DTEND;TZID=America/New_York:20251111T193000
DTSTAMP:20260423T154353
CREATED:20251020T005856Z
LAST-MODIFIED:20251020T005938Z
UID:10002556-1762885800-1762889400@prisonfamiliesalliance.org
SUMMARY:(In Person) General Support Meeting – Sandusky\, Ohio (6:30pm ET)
DESCRIPTION:Join us for in-person General Support meetings\, offering compassion\, information\, and support for individuals who have had or currently have a loved one in the prison system. We understand the stress and challenges that come with this experience. Come connect with others who share insights\, perspectives\, and personal experiences. Let’s support each other through these difficult times. Please note\, this meeting is for adults only. \nThis meeting takes place at 4444 Galloway Road\, Sandusky\, OH 44870. (Note: The Chapel has graciously provided space for these meetings.) \n6:30pm – 7:30pm East Coast Time Zone \n 
URL:https://prisonfamiliesalliance.org/event/in-person-general-support-meeting-sandusky-ohio-630pm-et-9/
LOCATION:The Chapel\, 4444 Galloway Road\, \, Sandusky\, OH\, 44870
CATEGORIES:Support Group Meeting
END:VEVENT
END:VCALENDAR