BEGIN:VCALENDAR
VERSION:2.0
PRODID:-//Prison Families Alliance - ECPv6.15.20//NONSGML v1.0//EN
CALSCALE:GREGORIAN
METHOD:PUBLISH
X-WR-CALNAME:Prison Families Alliance
X-ORIGINAL-URL:https://prisonfamiliesalliance.org
X-WR-CALDESC:Events for Prison Families Alliance
REFRESH-INTERVAL;VALUE=DURATION:PT1H
X-Robots-Tag:noindex
X-PUBLISHED-TTL:PT1H
BEGIN:VTIMEZONE
TZID:America/Los_Angeles
BEGIN:DAYLIGHT
TZOFFSETFROM:-0800
TZOFFSETTO:-0700
TZNAME:PDT
DTSTART:20240310T100000
END:DAYLIGHT
BEGIN:STANDARD
TZOFFSETFROM:-0700
TZOFFSETTO:-0800
TZNAME:PST
DTSTART:20241103T090000
END:STANDARD
BEGIN:DAYLIGHT
TZOFFSETFROM:-0800
TZOFFSETTO:-0700
TZNAME:PDT
DTSTART:20250309T100000
END:DAYLIGHT
BEGIN:STANDARD
TZOFFSETFROM:-0700
TZOFFSETTO:-0800
TZNAME:PST
DTSTART:20251102T090000
END:STANDARD
BEGIN:DAYLIGHT
TZOFFSETFROM:-0800
TZOFFSETTO:-0700
TZNAME:PDT
DTSTART:20260308T100000
END:DAYLIGHT
BEGIN:STANDARD
TZOFFSETFROM:-0700
TZOFFSETTO:-0800
TZNAME:PST
DTSTART:20261101T090000
END:STANDARD
END:VTIMEZONE
BEGIN:VEVENT
DTSTART;TZID=America/Los_Angeles:20251125T163000
DTEND;TZID=America/Los_Angeles:20251125T173000
DTSTAMP:20260423T153454
CREATED:20251020T002029Z
LAST-MODIFIED:20251020T002029Z
UID:10002537-1764088200-1764091800@prisonfamiliesalliance.org
SUMMARY:Support for Siblings (Check Your Time Zone)
DESCRIPTION:4:30pm PT | 5:30pm MT | 6:30pm CT | 7:30pm ET\nThe PFA Support Group for Siblings with an incarcerated brother or sister provides a vital space for individuals who have experienced or are currently experiencing having a sibling in the carceral system. Often overlooked\, the impact on siblings can be profound. Most people do not consider the impact of incarceration to siblings and the special bond they have\, especially when they grow up together. Join us to connect with others who understand firsthand\, offer mutual support\, and exchange valuable information in a compassionate and understanding environment. \nClick Zoom Link: ZOOM LINK \n 
URL:https://prisonfamiliesalliance.org/event/support-for-siblings-check-your-time-zone-2/
LOCATION:Zoom
CATEGORIES:Support Group Meeting
END:VEVENT
BEGIN:VEVENT
DTSTART;TZID=America/Los_Angeles:20251125T180000
DTEND;TZID=America/Los_Angeles:20251125T190000
DTSTAMP:20260423T153454
CREATED:20251105T013203Z
LAST-MODIFIED:20251105T013203Z
UID:10002560-1764093600-1764097200@prisonfamiliesalliance.org
SUMMARY:(Canada) General Support Meeting
DESCRIPTION:6:00pm PT\, 7:00pm MT\, 8:00pm CT\, 9:00pm ET\nThe PFA General Support meetings support our Canadian families and provides a compassionate and safe space for individuals who have a loved one in the prison system. Recognizing the inherent challenges and stress that come with this experience\, we offer a platform for sharing information\, perspectives\, and personal experiences. Join us to connect with others who understand and navigate this journey with empathy and insight. Nobody needs to go through their journey alone; support is here. \nClick Zoom Link:  ZOOM LINK \n 
URL:https://prisonfamiliesalliance.org/event/canada-general-support-meeting-12/
LOCATION:Zoom
CATEGORIES:Support Group Meeting
END:VEVENT
BEGIN:VEVENT
DTSTART;TZID=America/Los_Angeles:20251125T180000
DTEND;TZID=America/Los_Angeles:20251125T190000
DTSTAMP:20260423T153454
CREATED:20251128T233347Z
LAST-MODIFIED:20260317T051654Z
UID:10003247-1764093600-1764097200@prisonfamiliesalliance.org
SUMMARY:(Canada) General Support Meeting
DESCRIPTION:6:00pm PT\, 7:00pm MT\, 8:00pm CT\, 9:00pm ET\nThe PFA General Support meetings support our Canadian families and provides a compassionate and safe space for individuals who have a loved one in the prison system. Recognizing the inherent challenges and stress that come with this experience\, we offer a platform for sharing information\, perspectives\, and personal experiences. Join us to connect with others who understand and navigate this journey with empathy and insight. Nobody needs to go through their journey alone; support is here. \nClick Zoom Link:  ZOOM LINK \n 
URL:https://prisonfamiliesalliance.org/event/canada-general-support-meeting-13/2025-11-25/
LOCATION:Zoom
CATEGORIES:Support Group Meeting
END:VEVENT
BEGIN:VEVENT
DTSTART;TZID=America/Los_Angeles:20251125T190000
DTEND;TZID=America/Los_Angeles:20251125T200000
DTSTAMP:20260423T153454
CREATED:20251020T001942Z
LAST-MODIFIED:20251124T154002Z
UID:10002536-1764097200-1764100800@prisonfamiliesalliance.org
SUMMARY:(NO MEETING) General Support Meeting – Central Islip\, New York (7PM ET)
DESCRIPTION:Due to Holidays the November and December in-person meetings are cancelled. Attend one of the online support meetings – https://PrisonFamiliesAlliance.org/calendar \nThis PFA General Support meeting is in person and provides a compassionate and supportive space for individuals who have a loved one in the carceral system. Recognizing the inherent challenges and stress that come with this experience\, we offer a platform for sharing information\, perspectives\, and personal experiences. Join us to connect with others who understand and navigate this journey with empathy and insight. We look forward to welcoming you and building a supportive network together. \n7:00 ET – Touro Law School\, Public Advocacy Center (PAC)\, 225 Eastview Dr.\, Central Islip\, NY \n 
URL:https://prisonfamiliesalliance.org/event/in-person-general-support-meeting-central-islip-new-york-7pm-et-17/
LOCATION:Touro Law School\, 225 Eastview Dr.\, Central Islip\, New York\, 11722
CATEGORIES:Support Group Meeting
END:VEVENT
END:VCALENDAR