BEGIN:VCALENDAR
VERSION:2.0
PRODID:-//Prison Families Alliance - ECPv6.15.20//NONSGML v1.0//EN
CALSCALE:GREGORIAN
METHOD:PUBLISH
X-ORIGINAL-URL:https://prisonfamiliesalliance.org
X-WR-CALDESC:Events for Prison Families Alliance
REFRESH-INTERVAL;VALUE=DURATION:PT1H
X-Robots-Tag:noindex
X-PUBLISHED-TTL:PT1H
BEGIN:VTIMEZONE
TZID:America/Los_Angeles
BEGIN:DAYLIGHT
TZOFFSETFROM:-0800
TZOFFSETTO:-0700
TZNAME:PDT
DTSTART:20240310T100000
END:DAYLIGHT
BEGIN:STANDARD
TZOFFSETFROM:-0700
TZOFFSETTO:-0800
TZNAME:PST
DTSTART:20241103T090000
END:STANDARD
BEGIN:DAYLIGHT
TZOFFSETFROM:-0800
TZOFFSETTO:-0700
TZNAME:PDT
DTSTART:20250309T100000
END:DAYLIGHT
BEGIN:STANDARD
TZOFFSETFROM:-0700
TZOFFSETTO:-0800
TZNAME:PST
DTSTART:20251102T090000
END:STANDARD
BEGIN:DAYLIGHT
TZOFFSETFROM:-0800
TZOFFSETTO:-0700
TZNAME:PDT
DTSTART:20260308T100000
END:DAYLIGHT
BEGIN:STANDARD
TZOFFSETFROM:-0700
TZOFFSETTO:-0800
TZNAME:PST
DTSTART:20261101T090000
END:STANDARD
END:VTIMEZONE
BEGIN:VEVENT
DTSTART;TZID=America/Los_Angeles:20251127T163000
DTEND;TZID=America/Los_Angeles:20251127T173000
DTSTAMP:20260423T154449
CREATED:20251020T003227Z
LAST-MODIFIED:20251027T031656Z
UID:10002549-1764261000-1764264600@prisonfamiliesalliance.org
SUMMARY:Support for Spouses and Partners (Check Your Time Zone)
DESCRIPTION:4:30pm PT\, 5:30pm MT\, 6:30pm CT\, 7:30pm ET\nThe PFA Support for Spouses and Partners meeting caters specifically to spouses and partners who encounter numerous challenges\, from emotional strain to academic and employment hurdles\, and economic hardship while their loved one is in the carceral system. This specialized group provides a robust support system to navigate these challenges\, offering understanding of the unique family dynamics involved. Join us as we come together to overcome obstacles and provide mutual support in the journey ahead. \nClick Zoom Link:  ZOOM LINK
URL:https://prisonfamiliesalliance.org/event/no-meeting-on-holiday-support-for-spouses-and-partners-check-your-time-zone/
LOCATION:Zoom
CATEGORIES:Support Group Meeting
END:VEVENT
END:VCALENDAR