BEGIN:VCALENDAR
VERSION:2.0
PRODID:-//Prison Families Alliance - ECPv6.15.20//NONSGML v1.0//EN
CALSCALE:GREGORIAN
METHOD:PUBLISH
X-WR-CALNAME:Prison Families Alliance
X-ORIGINAL-URL:https://prisonfamiliesalliance.org
X-WR-CALDESC:Events for Prison Families Alliance
REFRESH-INTERVAL;VALUE=DURATION:PT1H
X-Robots-Tag:noindex
X-PUBLISHED-TTL:PT1H
BEGIN:VTIMEZONE
TZID:America/Los_Angeles
BEGIN:DAYLIGHT
TZOFFSETFROM:-0800
TZOFFSETTO:-0700
TZNAME:PDT
DTSTART:20240310T100000
END:DAYLIGHT
BEGIN:STANDARD
TZOFFSETFROM:-0700
TZOFFSETTO:-0800
TZNAME:PST
DTSTART:20241103T090000
END:STANDARD
BEGIN:DAYLIGHT
TZOFFSETFROM:-0800
TZOFFSETTO:-0700
TZNAME:PDT
DTSTART:20250309T100000
END:DAYLIGHT
BEGIN:STANDARD
TZOFFSETFROM:-0700
TZOFFSETTO:-0800
TZNAME:PST
DTSTART:20251102T090000
END:STANDARD
BEGIN:DAYLIGHT
TZOFFSETFROM:-0800
TZOFFSETTO:-0700
TZNAME:PDT
DTSTART:20260308T100000
END:DAYLIGHT
BEGIN:STANDARD
TZOFFSETFROM:-0700
TZOFFSETTO:-0800
TZNAME:PST
DTSTART:20261101T090000
END:STANDARD
END:VTIMEZONE
BEGIN:VTIMEZONE
TZID:America/New_York
BEGIN:DAYLIGHT
TZOFFSETFROM:-0500
TZOFFSETTO:-0400
TZNAME:EDT
DTSTART:20240310T070000
END:DAYLIGHT
BEGIN:STANDARD
TZOFFSETFROM:-0400
TZOFFSETTO:-0500
TZNAME:EST
DTSTART:20241103T060000
END:STANDARD
BEGIN:DAYLIGHT
TZOFFSETFROM:-0500
TZOFFSETTO:-0400
TZNAME:EDT
DTSTART:20250309T070000
END:DAYLIGHT
BEGIN:STANDARD
TZOFFSETFROM:-0400
TZOFFSETTO:-0500
TZNAME:EST
DTSTART:20251102T060000
END:STANDARD
BEGIN:DAYLIGHT
TZOFFSETFROM:-0500
TZOFFSETTO:-0400
TZNAME:EDT
DTSTART:20260308T070000
END:DAYLIGHT
BEGIN:STANDARD
TZOFFSETFROM:-0400
TZOFFSETTO:-0500
TZNAME:EST
DTSTART:20261101T060000
END:STANDARD
END:VTIMEZONE
BEGIN:VTIMEZONE
TZID:America/Chicago
BEGIN:DAYLIGHT
TZOFFSETFROM:-0600
TZOFFSETTO:-0500
TZNAME:CDT
DTSTART:20240310T080000
END:DAYLIGHT
BEGIN:STANDARD
TZOFFSETFROM:-0500
TZOFFSETTO:-0600
TZNAME:CST
DTSTART:20241103T070000
END:STANDARD
BEGIN:DAYLIGHT
TZOFFSETFROM:-0600
TZOFFSETTO:-0500
TZNAME:CDT
DTSTART:20250309T080000
END:DAYLIGHT
BEGIN:STANDARD
TZOFFSETFROM:-0500
TZOFFSETTO:-0600
TZNAME:CST
DTSTART:20251102T070000
END:STANDARD
BEGIN:DAYLIGHT
TZOFFSETFROM:-0600
TZOFFSETTO:-0500
TZNAME:CDT
DTSTART:20260308T080000
END:DAYLIGHT
BEGIN:STANDARD
TZOFFSETFROM:-0500
TZOFFSETTO:-0600
TZNAME:CST
DTSTART:20261101T070000
END:STANDARD
END:VTIMEZONE
BEGIN:VEVENT
DTSTART;TZID=America/Los_Angeles:20251213T090000
DTEND;TZID=America/Los_Angeles:20251213T100000
DTSTAMP:20260423T140644
CREATED:20251123T053239Z
LAST-MODIFIED:20251123T053239Z
UID:10002567-1765616400-1765620000@prisonfamiliesalliance.org
SUMMARY:Lioness Moms CHAT (Check Your Time Zone)
DESCRIPTION:9:00am PT\, 10:00am MT\, 11:00am CT\, Noon ET\nJoin us for Lioness Moms CHAT\, a support meeting tailored for mothers with incarcerated loved ones\, although others are welcome to join. Our mission is to educate\, empower\, encourage\, and support mothers and families facing challenges to their loved one’s freedom. Come connect with us – together\, we are stronger. \nClick Zoom Link:  ZOOM LINK \n 
URL:https://prisonfamiliesalliance.org/event/lioness-moms-chat-check-your-time-zone-3/
LOCATION:Zoom
CATEGORIES:Support Group Meeting
END:VEVENT
BEGIN:VEVENT
DTSTART;TZID=America/New_York:20251213T100000
DTEND;TZID=America/New_York:20251213T110000
DTSTAMP:20260423T140644
CREATED:20251123T192207Z
LAST-MODIFIED:20251123T192207Z
UID:10002574-1765620000-1765623600@prisonfamiliesalliance.org
SUMMARY:General Support Meeting – Sykesville\, Maryland (10am ET)
DESCRIPTION:Join us AT OUR NEW LOCATION for in-person General Support meetings\, offering compassion\, information\, and support for individuals who have had or currently have a loved one in the prison system. We understand the stress and challenges that come with this experience. Come connect with others who share insights\, perspectives\, and personal experiences. Let’s support each other through these difficult times. Please note\, this meeting is for adults only. \nThis meeting takes place at 351 Liberty Rd.\, Sykesville\, MD  21784. (Note: The South Carroll Church of the Nazarene has graciously provided space for these PFA meetings.) \n10:00am – 11:00am East Coast Time Zone
URL:https://prisonfamiliesalliance.org/event/general-support-meeting-sykesville-maryland-10am-et-3/
LOCATION:Westminster First Church of the Nazerene\, 127 Sullivan Road\, Westminster\, 21157\, United States
CATEGORIES:Support Group Meeting
END:VEVENT
BEGIN:VEVENT
DTSTART;TZID=America/Chicago:20251213T100000
DTEND;TZID=America/Chicago:20251213T230000
DTSTAMP:20260423T140644
CREATED:20251123T231513Z
LAST-MODIFIED:20251123T231513Z
UID:10002600-1765620000-1765666800@prisonfamiliesalliance.org
SUMMARY:(In Person) General Support Meeting for Women – Lincoln\, Nebraska (10 CT)
DESCRIPTION:This PFA General Support with WII (Women Impacted by Incarceration) meeting is in person and provides a compassionate and supportive space for women who have a loved one in the carceral system. Recognizing the inherent challenges and stress that come with this experience\, we offer a platform for sharing information\, perspectives\, and personal experiences. Join us to connect with others who understand and navigate this journey with empathy and insight. We look forward to welcoming you and building a supportive network together. \n10am CT – 5530 O Street\, Ste. 3 (Inside the Wellbeing Initiative Building\, Door #4\, Support Group Room) \n 
URL:https://prisonfamiliesalliance.org/event/in-person-general-support-meeting-for-women-lincoln-nebraska-10-ct-4/
LOCATION:Wellbeing Initiative Building\, 5530 O Street\, Ste. 3\, Lincoln\, NE\, United States
CATEGORIES:Support Group Meeting
END:VEVENT
END:VCALENDAR