BEGIN:VCALENDAR
VERSION:2.0
PRODID:-//Prison Families Alliance - ECPv6.15.20//NONSGML v1.0//EN
CALSCALE:GREGORIAN
METHOD:PUBLISH
X-WR-CALNAME:Prison Families Alliance
X-ORIGINAL-URL:https://prisonfamiliesalliance.org
X-WR-CALDESC:Events for Prison Families Alliance
REFRESH-INTERVAL;VALUE=DURATION:PT1H
X-Robots-Tag:noindex
X-PUBLISHED-TTL:PT1H
BEGIN:VTIMEZONE
TZID:America/Los_Angeles
BEGIN:DAYLIGHT
TZOFFSETFROM:-0800
TZOFFSETTO:-0700
TZNAME:PDT
DTSTART:20250309T100000
END:DAYLIGHT
BEGIN:STANDARD
TZOFFSETFROM:-0700
TZOFFSETTO:-0800
TZNAME:PST
DTSTART:20251102T090000
END:STANDARD
BEGIN:DAYLIGHT
TZOFFSETFROM:-0800
TZOFFSETTO:-0700
TZNAME:PDT
DTSTART:20260308T100000
END:DAYLIGHT
BEGIN:STANDARD
TZOFFSETFROM:-0700
TZOFFSETTO:-0800
TZNAME:PST
DTSTART:20261101T090000
END:STANDARD
BEGIN:DAYLIGHT
TZOFFSETFROM:-0800
TZOFFSETTO:-0700
TZNAME:PDT
DTSTART:20270314T100000
END:DAYLIGHT
BEGIN:STANDARD
TZOFFSETFROM:-0700
TZOFFSETTO:-0800
TZNAME:PST
DTSTART:20271107T090000
END:STANDARD
END:VTIMEZONE
BEGIN:VTIMEZONE
TZID:America/New_York
BEGIN:DAYLIGHT
TZOFFSETFROM:-0500
TZOFFSETTO:-0400
TZNAME:EDT
DTSTART:20250309T070000
END:DAYLIGHT
BEGIN:STANDARD
TZOFFSETFROM:-0400
TZOFFSETTO:-0500
TZNAME:EST
DTSTART:20251102T060000
END:STANDARD
BEGIN:DAYLIGHT
TZOFFSETFROM:-0500
TZOFFSETTO:-0400
TZNAME:EDT
DTSTART:20260308T070000
END:DAYLIGHT
BEGIN:STANDARD
TZOFFSETFROM:-0400
TZOFFSETTO:-0500
TZNAME:EST
DTSTART:20261101T060000
END:STANDARD
BEGIN:DAYLIGHT
TZOFFSETFROM:-0500
TZOFFSETTO:-0400
TZNAME:EDT
DTSTART:20270314T070000
END:DAYLIGHT
BEGIN:STANDARD
TZOFFSETFROM:-0400
TZOFFSETTO:-0500
TZNAME:EST
DTSTART:20271107T060000
END:STANDARD
END:VTIMEZONE
BEGIN:VEVENT
DTSTART;TZID=America/Los_Angeles:20260423T150000
DTEND;TZID=America/Los_Angeles:20260423T160000
DTSTAMP:20260423T064652
CREATED:20251129T033734Z
LAST-MODIFIED:20251129T033734Z
UID:10002964-1776956400-1776960000@prisonfamiliesalliance.org
SUMMARY:Returning Citizens Meeting (Check your TimeZone)
DESCRIPTION:3:00 PT | 4:00 MT | 5:00 CT | 6:00 ET \nThis meeting is for PFA Families’ loved ones who are returning from prison or jail to the community.  These are our Returning Citizens.  This meeting will be limited to people who have formerly been incarcerated. \nJoin us for a support meeting exclusively for individuals who have experienced incarceration. This is a safe\, welcoming space to share\, listen\, and connect with others who understand the unique challenges of reentry. Come as you are—no judgment\, just support. \nClick Zoom Link: Zoom Link \n3:00 PT | 4:00 MT | 5:00 CT | 6:00 ET \n 
URL:https://prisonfamiliesalliance.org/event/returning-citizens-meeting-check-your-timezone-4/2026-04-23/
LOCATION:Foundation for Recovery\, 4800 Alpine Place\, Las Vegas\, NV\, 89018\, United States
CATEGORIES:Support Group Meeting
END:VEVENT
BEGIN:VEVENT
DTSTART;TZID=America/Los_Angeles:20260423T163000
DTEND;TZID=America/Los_Angeles:20260423T173000
DTSTAMP:20260423T064652
CREATED:20251129T044158Z
LAST-MODIFIED:20251129T044158Z
UID:10003015-1776961800-1776965400@prisonfamiliesalliance.org
SUMMARY:Support for Spouses and Partners (Check Your Time Zone)
DESCRIPTION:4:30pm PT\, 5:30pm MT\, 6:30pm CT\, 7:30pm ET\nThe PFA Support for Spouses and Partners meeting caters specifically to spouses and partners who encounter numerous challenges\, from emotional strain to academic and employment hurdles\, and economic hardship while their loved one is in the carceral system. This specialized group provides a robust support system to navigate these challenges\, offering understanding of the unique family dynamics involved. Join us as we come together to overcome obstacles and provide mutual support in the journey ahead. \nClick Zoom Link:  ZOOM LINK
URL:https://prisonfamiliesalliance.org/event/support-for-spouses-and-partners-check-your-time-zone-7/2026-04-23/
LOCATION:Zoom
CATEGORIES:Support Group Meeting
END:VEVENT
BEGIN:VEVENT
DTSTART;TZID=America/Los_Angeles:20260428T163000
DTEND;TZID=America/Los_Angeles:20260428T173000
DTSTAMP:20260423T064652
CREATED:20251128T204245Z
LAST-MODIFIED:20251128T204245Z
UID:10002778-1777393800-1777397400@prisonfamiliesalliance.org
SUMMARY:Support for Siblings (Check Your Time Zone)
DESCRIPTION:4:30pm PT | 5:30pm MT | 6:30pm CT | 7:30pm ET\nThe PFA Support Group for Siblings with an incarcerated brother or sister provides a vital space for individuals who have experienced or are currently experiencing having a sibling in the carceral system. Often overlooked\, the impact on siblings can be profound. Most people do not consider the impact of incarceration to siblings and the special bond they have\, especially when they grow up together. Join us to connect with others who understand firsthand\, offer mutual support\, and exchange valuable information in a compassionate and understanding environment. \nClick Zoom Link: ZOOM LINK \n 
URL:https://prisonfamiliesalliance.org/event/support-for-siblings-check-your-time-zone-4/2026-04-28/
LOCATION:Zoom
CATEGORIES:Support Group Meeting
END:VEVENT
BEGIN:VEVENT
DTSTART;TZID=America/New_York:20260428T190000
DTEND;TZID=America/New_York:20260428T200000
DTSTAMP:20260423T064652
CREATED:20251128T221001Z
LAST-MODIFIED:20251128T222457Z
UID:10002830-1777402800-1777406400@prisonfamiliesalliance.org
SUMMARY:General Support Meeting – Central Islip\, New York (7PM ET)
DESCRIPTION:This PFA General Support meeting is in person and provides a compassionate and supportive space for individuals who have a loved one in the carceral system. Recognizing the inherent challenges and stress that come with this experience\, we offer a platform for sharing information\, perspectives\, and personal experiences. Join us to connect with others who understand and navigate this journey with empathy and insight. We look forward to welcoming you and building a supportive network together. \n7:00 ET – Touro Law School\, Public Advocacy Center (PAC)\, 225 Eastview Dr.\, Central Islip\, NY \n 
URL:https://prisonfamiliesalliance.org/event/no-meeting-general-support-meeting-central-islip-new-york-7pm-et-3/2026-04-28/
LOCATION:Touro Law School\, 225 Eastview Dr.\, Central Islip\, New York\, 11722
CATEGORIES:Support Group Meeting
END:VEVENT
END:VCALENDAR