BEGIN:VCALENDAR
VERSION:2.0
PRODID:-//Prison Families Alliance - ECPv6.15.20//NONSGML v1.0//EN
CALSCALE:GREGORIAN
METHOD:PUBLISH
X-ORIGINAL-URL:https://prisonfamiliesalliance.org
X-WR-CALDESC:Events for Prison Families Alliance
REFRESH-INTERVAL;VALUE=DURATION:PT1H
X-Robots-Tag:noindex
X-PUBLISHED-TTL:PT1H
BEGIN:VTIMEZONE
TZID:America/Los_Angeles
BEGIN:DAYLIGHT
TZOFFSETFROM:-0800
TZOFFSETTO:-0700
TZNAME:PDT
DTSTART:20230312T100000
END:DAYLIGHT
BEGIN:STANDARD
TZOFFSETFROM:-0700
TZOFFSETTO:-0800
TZNAME:PST
DTSTART:20231105T090000
END:STANDARD
BEGIN:DAYLIGHT
TZOFFSETFROM:-0800
TZOFFSETTO:-0700
TZNAME:PDT
DTSTART:20240310T100000
END:DAYLIGHT
BEGIN:STANDARD
TZOFFSETFROM:-0700
TZOFFSETTO:-0800
TZNAME:PST
DTSTART:20241103T090000
END:STANDARD
BEGIN:DAYLIGHT
TZOFFSETFROM:-0800
TZOFFSETTO:-0700
TZNAME:PDT
DTSTART:20250309T100000
END:DAYLIGHT
BEGIN:STANDARD
TZOFFSETFROM:-0700
TZOFFSETTO:-0800
TZNAME:PST
DTSTART:20251102T090000
END:STANDARD
END:VTIMEZONE
BEGIN:VEVENT
DTSTART;TZID=America/Los_Angeles:20240307T180000
DTEND;TZID=America/Los_Angeles:20240307T190000
DTSTAMP:20260425T180904
CREATED:20240203T061300Z
LAST-MODIFIED:20240203T061300Z
UID:10001992-1709834400-1709838000@prisonfamiliesalliance.org
SUMMARY:PFA CARES Meeting in Person\, Las Vegas\, NV
DESCRIPTION:PFA CARES Meeting in Person\, Las Vegas\, NV\nPFA CARES (Community\, Advocacy\, Resources\, Education\, Support)\nAll adults and youth who have or had a loved one in the criminal justice system are invited to share a light meal and a compassionate\, caring\, and supportive meeting. All youth must be accompanied by an adult. \nRegister here:  link \n6:00pm – 7:00pm Pacific Timezone
URL:https://prisonfamiliesalliance.org/event/pfa-cares-meeting-in-person-las-vegas-nv-29/
LOCATION:Foundation for Recovery\, 4800 Alpine Place\, Las Vegas\, NV\, 89018\, United States
CATEGORIES:Group Meeting
END:VEVENT
BEGIN:VEVENT
DTSTART;TZID=America/Los_Angeles:20240314T180000
DTEND;TZID=America/Los_Angeles:20240314T190000
DTSTAMP:20260425T180904
CREATED:20240203T061354Z
LAST-MODIFIED:20240203T061354Z
UID:10001993-1710439200-1710442800@prisonfamiliesalliance.org
SUMMARY:PFA CARES Meeting in Person\, Las Vegas\, NV
DESCRIPTION:PFA CARES (Community\, Advocacy\, Resources\, Education\, Support)\nAll adults and youth who have or had a loved one in the criminal justice system are invited to share a light meal and a compassionate\, caring\, and supportive meeting. All youth must be accompanied by an adult. \nRegister here:  link \n6:00pm – 7:00pm Pacific Timezone
URL:https://prisonfamiliesalliance.org/event/pfa-cares-meeting-in-person-las-vegas-nv-30/
LOCATION:Foundation for Recovery\, 4800 Alpine Place\, Las Vegas\, NV\, 89018\, United States
CATEGORIES:Group Meeting
END:VEVENT
BEGIN:VEVENT
DTSTART;TZID=America/Los_Angeles:20240321T180000
DTEND;TZID=America/Los_Angeles:20240321T190000
DTSTAMP:20260425T180904
CREATED:20240219T065901Z
LAST-MODIFIED:20240219T065901Z
UID:10001995-1711044000-1711047600@prisonfamiliesalliance.org
SUMMARY:PFA CARES Meeting in Person\, Las Vegas\, NV
DESCRIPTION:PFA CARES (Community\, Advocacy\, Resources\, Education\, Support)\nAll adults and youth who have or had a loved one in the criminal justice system are invited to share a light meal and a compassionate\, caring\, and supportive meeting. All youth must be accompanied by an adult. \nRegister here:  link \n6:00pm – 7:00pm Pacific Timezone
URL:https://prisonfamiliesalliance.org/event/pfa-cares-meeting-in-person-las-vegas-nv-31/
LOCATION:Foundation for Recovery\, 4800 Alpine Place\, Las Vegas\, NV\, 89018\, United States
CATEGORIES:Group Meeting
END:VEVENT
BEGIN:VEVENT
DTSTART;TZID=America/Los_Angeles:20240325T170000
DTEND;TZID=America/Los_Angeles:20240325T180000
DTSTAMP:20260425T180904
CREATED:20240219T071837Z
LAST-MODIFIED:20240219T074721Z
UID:10002004-1711386000-1711389600@prisonfamiliesalliance.org
SUMMARY:Check Your Time Zone) Unlocking Your Story: No Rules\, Just Write
DESCRIPTION:Discover the healing power of storytelling in ‘Unlocking Your Story: No Rules\, Just Write.’ This is not your typical writing meeting; it’s an opportunity to delve into your thoughts\, feelings\, and experiences without any instructional or structural boundaries. Let your creativity flow freely as you explore the power of your own narrative. This is a safe\, nonjudgmental space where you can unlock your personal narrative\, finding solace and strength in your words. Whether you’re an experienced writer or someone exploring the world of self-expression\, this event is open to all PFA family members. You write on your own and bring your stories\, feelings\, and experiences to the meeting. Together\, we’ll navigate the journey of healing through storytelling. \nNOTE:  This forum is for sharing and all writing will be done outside of the meetings. \nClick Zoom Link: ZOOM LINK \n5:00pm PT | 6:00pm MT | 7:00pm CT | 8:00pm ET
URL:https://prisonfamiliesalliance.org/event/check-your-time-zone-unlocking-your-story-no-rules-just-write-7/
LOCATION:Zoom
CATEGORIES:Group Meeting
END:VEVENT
BEGIN:VEVENT
DTSTART;TZID=America/Los_Angeles:20240328T180000
DTEND;TZID=America/Los_Angeles:20240328T190000
DTSTAMP:20260425T180904
CREATED:20240219T071001Z
LAST-MODIFIED:20240219T071001Z
UID:10002000-1711648800-1711652400@prisonfamiliesalliance.org
SUMMARY:PFA CARES Meeting in Person\, Las Vegas\, NV
DESCRIPTION:PFA CARES (Community\, Advocacy\, Resources\, Education\, Support)\nAll adults and youth who have or had a loved one in the criminal justice system are invited to share a light meal and a compassionate\, caring\, and supportive meeting. All youth must be accompanied by an adult. \nRegister here:  link \n6:00pm – 7:00pm Pacific Timezone
URL:https://prisonfamiliesalliance.org/event/pfa-cares-meeting-in-person-las-vegas-nv-32/
LOCATION:Foundation for Recovery\, 4800 Alpine Place\, Las Vegas\, NV\, 89018\, United States
CATEGORIES:Group Meeting
END:VEVENT
END:VCALENDAR