BEGIN:VCALENDAR
VERSION:2.0
PRODID:-//Prison Families Alliance - ECPv6.15.20//NONSGML v1.0//EN
CALSCALE:GREGORIAN
METHOD:PUBLISH
X-ORIGINAL-URL:https://prisonfamiliesalliance.org
X-WR-CALDESC:Events for Prison Families Alliance
REFRESH-INTERVAL;VALUE=DURATION:PT1H
X-Robots-Tag:noindex
X-PUBLISHED-TTL:PT1H
BEGIN:VTIMEZONE
TZID:America/Los_Angeles
BEGIN:DAYLIGHT
TZOFFSETFROM:-0800
TZOFFSETTO:-0700
TZNAME:PDT
DTSTART:20230312T100000
END:DAYLIGHT
BEGIN:STANDARD
TZOFFSETFROM:-0700
TZOFFSETTO:-0800
TZNAME:PST
DTSTART:20231105T090000
END:STANDARD
BEGIN:DAYLIGHT
TZOFFSETFROM:-0800
TZOFFSETTO:-0700
TZNAME:PDT
DTSTART:20240310T100000
END:DAYLIGHT
BEGIN:STANDARD
TZOFFSETFROM:-0700
TZOFFSETTO:-0800
TZNAME:PST
DTSTART:20241103T090000
END:STANDARD
BEGIN:DAYLIGHT
TZOFFSETFROM:-0800
TZOFFSETTO:-0700
TZNAME:PDT
DTSTART:20250309T100000
END:DAYLIGHT
BEGIN:STANDARD
TZOFFSETFROM:-0700
TZOFFSETTO:-0800
TZNAME:PST
DTSTART:20251102T090000
END:STANDARD
END:VTIMEZONE
BEGIN:VEVENT
DTSTART;TZID=America/Los_Angeles:20240606T180000
DTEND;TZID=America/Los_Angeles:20240606T190000
DTSTAMP:20260425T112625
CREATED:20240526T234327Z
LAST-MODIFIED:20240526T234327Z
UID:10002066-1717696800-1717700400@prisonfamiliesalliance.org
SUMMARY:(In Person) PFA CARES Support Meeting - Las Vegas\, Nevada
DESCRIPTION:Join the PFA CARES (Community\, Advocacy\, Resources\, Education and Support) meetings every Thursday where both adults and youth who have or had loved ones in the carceral system are welcome. Enjoy a light meal together in a compassionate and caring environment\, perfect for sharing experiences and receiving support. While adults engage in the support meeting\, youth participate in our engaging and positive Youth Art Program\, designed to nurture creativity and expression. All youth must be accompanied by an adult. We look forward to coming together as a community\, fostering understanding and solidarity for everyone involved. For more information click link.  \nRegistration is requested\, but not required\, to help us ensure we have enough food and supplies for the meetings. Registration Link \n6:00pm – 7:00pm Pacific Time Zone
URL:https://prisonfamiliesalliance.org/event/in-person-pfa-cares-support-meeting-las-vegas-nevada/
LOCATION:Foundation for Recovery\, 4800 Alpine Place\, Las Vegas\, NV\, 89018\, United States
CATEGORIES:Group Meeting
END:VEVENT
BEGIN:VEVENT
DTSTART;TZID=America/Los_Angeles:20240613T180000
DTEND;TZID=America/Los_Angeles:20240613T190000
DTSTAMP:20260425T112625
CREATED:20240526T234439Z
LAST-MODIFIED:20240526T234439Z
UID:10002067-1718301600-1718305200@prisonfamiliesalliance.org
SUMMARY:(In Person) PFA CARES Support Meeting – Las Vegas\, Nevada
DESCRIPTION:Join the PFA CARES (Community\, Advocacy\, Resources\, Education and Support) meetings every Thursday where both adults and youth who have or had loved ones in the carceral system are welcome. Enjoy a light meal together in a compassionate and caring environment\, perfect for sharing experiences and receiving support. While adults engage in the support meeting\, youth participate in our engaging and positive Youth Art Program\, designed to nurture creativity and expression. All youth must be accompanied by an adult. We look forward to coming together as a community\, fostering understanding and solidarity for everyone involved. For more information click link. \nRegistration is requested\, but not required\, to help us ensure we have enough food and supplies for the meetings. Registration Link \n6:00pm – 7:00pm Pacific Time Zone
URL:https://prisonfamiliesalliance.org/event/in-person-pfa-cares-support-meeting-las-vegas-nevada-2/
LOCATION:Foundation for Recovery\, 4800 Alpine Place\, Las Vegas\, NV\, 89018\, United States
CATEGORIES:Group Meeting
END:VEVENT
BEGIN:VEVENT
DTSTART;TZID=America/Los_Angeles:20240620T180000
DTEND;TZID=America/Los_Angeles:20240620T190000
DTSTAMP:20260425T112625
CREATED:20240526T234543Z
LAST-MODIFIED:20240616T042637Z
UID:10002068-1718906400-1718910000@prisonfamiliesalliance.org
SUMMARY:(In Person) PFA CARES Support Meeting – Las Vegas\, Nevada (6PM PT)
DESCRIPTION:Join the PFA CARES (Community\, Advocacy\, Resources\, Education and Support) meetings every Thursday where both adults and youth who have or had loved ones in the carceral system are welcome. Enjoy a light meal together in a compassionate and caring environment\, perfect for sharing experiences and receiving support. While adults engage in the support meeting\, youth participate in our engaging and positive Youth Art Program\, designed to nurture creativity and expression. All youth must be accompanied by an adult. We look forward to coming together as a community\, fostering understanding and solidarity for everyone involved. For more information click link. \nRegistration is requested\, but not required\, to help us ensure we have enough food and supplies for the meetings. Registration Link \n6:00pm – 7:00pm Pacific Time Zone
URL:https://prisonfamiliesalliance.org/event/in-person-pfa-cares-support-meeting-las-vegas-nevada-3/
LOCATION:Foundation for Recovery\, 4800 Alpine Place\, Las Vegas\, NV\, 89018\, United States
CATEGORIES:Group Meeting
END:VEVENT
BEGIN:VEVENT
DTSTART;TZID=America/Los_Angeles:20240624T170000
DTEND;TZID=America/Los_Angeles:20240624T180000
DTSTAMP:20260425T112625
CREATED:20240526T211540Z
LAST-MODIFIED:20240624T235449Z
UID:10002059-1719248400-1719252000@prisonfamiliesalliance.org
SUMMARY:Unlocking Your Story: No Rules Just Write (5PM PT\, 6PM MT\, 7PM CT\, 8PM ET)
DESCRIPTION:Discover the healing power of storytelling in Unlocking Your Story: No Rules\, Just Write. This is not your typical writing meeting; it’s an opportunity to delve into your thoughts\, feelings\, and experiences without any instructional or structural boundaries. Let your creativity flow freely as you explore the power of your own narrative. This is a safe\, nonjudgmental space where you can unlock your personal narrative\, finding solace and strength in your words. Whether you’re an experienced writer or someone exploring the world of self-expression\, this event is open to all PFA family members. You write on your own time and bring your stories\, feelings\, and experiences to the meeting. Together\, we’ll navigate the journey of healing through storytelling. \nJoin Zoom Meeting – ZOOM LINK \nhttps://us02web.zoom.us/j/83772686632?pwd=k2viQzzF5f1ny77RySRihHK62puUqB.1 \nMeeting ID: 837 7268 6632 \nPasscode: 907065 \nTime: 5:00pm PT\, 6:00pm MT\, 7:00pm CT\, 8:00pm ET​
URL:https://prisonfamiliesalliance.org/event/check-your-time-zone-unlocking-your-story-no-rules-just-write-10/
LOCATION:Zoom
CATEGORIES:Group Meeting
END:VEVENT
BEGIN:VEVENT
DTSTART;TZID=America/Los_Angeles:20240627T180000
DTEND;TZID=America/Los_Angeles:20240627T190000
DTSTAMP:20260425T112625
CREATED:20240526T234645Z
LAST-MODIFIED:20240616T043204Z
UID:10002069-1719511200-1719514800@prisonfamiliesalliance.org
SUMMARY:(In Person) PFA CARES Support Meeting – Las Vegas\, Nevada (6PM PT)
DESCRIPTION:Join the PFA CARES (Community\, Advocacy\, Resources\, Education and Support) meetings every Thursday where both adults and youth who have or had loved ones in the carceral system are welcome. Enjoy a light meal together in a compassionate and caring environment\, perfect for sharing experiences and receiving support. While adults engage in the support meeting\, youth participate in our engaging and positive Youth Art Program\, designed to nurture creativity and expression. All youth must be accompanied by an adult. We look forward to coming together as a community\, fostering understanding and solidarity for everyone involved. For more information click link. \nRegistration is requested\, but not required\, to help us ensure we have enough food and supplies for the meetings. Registration Link \n6:00pm – 7:00pm Pacific Time Zone
URL:https://prisonfamiliesalliance.org/event/in-person-pfa-cares-support-meeting-las-vegas-nevada-4/
LOCATION:Foundation for Recovery\, 4800 Alpine Place\, Las Vegas\, NV\, 89018\, United States
CATEGORIES:Group Meeting
END:VEVENT
END:VCALENDAR