BEGIN:VCALENDAR
VERSION:2.0
PRODID:-//Prison Families Alliance - ECPv6.15.20//NONSGML v1.0//EN
CALSCALE:GREGORIAN
METHOD:PUBLISH
X-WR-CALNAME:Prison Families Alliance
X-ORIGINAL-URL:https://prisonfamiliesalliance.org
X-WR-CALDESC:Events for Prison Families Alliance
REFRESH-INTERVAL;VALUE=DURATION:PT1H
X-Robots-Tag:noindex
X-PUBLISHED-TTL:PT1H
BEGIN:VTIMEZONE
TZID:America/Los_Angeles
BEGIN:DAYLIGHT
TZOFFSETFROM:-0800
TZOFFSETTO:-0700
TZNAME:PDT
DTSTART:20230312T100000
END:DAYLIGHT
BEGIN:STANDARD
TZOFFSETFROM:-0700
TZOFFSETTO:-0800
TZNAME:PST
DTSTART:20231105T090000
END:STANDARD
BEGIN:DAYLIGHT
TZOFFSETFROM:-0800
TZOFFSETTO:-0700
TZNAME:PDT
DTSTART:20240310T100000
END:DAYLIGHT
BEGIN:STANDARD
TZOFFSETFROM:-0700
TZOFFSETTO:-0800
TZNAME:PST
DTSTART:20241103T090000
END:STANDARD
BEGIN:DAYLIGHT
TZOFFSETFROM:-0800
TZOFFSETTO:-0700
TZNAME:PDT
DTSTART:20250309T100000
END:DAYLIGHT
BEGIN:STANDARD
TZOFFSETFROM:-0700
TZOFFSETTO:-0800
TZNAME:PST
DTSTART:20251102T090000
END:STANDARD
END:VTIMEZONE
BEGIN:VEVENT
DTSTART;TZID=America/Los_Angeles:20240711T180000
DTEND;TZID=America/Los_Angeles:20240711T190000
DTSTAMP:20260425T080518
CREATED:20240624T005426Z
LAST-MODIFIED:20240624T005426Z
UID:10002086-1720720800-1720724400@prisonfamiliesalliance.org
SUMMARY:(In Person) PFA CARES Support Meeting – Las Vegas\, Nevada
DESCRIPTION:Join the PFA CARES (Community\, Advocacy\, Resources\, Education and Support) meetings every Thursday where both adults and youth who have or had loved ones in the carceral system are welcome. Enjoy a light meal together in a compassionate and caring environment\, perfect for sharing experiences and receiving support. While adults engage in the support meeting\, youth participate in our engaging and positive Youth Art Program\, designed to nurture creativity and expression. All youth must be accompanied by an adult. We look forward to coming together as a community\, fostering understanding and solidarity for everyone involved. For more information click link. \nRegistration is requested\, but not required\, to help us ensure we have enough food and supplies for the meetings. Registration Link \n6:00pm – 7:00pm Pacific Time Zone
URL:https://prisonfamiliesalliance.org/event/in-person-pfa-cares-support-meeting-las-vegas-nevada-5/
LOCATION:Foundation for Recovery\, 4800 Alpine Place\, Las Vegas\, NV\, 89018\, United States
CATEGORIES:Group Meeting
END:VEVENT
BEGIN:VEVENT
DTSTART;TZID=America/Los_Angeles:20240718T180000
DTEND;TZID=America/Los_Angeles:20240718T190000
DTSTAMP:20260425T080518
CREATED:20240624T005529Z
LAST-MODIFIED:20240624T005529Z
UID:10002087-1721325600-1721329200@prisonfamiliesalliance.org
SUMMARY:(In Person) PFA CARES Support Meeting – Las Vegas\, Nevada
DESCRIPTION:Join the PFA CARES (Community\, Advocacy\, Resources\, Education and Support) meetings every Thursday where both adults and youth who have or had loved ones in the carceral system are welcome. Enjoy a light meal together in a compassionate and caring environment\, perfect for sharing experiences and receiving support. While adults engage in the support meeting\, youth participate in our engaging and positive Youth Art Program\, designed to nurture creativity and expression. All youth must be accompanied by an adult. We look forward to coming together as a community\, fostering understanding and solidarity for everyone involved. For more information click link. \nRegistration is requested\, but not required\, to help us ensure we have enough food and supplies for the meetings. Registration Link \n6:00pm – 7:00pm Pacific Time Zone
URL:https://prisonfamiliesalliance.org/event/in-person-pfa-cares-support-meeting-las-vegas-nevada-6/
LOCATION:Foundation for Recovery\, 4800 Alpine Place\, Las Vegas\, NV\, 89018\, United States
CATEGORIES:Group Meeting
END:VEVENT
BEGIN:VEVENT
DTSTART;TZID=America/Los_Angeles:20240721T110000
DTEND;TZID=America/Los_Angeles:20240721T114500
DTSTAMP:20260425T080518
CREATED:20240624T003509Z
LAST-MODIFIED:20240714T014541Z
UID:10002079-1721559600-1721562300@prisonfamiliesalliance.org
SUMMARY:(Check Your Time Zone) PFA Youth Group – (Ages 7-12)
DESCRIPTION:PFA Youth Group – (Ages 7-12) \nA safe\, non-judgmental\, and supportive meeting for youth to talk kid-to-kid.  Meeting is facilitated by adults\, and youths have fun and are provided tools to help them deal with having an incarcerated family member.  Parent or legal guardian need to fill out registration form:  Click Here for Registration Form. Zoom link will be emailed prior to meeting. Email connect@PrisonFamiliesAlliance.org if you need additional information. \nYouth 7-12 years old: 11am PT\, Noon MT\, 1pm CT\, 2pm ET (45 minute session)
URL:https://prisonfamiliesalliance.org/event/check-your-time-zone-pfa-youth-group-ages-7-12-2/
LOCATION:Zoom
CATEGORIES:Group Meeting
END:VEVENT
BEGIN:VEVENT
DTSTART;TZID=America/Los_Angeles:20240721T120000
DTEND;TZID=America/Los_Angeles:20240721T130000
DTSTAMP:20260425T080518
CREATED:20240624T003613Z
LAST-MODIFIED:20240714T014422Z
UID:10002080-1721563200-1721566800@prisonfamiliesalliance.org
SUMMARY:(Check Your Time Zone) PFA Youth Group – (Ages 13-17)
DESCRIPTION:PFA Youth Group – (Ages 13-17) \nA safe\, non-judgmental\, and supportive meeting for youth to talk kid-to-kid.  Meeting is facilitated by adults\, and youths have fun and are provided tools to help them deal with having an incarcerated family member.  Parent or legal guardian need to fill out registration form: Click Here for Registration Form . Zoom link will be emailed prior to meeting. Email connect@PrisonFamiliesAlliance.org if you need additional information. ( \nYouth 13-17 years old: Noon PT\, 1pm MT\, 2pm CT\, 3pm ET (1 hour session)
URL:https://prisonfamiliesalliance.org/event/check-your-time-zone-pfa-youth-group-ages-13-17-2/
LOCATION:Zoom
CATEGORIES:Group Meeting
END:VEVENT
BEGIN:VEVENT
DTSTART;TZID=America/Los_Angeles:20240725T180000
DTEND;TZID=America/Los_Angeles:20240725T190000
DTSTAMP:20260425T080518
CREATED:20240624T005623Z
LAST-MODIFIED:20240728T043315Z
UID:10002088-1721930400-1721934000@prisonfamiliesalliance.org
SUMMARY:(In Person) PFA CARES Support Meeting – Las Vegas\, Nevada
DESCRIPTION:Join the PFA CARES (Community\, Advocacy\, Resources\, Education and Support) meetings every Thursday where both adults and youth who have or had loved ones in the carceral system are welcome. Enjoy a light meal in a compassionate and caring environment\, perfect for sharing experiences and receiving support. While adults engage in the support meeting\, youth participate in our engaging and positive Youth Art Program\, designed to nurture creativity and expression. All youth must be accompanied by an adult. Click here for more information on the Youth Art Program. \nWe look forward to coming together as a community\, fostering understanding and solidarity for everyone involved. For more information click link. \nRegistration is requested\, but not required\, to help us ensure we have enough food and supplies for the meetings. Registration Link \n6:00pm – 7:00pm Pacific Time Zone
URL:https://prisonfamiliesalliance.org/event/in-person-pfa-cares-support-meeting-las-vegas-nevada-7/
LOCATION:Foundation for Recovery\, 4800 Alpine Place\, Las Vegas\, NV\, 89018\, United States
CATEGORIES:Group Meeting
END:VEVENT
END:VCALENDAR