BEGIN:VCALENDAR
VERSION:2.0
PRODID:-//Prison Families Alliance - ECPv6.15.20//NONSGML v1.0//EN
CALSCALE:GREGORIAN
METHOD:PUBLISH
X-ORIGINAL-URL:https://prisonfamiliesalliance.org
X-WR-CALDESC:Events for Prison Families Alliance
REFRESH-INTERVAL;VALUE=DURATION:PT1H
X-Robots-Tag:noindex
X-PUBLISHED-TTL:PT1H
BEGIN:VTIMEZONE
TZID:America/Los_Angeles
BEGIN:DAYLIGHT
TZOFFSETFROM:-0800
TZOFFSETTO:-0700
TZNAME:PDT
DTSTART:20240310T100000
END:DAYLIGHT
BEGIN:STANDARD
TZOFFSETFROM:-0700
TZOFFSETTO:-0800
TZNAME:PST
DTSTART:20241103T090000
END:STANDARD
BEGIN:DAYLIGHT
TZOFFSETFROM:-0800
TZOFFSETTO:-0700
TZNAME:PDT
DTSTART:20250309T100000
END:DAYLIGHT
BEGIN:STANDARD
TZOFFSETFROM:-0700
TZOFFSETTO:-0800
TZNAME:PST
DTSTART:20251102T090000
END:STANDARD
BEGIN:DAYLIGHT
TZOFFSETFROM:-0800
TZOFFSETTO:-0700
TZNAME:PDT
DTSTART:20260308T100000
END:DAYLIGHT
BEGIN:STANDARD
TZOFFSETFROM:-0700
TZOFFSETTO:-0800
TZNAME:PST
DTSTART:20261101T090000
END:STANDARD
END:VTIMEZONE
BEGIN:VEVENT
DTSTART;TZID=America/Los_Angeles:20250102T173000
DTEND;TZID=America/Los_Angeles:20250102T193000
DTSTAMP:20260424T205439
CREATED:20241217T045250Z
LAST-MODIFIED:20241217T045250Z
UID:10002214-1735839000-1735846200@prisonfamiliesalliance.org
SUMMARY:NO MEETING - (In Person) PFA CARES Support Meeting – Las Vegas\, Nevada
DESCRIPTION:There will be no meeting tonight – Happy Holidays! \nJoin the PFA CARES (Community\, Advocacy\, Resources\, Education and Support) meetings every Thursday where both adults and youth who have or had loved ones in the carceral system are welcome. Enjoy a light meal in a compassionate and caring environment\, perfect for sharing experiences and receiving support. While adults engage in the support meeting\, youth participate in our engaging and positive Youth Art Program\, designed to nurture creativity and expression. All youth must be accompanied by an adult. Click here for more information on the Youth Art Program. \nWe look forward to coming together as a community\, fostering understanding and solidarity for everyone involved. For more information click link. \nRegistration is requested\, but not required\, to help us ensure we have enough food and supplies for the meetings. Registration Link \n5:30pm – 7:30pm Pacific Time Zone
URL:https://prisonfamiliesalliance.org/event/no-meeting-in-person-pfa-cares-support-meeting-las-vegas-nevada/
LOCATION:Foundation for Recovery\, 4800 Alpine Place\, Las Vegas\, NV\, 89018\, United States
CATEGORIES:Group Meeting
END:VEVENT
BEGIN:VEVENT
DTSTART;TZID=America/Los_Angeles:20250109T173000
DTEND;TZID=America/Los_Angeles:20250109T193000
DTSTAMP:20260424T205439
CREATED:20241104T032034Z
LAST-MODIFIED:20241217T050120Z
UID:10002208-1736443800-1736451000@prisonfamiliesalliance.org
SUMMARY:(In Person) PFA CARES Support Meeting – Las Vegas\, Nevada
DESCRIPTION:Join the PFA CARES (Community\, Advocacy\, Resources\, Education and Support) meetings every Thursday where both adults and youth who have or had loved ones in the carceral system are welcome. Enjoy a light meal in a compassionate and caring environment\, perfect for sharing experiences and receiving support. While adults engage in the support meeting\, youth participate in our engaging and positive Youth Art Program\, designed to nurture creativity and expression. All youth must be accompanied by an adult. Click here for more information on the Youth Art Program. \nWe look forward to coming together as a community\, fostering understanding and solidarity for everyone involved. For more information click link. \nRegistration is requested\, but not required\, to help us ensure we have enough food and supplies for the meetings. Registration Link \n5:30pm – 7:30pm Pacific Time Zone
URL:https://prisonfamiliesalliance.org/event/in-person-pfa-cares-support-meeting-las-vegas-nevada-26/
LOCATION:Foundation for Recovery\, 4800 Alpine Place\, Las Vegas\, NV\, 89018\, United States
CATEGORIES:Group Meeting
END:VEVENT
BEGIN:VEVENT
DTSTART;TZID=America/Los_Angeles:20250116T173000
DTEND;TZID=America/Los_Angeles:20250116T193000
DTSTAMP:20260424T205439
CREATED:20241217T051700Z
LAST-MODIFIED:20241217T051700Z
UID:10002229-1737048600-1737055800@prisonfamiliesalliance.org
SUMMARY:(In Person) PFA CARES Support Meeting – Las Vegas\, Nevada
DESCRIPTION:Join the PFA CARES (Community\, Advocacy\, Resources\, Education and Support) meetings every Thursday where both adults and youth who have or had loved ones in the carceral system are welcome. Enjoy a light meal in a compassionate and caring environment\, perfect for sharing experiences and receiving support. While adults engage in the support meeting\, youth participate in our engaging and positive Youth Art Program\, designed to nurture creativity and expression. All youth must be accompanied by an adult. Click here for more information on the Youth Art Program. \nWe look forward to coming together as a community\, fostering understanding and solidarity for everyone involved. For more information click link. \nRegistration is requested\, but not required\, to help us ensure we have enough food and supplies for the meetings. Registration Link \n5:30pm – 7:30pm Pacific Time Zone
URL:https://prisonfamiliesalliance.org/event/in-person-pfa-cares-support-meeting-las-vegas-nevada-29/
LOCATION:Foundation for Recovery\, 4800 Alpine Place\, Las Vegas\, NV\, 89018\, United States
CATEGORIES:Group Meeting
END:VEVENT
BEGIN:VEVENT
DTSTART;TZID=America/Los_Angeles:20250119T120000
DTEND;TZID=America/Los_Angeles:20250119T130000
DTSTAMP:20260424T205439
CREATED:20241217T051814Z
LAST-MODIFIED:20241217T051814Z
UID:10002231-1737288000-1737291600@prisonfamiliesalliance.org
SUMMARY:(Check Your Time Zone) PFA Youth Group – (Ages 13-17)
DESCRIPTION:PFA Youth Group – (Ages 13-17) \nA safe\, non-judgmental\, and supportive meeting for youth to talk kid-to-kid.  Meeting is facilitated by adults\, and youths have fun and are provided tools to help them deal with having an incarcerated family member.  Parent or legal guardian need to fill out registration form: Click Here to Register (Scroll down to registration form and submit). Zoom link will be emailed prior to meeting. Email connect@PrisonFamiliesAlliance.org if you need additional information. \nYouth 13-17 years old: Noon PT\, 1pm MT\, 2pm CT\, 3pm ET (1 hour session)
URL:https://prisonfamiliesalliance.org/event/check-your-time-zone-pfa-youth-group-ages-13-17-8/
LOCATION:Zoom
CATEGORIES:Group Meeting
END:VEVENT
BEGIN:VEVENT
DTSTART;TZID=America/Los_Angeles:20250123T173000
DTEND;TZID=America/Los_Angeles:20250123T193000
DTSTAMP:20260424T205439
CREATED:20241217T051219Z
LAST-MODIFIED:20250113T042344Z
UID:10002225-1737653400-1737660600@prisonfamiliesalliance.org
SUMMARY:(In Person) PFA CARES Support Meeting – Las Vegas\, Nevada (5:30pm PT)
DESCRIPTION:Join the PFA CARES (Community\, Advocacy\, Resources\, Education and Support) meetings every Thursday where both adults and youth who have or had loved ones in the carceral system are welcome. Enjoy a light meal in a compassionate and caring environment\, perfect for sharing experiences and receiving support. While adults engage in the support meeting\, youth participate in our engaging and positive Youth Art Program\, designed to nurture creativity and expression. All youth must be accompanied by an adult. Click here for more information on the Youth Art Program. \nWe look forward to coming together as a community\, fostering understanding and solidarity for everyone involved. For more information click link. \nRegistration is requested\, but not required\, to help us ensure we have enough food and supplies for the meetings. Registration Link \n5:30pm – 7:30pm Pacific Time Zone
URL:https://prisonfamiliesalliance.org/event/in-person-pfa-cares-support-meeting-las-vegas-nevada-28/
LOCATION:Foundation for Recovery\, 4800 Alpine Place\, Las Vegas\, NV\, 89018\, United States
CATEGORIES:Group Meeting
END:VEVENT
BEGIN:VEVENT
DTSTART;TZID=America/Los_Angeles:20250130T173000
DTEND;TZID=America/Los_Angeles:20250130T190000
DTSTAMP:20260424T205439
CREATED:20250113T035314Z
LAST-MODIFIED:20250121T023251Z
UID:10002264-1738258200-1738263600@prisonfamiliesalliance.org
SUMMARY:(In Person) PFA CARES Support Meeting – Las Vegas\, Nevada (5:30pm PT)
DESCRIPTION:Join the PFA CARES (Community\, Advocacy\, Resources\, Education and Support) meetings every Thursday where both adults and youth who have or had loved ones in the carceral system are welcome. Enjoy a light meal in a compassionate and caring environment\, perfect for sharing experiences and receiving support. While adults engage in the support meeting\, youth participate in our engaging and positive Youth Art Program\, designed to nurture creativity and expression. All youth must be accompanied by an adult. Click here for more information on the Youth Art Program. \nWe look forward to coming together as a community\, fostering understanding and solidarity for everyone involved. For more information click link. \nRegistration is requested\, but not required\, to help us ensure we have enough food and supplies for the meetings. Registration Link \n5:30pm – 7:00pm Pacific Time Zone
URL:https://prisonfamiliesalliance.org/event/in-person-pfa-cares-support-meeting-las-vegas-nevada-34/
LOCATION:Foundation for Recovery\, 4800 Alpine Place\, Las Vegas\, NV\, 89018\, United States
CATEGORIES:Group Meeting
END:VEVENT
END:VCALENDAR