BEGIN:VCALENDAR
VERSION:2.0
PRODID:-//Prison Families Alliance - ECPv6.15.20//NONSGML v1.0//EN
CALSCALE:GREGORIAN
METHOD:PUBLISH
X-ORIGINAL-URL:https://prisonfamiliesalliance.org
X-WR-CALDESC:Events for Prison Families Alliance
REFRESH-INTERVAL;VALUE=DURATION:PT1H
X-Robots-Tag:noindex
X-PUBLISHED-TTL:PT1H
BEGIN:VTIMEZONE
TZID:America/Los_Angeles
BEGIN:DAYLIGHT
TZOFFSETFROM:-0800
TZOFFSETTO:-0700
TZNAME:PDT
DTSTART:20240310T100000
END:DAYLIGHT
BEGIN:STANDARD
TZOFFSETFROM:-0700
TZOFFSETTO:-0800
TZNAME:PST
DTSTART:20241103T090000
END:STANDARD
BEGIN:DAYLIGHT
TZOFFSETFROM:-0800
TZOFFSETTO:-0700
TZNAME:PDT
DTSTART:20250309T100000
END:DAYLIGHT
BEGIN:STANDARD
TZOFFSETFROM:-0700
TZOFFSETTO:-0800
TZNAME:PST
DTSTART:20251102T090000
END:STANDARD
BEGIN:DAYLIGHT
TZOFFSETFROM:-0800
TZOFFSETTO:-0700
TZNAME:PDT
DTSTART:20260308T100000
END:DAYLIGHT
BEGIN:STANDARD
TZOFFSETFROM:-0700
TZOFFSETTO:-0800
TZNAME:PST
DTSTART:20261101T090000
END:STANDARD
END:VTIMEZONE
BEGIN:VEVENT
DTSTART;TZID=America/Los_Angeles:20250703T173000
DTEND;TZID=America/Los_Angeles:20250703T190000
DTSTAMP:20260424T055221
CREATED:20250606T162853Z
LAST-MODIFIED:20250606T162853Z
UID:10002392-1751563800-1751569200@prisonfamiliesalliance.org
SUMMARY:(In Person) PFA CARES Support Meeting AND Youth Art Program – Las Vegas\, Nevada (5:30pm PT)
DESCRIPTION:Join the PFA CARES (Community\, Advocacy\, Resources\, Education and Support) and Youth Art Program meetings every Thursday where both adults and youth who have or had loved ones in the carceral system are welcome. Enjoy a light meal in a compassionate and caring environment\, perfect for sharing experiences and receiving support. While adults engage in the support meeting\, youth participate in our engaging and positive Youth Art Program\, designed to nurture creativity and expression. All youth must be accompanied by an adult. Click here for more information on the Youth Art Program. \nWe look forward to coming together as a community\, fostering understanding and solidarity for everyone involved. For more information click link. \nEmail connect@PrisonFamiliesAlliance.org to sign up for PFA CARE and/or your youth attending the Youth Art Program. \n5:30pm – 7:00pm Pacific Time Zone
URL:https://prisonfamiliesalliance.org/event/in-person-pfa-cares-support-meeting-and-youth-art-program-las-vegas-nevada-530pm-pt-10/
LOCATION:Foundation for Recovery\, 4800 Alpine Place\, Las Vegas\, NV\, 89018\, United States
CATEGORIES:Group Meeting
END:VEVENT
BEGIN:VEVENT
DTSTART;TZID=America/Los_Angeles:20250707T180000
DTEND;TZID=America/Los_Angeles:20250707T190000
DTSTAMP:20260424T055221
CREATED:20250606T170031Z
LAST-MODIFIED:20250606T170031Z
UID:10002412-1751911200-1751914800@prisonfamiliesalliance.org
SUMMARY:(In Person) General Support Meeting – La Porte\, IN (6PM CT)
DESCRIPTION:This PFA General Support meeting is in person and provides a compassionate and supportive space for individuals who have a loved one in the carceral system. Recognizing the inherent challenges and stress that come with this experience\, we offer a platform for sharing information\, perspectives\, and personal experiences. Join us to connect with others who understand and navigate this journey with empathy and insight. We look forward to welcoming you and building a supportive network together. \n6:00 CT – First Church of God\, 2020 East LincolnWay\, La Porte\, IN\n 
URL:https://prisonfamiliesalliance.org/event/in-person-general-support-meeting-la-porte-in-6pm-ct-9/
LOCATION:Touro Law School\, 225 Eastview Dr.\, Central Islip\, New York\, 11722
CATEGORIES:Group Meeting
END:VEVENT
BEGIN:VEVENT
DTSTART;TZID=America/Los_Angeles:20250710T173000
DTEND;TZID=America/Los_Angeles:20250710T190000
DTSTAMP:20260424T055221
CREATED:20250606T163016Z
LAST-MODIFIED:20250606T163016Z
UID:10002394-1752168600-1752174000@prisonfamiliesalliance.org
SUMMARY:(In Person) PFA CARES Support Meeting AND Youth Art Program – Las Vegas\, Nevada (5:30pm PT)
DESCRIPTION:Join the PFA CARES (Community\, Advocacy\, Resources\, Education and Support) and Youth Art Program meetings every Thursday where both adults and youth who have or had loved ones in the carceral system are welcome. Enjoy a light meal in a compassionate and caring environment\, perfect for sharing experiences and receiving support. While adults engage in the support meeting\, youth participate in our engaging and positive Youth Art Program\, designed to nurture creativity and expression. All youth must be accompanied by an adult. Click here for more information on the Youth Art Program. \nWe look forward to coming together as a community\, fostering understanding and solidarity for everyone involved. For more information click link. \nEmail connect@PrisonFamiliesAlliance.org to sign up for PFA CARE and/or your youth attending the Youth Art Program. \n5:30pm – 7:00pm Pacific Time Zone
URL:https://prisonfamiliesalliance.org/event/in-person-pfa-cares-support-meeting-and-youth-art-program-las-vegas-nevada-530pm-pt-11/
LOCATION:Foundation for Recovery\, 4800 Alpine Place\, Las Vegas\, NV\, 89018\, United States
CATEGORIES:Group Meeting
END:VEVENT
BEGIN:VEVENT
DTSTART;TZID=America/Los_Angeles:20250717T173000
DTEND;TZID=America/Los_Angeles:20250717T190000
DTSTAMP:20260424T055221
CREATED:20250606T163107Z
LAST-MODIFIED:20250606T163107Z
UID:10002395-1752773400-1752778800@prisonfamiliesalliance.org
SUMMARY:(In Person) PFA CARES Support Meeting AND Youth Art Program – Las Vegas\, Nevada (5:30pm PT)
DESCRIPTION:Join the PFA CARES (Community\, Advocacy\, Resources\, Education and Support) and Youth Art Program meetings every Thursday where both adults and youth who have or had loved ones in the carceral system are welcome. Enjoy a light meal in a compassionate and caring environment\, perfect for sharing experiences and receiving support. While adults engage in the support meeting\, youth participate in our engaging and positive Youth Art Program\, designed to nurture creativity and expression. All youth must be accompanied by an adult. Click here for more information on the Youth Art Program. \nWe look forward to coming together as a community\, fostering understanding and solidarity for everyone involved. For more information click link. \nEmail connect@PrisonFamiliesAlliance.org to sign up for PFA CARE and/or your youth attending the Youth Art Program. \n5:30pm – 7:00pm Pacific Time Zone
URL:https://prisonfamiliesalliance.org/event/in-person-pfa-cares-support-meeting-and-youth-art-program-las-vegas-nevada-530pm-pt-12/
LOCATION:Foundation for Recovery\, 4800 Alpine Place\, Las Vegas\, NV\, 89018\, United States
CATEGORIES:Group Meeting
END:VEVENT
BEGIN:VEVENT
DTSTART;TZID=America/Los_Angeles:20250720T120000
DTEND;TZID=America/Los_Angeles:20250720T130000
DTSTAMP:20260424T055221
CREATED:20250714T001543Z
LAST-MODIFIED:20250714T001543Z
UID:10002480-1753012800-1753016400@prisonfamiliesalliance.org
SUMMARY:(Check Your Time Zone) PFA Youth Group – (Ages 13-17)
DESCRIPTION:PFA Youth Group – (Ages 13-17) \nA safe\, non-judgmental\, and supportive meeting for youth to talk kid-to-kid.  Meeting is facilitated by adults\, and youths have fun and are provided tools to help them deal with having an incarcerated family member.  Parent or legal guardian need to fill out registration form: Click Here to Register (Scroll down to registration form and submit). Zoom link will be emailed prior to meeting. Email connect@PrisonFamiliesAlliance.org if you need additional information. \nYouth 13-17 years old: Noon PT\, 1pm MT\, 2pm CT\, 3pm ET (1 hour session)
URL:https://prisonfamiliesalliance.org/event/check-your-time-zone-pfa-youth-group-ages-13-17-14/
LOCATION:Zoom
CATEGORIES:Group Meeting
END:VEVENT
BEGIN:VEVENT
DTSTART;TZID=America/Los_Angeles:20250721T180000
DTEND;TZID=America/Los_Angeles:20250721T190000
DTSTAMP:20260424T055221
CREATED:20250606T170056Z
LAST-MODIFIED:20250606T170056Z
UID:10002413-1753120800-1753124400@prisonfamiliesalliance.org
SUMMARY:(In Person) General Support Meeting – La Porte\, IN (6PM CT)
DESCRIPTION:This PFA General Support meeting is in person and provides a compassionate and supportive space for individuals who have a loved one in the carceral system. Recognizing the inherent challenges and stress that come with this experience\, we offer a platform for sharing information\, perspectives\, and personal experiences. Join us to connect with others who understand and navigate this journey with empathy and insight. We look forward to welcoming you and building a supportive network together. \n6:00 CT – First Church of God\, 2020 East LincolnWay\, La Porte\, IN\n 
URL:https://prisonfamiliesalliance.org/event/in-person-general-support-meeting-la-porte-in-6pm-ct-10/
LOCATION:Touro Law School\, 225 Eastview Dr.\, Central Islip\, New York\, 11722
CATEGORIES:Group Meeting
END:VEVENT
BEGIN:VEVENT
DTSTART;TZID=America/Los_Angeles:20250724T173000
DTEND;TZID=America/Los_Angeles:20250724T190000
DTSTAMP:20260424T055221
CREATED:20250606T163454Z
LAST-MODIFIED:20250606T163454Z
UID:10002397-1753378200-1753383600@prisonfamiliesalliance.org
SUMMARY:(In Person) PFA CARES Support Meeting AND Youth Art Program – Las Vegas\, Nevada (5:30pm PT)
DESCRIPTION:Join the PFA CARES (Community\, Advocacy\, Resources\, Education and Support) and Youth Art Program meetings every Thursday where both adults and youth who have or had loved ones in the carceral system are welcome. Enjoy a light meal in a compassionate and caring environment\, perfect for sharing experiences and receiving support. While adults engage in the support meeting\, youth participate in our engaging and positive Youth Art Program\, designed to nurture creativity and expression. All youth must be accompanied by an adult. Click here for more information on the Youth Art Program. \nWe look forward to coming together as a community\, fostering understanding and solidarity for everyone involved. For more information click link. \nEmail connect@PrisonFamiliesAlliance.org to sign up for PFA CARE and/or your youth attending the Youth Art Program. \n5:30pm – 7:00pm Pacific Time Zone
URL:https://prisonfamiliesalliance.org/event/in-person-pfa-cares-support-meeting-and-youth-art-program-las-vegas-nevada-530pm-pt-13/
LOCATION:Foundation for Recovery\, 4800 Alpine Place\, Las Vegas\, NV\, 89018\, United States
CATEGORIES:Group Meeting
END:VEVENT
BEGIN:VEVENT
DTSTART;TZID=America/Los_Angeles:20250731T173000
DTEND;TZID=America/Los_Angeles:20250731T190000
DTSTAMP:20260424T055221
CREATED:20250606T163730Z
LAST-MODIFIED:20250725T210623Z
UID:10002398-1753983000-1753988400@prisonfamiliesalliance.org
SUMMARY:(In Person) PFA CARES Support Meeting AND Youth Art Program – Las Vegas\, Nevada (5:30pm PT)
DESCRIPTION:Join the PFA CARES (Community\, Advocacy\, Resources\, Education and Support) and Youth Art Program meetings where both adults and youth who have or had loved ones in the carceral system are welcome. Enjoy a light meal in a compassionate and caring environment\, perfect for sharing experiences and receiving support. While adults engage in the support meeting\, youth participate in our engaging and positive Youth Art Program\, designed to nurture creativity and expression. All youth must be accompanied by an adult. Click here for more information on the Youth Art Program. \nWe look forward to coming together as a community\, fostering understanding and solidarity for everyone involved. \nEmail connect@PrisonFamiliesAlliance.org to sign up for PFA CARE and/or your youth attending the Youth Art Program. \n5:30pm – 7:00pm Pacific Time Zone \n4800 Alpine Place\, Ste. 7\, Las Vegas\, NV
URL:https://prisonfamiliesalliance.org/event/in-person-pfa-cares-support-meeting-and-youth-art-program-las-vegas-nevada-530pm-pt-14/
LOCATION:Foundation for Recovery\, 4800 Alpine Place\, Las Vegas\, NV\, 89018\, United States
CATEGORIES:Group Meeting
END:VEVENT
END:VCALENDAR