BEGIN:VCALENDAR
VERSION:2.0
PRODID:-//Prison Families Alliance - ECPv6.15.20//NONSGML v1.0//EN
CALSCALE:GREGORIAN
METHOD:PUBLISH
X-WR-CALNAME:Prison Families Alliance
X-ORIGINAL-URL:https://prisonfamiliesalliance.org
X-WR-CALDESC:Events for Prison Families Alliance
REFRESH-INTERVAL;VALUE=DURATION:PT1H
X-Robots-Tag:noindex
X-PUBLISHED-TTL:PT1H
BEGIN:VTIMEZONE
TZID:America/Los_Angeles
BEGIN:DAYLIGHT
TZOFFSETFROM:-0800
TZOFFSETTO:-0700
TZNAME:PDT
DTSTART:20240310T100000
END:DAYLIGHT
BEGIN:STANDARD
TZOFFSETFROM:-0700
TZOFFSETTO:-0800
TZNAME:PST
DTSTART:20241103T090000
END:STANDARD
BEGIN:DAYLIGHT
TZOFFSETFROM:-0800
TZOFFSETTO:-0700
TZNAME:PDT
DTSTART:20250309T100000
END:DAYLIGHT
BEGIN:STANDARD
TZOFFSETFROM:-0700
TZOFFSETTO:-0800
TZNAME:PST
DTSTART:20251102T090000
END:STANDARD
BEGIN:DAYLIGHT
TZOFFSETFROM:-0800
TZOFFSETTO:-0700
TZNAME:PDT
DTSTART:20260308T100000
END:DAYLIGHT
BEGIN:STANDARD
TZOFFSETFROM:-0700
TZOFFSETTO:-0800
TZNAME:PST
DTSTART:20261101T090000
END:STANDARD
END:VTIMEZONE
BEGIN:VEVENT
DTSTART;TZID=America/Los_Angeles:20250804T180000
DTEND;TZID=America/Los_Angeles:20250804T190000
DTSTAMP:20260424T042121
CREATED:20250713T050308Z
LAST-MODIFIED:20250713T050308Z
UID:10002443-1754330400-1754334000@prisonfamiliesalliance.org
SUMMARY:(In Person) General Support Meeting – La Porte\, IN (6PM CT)
DESCRIPTION:This PFA General Support meeting is in person and provides a compassionate and supportive space for individuals who have a loved one in the carceral system. Recognizing the inherent challenges and stress that come with this experience\, we offer a platform for sharing information\, perspectives\, and personal experiences. Join us to connect with others who understand and navigate this journey with empathy and insight. We look forward to welcoming you and building a supportive network together. \n6:00 CT – First Church of God\, 2020 East LincolnWay\, La Porte\, IN\n 
URL:https://prisonfamiliesalliance.org/event/in-person-general-support-meeting-la-porte-in-6pm-ct-11/
LOCATION:Touro Law School\, 225 Eastview Dr.\, Central Islip\, New York\, 11722
CATEGORIES:Group Meeting
END:VEVENT
BEGIN:VEVENT
DTSTART;TZID=America/Los_Angeles:20250807T173000
DTEND;TZID=America/Los_Angeles:20250807T190000
DTSTAMP:20260424T042121
CREATED:20250713T045854Z
LAST-MODIFIED:20250725T225745Z
UID:10002441-1754587800-1754593200@prisonfamiliesalliance.org
SUMMARY:(In Person) PFA CARES Support Meeting AND Youth Art Program – Las Vegas\, Nevada (5:30pm PT)
DESCRIPTION:Nevada attorney Nicholas Wooldridge will be joining this month’s PFA CARES in-person support meeting to share important legal information relevant to families affected by incarceration. This is an in-person meeting\, however if you can’t join in person\, join us online – Zoom link. \nJoin the PFA CARES (Community\, Advocacy\, Resources\, Education and Support) and Youth Art Program meetings first Thursday of the month where both adults and youth who have or had loved ones in the carceral system are welcome. Enjoy a light meal in a compassionate and caring environment\, perfect for sharing experiences and receiving support. While adults engage in the meeting\, youth participate in our engaging and positive Youth Art Program\, designed to nurture creativity and expression. All youth must be accompanied by an adult. Click here for more information on the Youth Art Program. \nWe look forward to coming together as a community\, fostering understanding and solidarity for everyone involved. \nIn Person at 4800 Alpine Place\, Ste. 7\, Las Vegas\, NV (upstairs in the Foundation for Recovery building) \n5:30pm – 7:00pm Pacific Time Zone
URL:https://prisonfamiliesalliance.org/event/in-person-pfa-cares-support-meeting-and-youth-art-program-las-vegas-nevada-530pm-pt-15/
LOCATION:Foundation for Recovery\, 4800 Alpine Place\, Las Vegas\, NV\, 89018\, United States
CATEGORIES:Group Meeting
END:VEVENT
BEGIN:VEVENT
DTSTART;TZID=America/Los_Angeles:20250817T110000
DTEND;TZID=America/Los_Angeles:20250817T120000
DTSTAMP:20260424T042121
CREATED:20250721T153709Z
LAST-MODIFIED:20250721T153709Z
UID:10002498-1755428400-1755432000@prisonfamiliesalliance.org
SUMMARY:(In Person) Creative Connections: Youth Art Workshop (11am PT)
DESCRIPTION:Join us for a one-hour youth art workshop designed for PRE families! In this fun and supportive session\, kids and teens can express themselves through creative activities\, connect with others who understand their experiences\, and build friendships in a safe\, nonjudgmental space. All art supplies are provided—just come ready to create and have fun! \nIn Person – 4800 Alpine Place\, Ste 7\, Las Vegas\, NV  11am PT (Foundation for Recovery Building)
URL:https://prisonfamiliesalliance.org/event/in-person-creative-connections-youth-art-workshop-11am-pt/
LOCATION:Foundation for Recovery\, 4800 Alpine Place\, Las Vegas\, NV\, 89018\, United States
CATEGORIES:Group Meeting
END:VEVENT
BEGIN:VEVENT
DTSTART;TZID=America/Los_Angeles:20250817T120000
DTEND;TZID=America/Los_Angeles:20250817T130000
DTSTAMP:20260424T042121
CREATED:20250714T001625Z
LAST-MODIFIED:20250809T202904Z
UID:10002481-1755432000-1755435600@prisonfamiliesalliance.org
SUMMARY:(Cancelled This Month Only) PFA Youth Group – (Ages 13-17)
DESCRIPTION:Unfortunately the PFA Youth Group is cancelled for this month only.  Please reach out to connect@prisonfamiliesalliance.org if you have any questions.  The next meeting is Sunday\, September 21.  Sorry for the inconvenience. \nPFA Youth Group – (Ages 13-17) \nA safe\, non-judgmental\, and supportive meeting for youth to talk kid-to-kid.  Meeting is facilitated by adults\, and youths have fun and are provided tools to help them deal with having an incarcerated family member.  Parent or legal guardian need to fill out registration form: Click Here to Register (Scroll down to registration form and submit). Zoom link will be emailed prior to meeting. Email connect@PrisonFamiliesAlliance.org if you need additional information. \nYouth 13-17 years old: Noon PT\, 1pm MT\, 2pm CT\, 3pm ET (1 hour session)
URL:https://prisonfamiliesalliance.org/event/check-your-time-zone-pfa-youth-group-ages-13-17-15/
LOCATION:Zoom
CATEGORIES:Group Meeting
END:VEVENT
BEGIN:VEVENT
DTSTART;TZID=America/Los_Angeles:20250818T180000
DTEND;TZID=America/Los_Angeles:20250818T190000
DTSTAMP:20260424T042121
CREATED:20250713T052341Z
LAST-MODIFIED:20250713T052341Z
UID:10002465-1755540000-1755543600@prisonfamiliesalliance.org
SUMMARY:(In Person) General Support Meeting – La Porte\, IN (6PM CT)
DESCRIPTION:This PFA General Support meeting is in person and provides a compassionate and supportive space for individuals who have a loved one in the carceral system. Recognizing the inherent challenges and stress that come with this experience\, we offer a platform for sharing information\, perspectives\, and personal experiences. Join us to connect with others who understand and navigate this journey with empathy and insight. We look forward to welcoming you and building a supportive network together. \n6:00 CT – First Church of God\, 2020 East LincolnWay\, La Porte\, IN\n 
URL:https://prisonfamiliesalliance.org/event/in-person-general-support-meeting-la-porte-in-6pm-ct-13/
LOCATION:Touro Law School\, 225 Eastview Dr.\, Central Islip\, New York\, 11722
CATEGORIES:Group Meeting
END:VEVENT
BEGIN:VEVENT
DTSTART;TZID=America/Los_Angeles:20250825T173000
DTEND;TZID=America/Los_Angeles:20250825T183000
DTSTAMP:20260424T042121
CREATED:20250721T153053Z
LAST-MODIFIED:20250721T153053Z
UID:10002497-1756143000-1756146600@prisonfamiliesalliance.org
SUMMARY:(In Person) Self-Care Tools for Challenging Times - 5:30pm PT
DESCRIPTION:Having an incarcerated loved one can bring overwhelming stress\, emotional strain\, and uncertainty. In this one-hour self–care workshop\, Amy will guide participants through calming techniques and practical tools to help relieve stress\, restore balance\, and build emotional resilience. Whether you’re directly impacted by incarceration or navigating other life challenges\, this session will offer supportive practices to help you care for yourself in the midst of it all. You’ll leave with easy-to-use strategies you can incorporate into your daily life to support your mental and emotional well-being. And most of all we’ll have fun together learning and using these tools! \nIn person at PFA office\, 4800 Alpine Place\, Suite 7\, Las Vegas\, NV\, August 25\, 5:30pm PST.
URL:https://prisonfamiliesalliance.org/event/in-person-self-care-tools-for-challenging-times-530pm-pt/
LOCATION:Foundation for Recovery\, 4800 Alpine Place\, Las Vegas\, NV\, 89018\, United States
CATEGORIES:Group Meeting
END:VEVENT
END:VCALENDAR