BEGIN:VCALENDAR
VERSION:2.0
PRODID:-//Prison Families Alliance - ECPv6.15.20//NONSGML v1.0//EN
CALSCALE:GREGORIAN
METHOD:PUBLISH
X-WR-CALNAME:Prison Families Alliance
X-ORIGINAL-URL:https://prisonfamiliesalliance.org
X-WR-CALDESC:Events for Prison Families Alliance
REFRESH-INTERVAL;VALUE=DURATION:PT1H
X-Robots-Tag:noindex
X-PUBLISHED-TTL:PT1H
BEGIN:VTIMEZONE
TZID:America/Los_Angeles
BEGIN:DAYLIGHT
TZOFFSETFROM:-0800
TZOFFSETTO:-0700
TZNAME:PDT
DTSTART:20240310T100000
END:DAYLIGHT
BEGIN:STANDARD
TZOFFSETFROM:-0700
TZOFFSETTO:-0800
TZNAME:PST
DTSTART:20241103T090000
END:STANDARD
BEGIN:DAYLIGHT
TZOFFSETFROM:-0800
TZOFFSETTO:-0700
TZNAME:PDT
DTSTART:20250309T100000
END:DAYLIGHT
BEGIN:STANDARD
TZOFFSETFROM:-0700
TZOFFSETTO:-0800
TZNAME:PST
DTSTART:20251102T090000
END:STANDARD
BEGIN:DAYLIGHT
TZOFFSETFROM:-0800
TZOFFSETTO:-0700
TZNAME:PDT
DTSTART:20260308T100000
END:DAYLIGHT
BEGIN:STANDARD
TZOFFSETFROM:-0700
TZOFFSETTO:-0800
TZNAME:PST
DTSTART:20261101T090000
END:STANDARD
END:VTIMEZONE
BEGIN:VEVENT
DTSTART;TZID=America/Los_Angeles:20250901T180000
DTEND;TZID=America/Los_Angeles:20250901T190000
DTSTAMP:20260424T030430
CREATED:20250713T050339Z
LAST-MODIFIED:20250813T040616Z
UID:10002444-1756749600-1756753200@prisonfamiliesalliance.org
SUMMARY:(No Meeting) General Support Meeting – La Porte\, IN (6PM CT)
DESCRIPTION:There will be no meeting today.  See you on 9/15. \nThis PFA General Support meeting is in person and provides a compassionate and supportive space for individuals who have a loved one in the carceral system. Recognizing the inherent challenges and stress that come with this experience\, we offer a platform for sharing information\, perspectives\, and personal experiences. Join us to connect with others who understand and navigate this journey with empathy and insight. We look forward to welcoming you and building a supportive network together. \n6:00 CT – First Church of God\, 2020 East LincolnWay\, La Porte\, IN\n 
URL:https://prisonfamiliesalliance.org/event/in-person-general-support-meeting-la-porte-in-6pm-ct-12/
LOCATION:Touro Law School\, 225 Eastview Dr.\, Central Islip\, New York\, 11722
CATEGORIES:Group Meeting
END:VEVENT
BEGIN:VEVENT
DTSTART;TZID=America/Los_Angeles:20250904T173000
DTEND;TZID=America/Los_Angeles:20250904T190000
DTSTAMP:20260424T030430
CREATED:20250713T045950Z
LAST-MODIFIED:20250713T045950Z
UID:10002442-1757007000-1757012400@prisonfamiliesalliance.org
SUMMARY:(In Person) PFA CARES Support Meeting AND Youth Art Program – Las Vegas\, Nevada (5:30pm PT)
DESCRIPTION:Join the PFA CARES (Community\, Advocacy\, Resources\, Education and Support) and Youth Art Program meetings every Thursday where both adults and youth who have or had loved ones in the carceral system are welcome. Enjoy a light meal in a compassionate and caring environment\, perfect for sharing experiences and receiving support. While adults engage in the support meeting\, youth participate in our engaging and positive Youth Art Program\, designed to nurture creativity and expression. All youth must be accompanied by an adult. Click here for more information on the Youth Art Program. \nWe look forward to coming together as a community\, fostering understanding and solidarity for everyone involved. For more information click link. \nEmail connect@PrisonFamiliesAlliance.org to sign up for PFA CARE and/or your youth attending the Youth Art Program. \n5:30pm – 7:00pm Pacific Time Zone
URL:https://prisonfamiliesalliance.org/event/in-person-pfa-cares-support-meeting-and-youth-art-program-las-vegas-nevada-530pm-pt-16/
LOCATION:Foundation for Recovery\, 4800 Alpine Place\, Las Vegas\, NV\, 89018\, United States
CATEGORIES:Group Meeting
END:VEVENT
BEGIN:VEVENT
DTSTART;TZID=America/Los_Angeles:20250915T180000
DTEND;TZID=America/Los_Angeles:20250915T190000
DTSTAMP:20260424T030430
CREATED:20250713T052405Z
LAST-MODIFIED:20250713T052405Z
UID:10002466-1757959200-1757962800@prisonfamiliesalliance.org
SUMMARY:(In Person) General Support Meeting – La Porte\, IN (6PM CT)
DESCRIPTION:This PFA General Support meeting is in person and provides a compassionate and supportive space for individuals who have a loved one in the carceral system. Recognizing the inherent challenges and stress that come with this experience\, we offer a platform for sharing information\, perspectives\, and personal experiences. Join us to connect with others who understand and navigate this journey with empathy and insight. We look forward to welcoming you and building a supportive network together. \n6:00 CT – First Church of God\, 2020 East LincolnWay\, La Porte\, IN\n 
URL:https://prisonfamiliesalliance.org/event/in-person-general-support-meeting-la-porte-in-6pm-ct-14/
LOCATION:Touro Law School\, 225 Eastview Dr.\, Central Islip\, New York\, 11722
CATEGORIES:Group Meeting
END:VEVENT
BEGIN:VEVENT
DTSTART;TZID=America/Los_Angeles:20250916T173000
DTEND;TZID=America/Los_Angeles:20250916T190000
DTSTAMP:20260424T030430
CREATED:20250901T063209Z
LAST-MODIFIED:20250904T232305Z
UID:10002504-1758043800-1758049200@prisonfamiliesalliance.org
SUMMARY:(In Person) PFA CARES Support Meeting AND Youth Art Program – Las Vegas\, Nevada (5:30pm PT)
DESCRIPTION:Join the PFA CARES (Community\, Advocacy\, Resources\, Education and Support) and Youth Art Program meetings the first Thursday of every month where both adults and youth who have or had loved ones in the carceral system are welcome. Enjoy a light meal in a compassionate and caring environment\, perfect for sharing experiences and receiving support. While adults engage in the support meeting\, youth participate in our engaging and positive Youth Art Program\, designed to nurture creativity and expression. All youth must be accompanied by an adult. Click here for more information on the Youth Art Program. \nWe look forward to coming together as a community\, fostering understanding and solidarity for everyone involved. For more information click link. \nEmail connect@PrisonFamiliesAlliance.org to sign up for PFA CARE and/or your youth attending the Youth Art Program. \n5:30pm – 7:00pm Pacific Time Zone
URL:https://prisonfamiliesalliance.org/event/in-person-pfa-cares-support-meeting-and-youth-art-program-las-vegas-nevada-530pm-pt-17/
LOCATION:Foundation for Recovery\, 4800 Alpine Place\, Las Vegas\, NV\, 89018\, United States
CATEGORIES:Group Meeting
END:VEVENT
BEGIN:VEVENT
DTSTART;TZID=America/Los_Angeles:20250920T100000
DTEND;TZID=America/Los_Angeles:20250920T230000
DTSTAMP:20260424T030430
CREATED:20250904T233607Z
LAST-MODIFIED:20250904T233607Z
UID:10002509-1758362400-1758409200@prisonfamiliesalliance.org
SUMMARY:(In Person) PFA Youth Program – Las Vegas\, Nevada (10:00am PT)
DESCRIPTION:Join the PFA CARES (Community\, Advocacy\, Resources\, Education and Support) and Youth Program to give back to the community. On Saturday\, September 20 at 10am we’re going to join with another group and make sandwiches that will be delivered to those that are unhoused. It’s a great opportunity for youth to participate in a community activity. \nWe look forward to coming together as a community\, fostering understanding and solidarity for everyone involved. \n4800 Alpine Place (upstairs – look for PFA Sign\, we’ll be in Suite 3)\, Las Vegas\, NV
URL:https://prisonfamiliesalliance.org/event/in-person-pfa-youth-program-las-vegas-nevada-1000am-pt/
LOCATION:Foundation for Recovery\, 4800 Alpine Place\, Las Vegas\, NV\, 89018\, United States
CATEGORIES:Group Meeting
END:VEVENT
BEGIN:VEVENT
DTSTART;TZID=America/Los_Angeles:20250921T120000
DTEND;TZID=America/Los_Angeles:20250921T130000
DTSTAMP:20260424T030430
CREATED:20250714T001658Z
LAST-MODIFIED:20250719T215635Z
UID:10002482-1758456000-1758459600@prisonfamiliesalliance.org
SUMMARY:PFA Youth Group – (Ages 13-17) (Check Your Time Zone)
DESCRIPTION:PFA Youth Group – (Ages 13-17) \nA safe\, non-judgmental\, and supportive meeting for youth to talk kid-to-kid.  Meeting is facilitated by adults\, and youths have fun and are provided tools to help them deal with having an incarcerated family member.  Parent or legal guardian need to fill out registration form: Click Here to Register (Scroll down to registration form and submit). Zoom link will be emailed prior to meeting. Email connect@PrisonFamiliesAlliance.org if you need additional information. \nYouth 13-17 years old: Noon PT\, 1pm MT\, 2pm CT\, 3pm ET (1 hour session)
URL:https://prisonfamiliesalliance.org/event/check-your-time-zone-pfa-youth-group-ages-13-17-16/
LOCATION:Zoom
CATEGORIES:Group Meeting
END:VEVENT
END:VCALENDAR