BEGIN:VCALENDAR
VERSION:2.0
PRODID:-//Prison Families Alliance - ECPv6.15.20//NONSGML v1.0//EN
CALSCALE:GREGORIAN
METHOD:PUBLISH
X-ORIGINAL-URL:https://prisonfamiliesalliance.org
X-WR-CALDESC:Events for Prison Families Alliance
REFRESH-INTERVAL;VALUE=DURATION:PT1H
X-Robots-Tag:noindex
X-PUBLISHED-TTL:PT1H
BEGIN:VTIMEZONE
TZID:America/Los_Angeles
BEGIN:DAYLIGHT
TZOFFSETFROM:-0800
TZOFFSETTO:-0700
TZNAME:PDT
DTSTART:20250309T100000
END:DAYLIGHT
BEGIN:STANDARD
TZOFFSETFROM:-0700
TZOFFSETTO:-0800
TZNAME:PST
DTSTART:20251102T090000
END:STANDARD
BEGIN:DAYLIGHT
TZOFFSETFROM:-0800
TZOFFSETTO:-0700
TZNAME:PDT
DTSTART:20260308T100000
END:DAYLIGHT
BEGIN:STANDARD
TZOFFSETFROM:-0700
TZOFFSETTO:-0800
TZNAME:PST
DTSTART:20261101T090000
END:STANDARD
BEGIN:DAYLIGHT
TZOFFSETFROM:-0800
TZOFFSETTO:-0700
TZNAME:PDT
DTSTART:20270314T100000
END:DAYLIGHT
BEGIN:STANDARD
TZOFFSETFROM:-0700
TZOFFSETTO:-0800
TZNAME:PST
DTSTART:20271107T090000
END:STANDARD
END:VTIMEZONE
BEGIN:VEVENT
DTSTART;TZID=America/Los_Angeles:20260101T173000
DTEND;TZID=America/Los_Angeles:20260101T190000
DTSTAMP:20260423T132350
CREATED:20251222T154654Z
LAST-MODIFIED:20251222T154654Z
UID:10003024-1767288600-1767294000@prisonfamiliesalliance.org
SUMMARY:(In Person) PFA CARES Support Meeting AND Youth Art Program – Las Vegas\, Nevada (5:30pm PT)
DESCRIPTION:Join the PFA CARES (Community\, Advocacy\, Resources\, Education and Support) and Youth Art Program meetings where both adults and youth who have or had loved ones in the carceral system are welcome. Enjoy a light meal in a compassionate and caring environment\, perfect for sharing experiences and receiving support. While adults engage in the support meeting\, youth participate in our engaging and positive Youth Art Program\, designed to nurture creativity and expression. All youth must be accompanied by an adult. Click here for more information on the Youth Art Program. \nWe look forward to coming together as a community\, fostering understanding and solidarity for everyone involved. For more information click link. \nEmail connect@PrisonFamiliesAlliance.org to sign up for PFA CARES. \nIn person – 4800 Alpine Place\, Suite 7\, Las Vegas\, NV \n5:30pm – 7:00pm Pacific Time Zone
URL:https://prisonfamiliesalliance.org/event/in-person-pfa-cares-support-meeting-and-youth-art-program-las-vegas-nevada-530pm-pt-21/
LOCATION:Foundation for Recovery\, 4800 Alpine Place\, Las Vegas\, NV\, 89018\, United States
CATEGORIES:Group Meeting
END:VEVENT
BEGIN:VEVENT
DTSTART;TZID=America/Los_Angeles:20260105T180000
DTEND;TZID=America/Los_Angeles:20260105T190000
DTSTAMP:20260423T132350
CREATED:20251125T040717Z
LAST-MODIFIED:20251125T043832Z
UID:10002603-1767636000-1767639600@prisonfamiliesalliance.org
SUMMARY:(In Person) General Support Meeting – La Porte\, IN (6PM CT)
DESCRIPTION:This PFA General Support meeting is in person and provides a compassionate and supportive space for individuals who have a loved one in the carceral system. Recognizing the inherent challenges and stress that come with this experience\, we offer a platform for sharing information\, perspectives\, and personal experiences. Join us to connect with others who understand and navigate this journey with empathy and insight. We look forward to welcoming you and building a supportive network together. \n6:00 CT – First Church of God\, 2020 East Lincoln Way\, La Porte\, IN\n 
URL:https://prisonfamiliesalliance.org/event/in-person-general-support-meeting-la-porte-in-6pm-ct-19/
LOCATION:Touro Law School\, 225 Eastview Dr.\, Central Islip\, New York\, 11722
CATEGORIES:Group Meeting
END:VEVENT
BEGIN:VEVENT
DTSTART;TZID=America/Los_Angeles:20260118T120000
DTEND;TZID=America/Los_Angeles:20260118T130000
DTSTAMP:20260423T132350
CREATED:20260107T005026Z
LAST-MODIFIED:20260107T005026Z
UID:10003089-1768737600-1768741200@prisonfamiliesalliance.org
SUMMARY:PFA Youth Group – (Ages 13-17) (Check Your Time Zone)
DESCRIPTION:PFA Youth Group – (Ages 13-17) \nA safe\, non-judgmental\, and supportive meeting for youth to talk kid-to-kid.  Meeting is facilitated by adults\, and youths have fun and are provided tools to help them deal with having an incarcerated family member.  Zoom link will be emailed prior to meeting. Email connect@PrisonFamiliesAlliance.org if you need additional information. \nYouth 13-17 years old: Noon PT\, 1pm MT\, 2pm CT\, 3pm ET (1 hour session)
URL:https://prisonfamiliesalliance.org/event/pfa-youth-group-ages-13-17-check-your-time-zone-2/2026-01-18/
LOCATION:Zoom
CATEGORIES:Group Meeting
END:VEVENT
BEGIN:VEVENT
DTSTART;TZID=America/Los_Angeles:20260119T180000
DTEND;TZID=America/Los_Angeles:20260119T190000
DTSTAMP:20260423T132350
CREATED:20251125T045408Z
LAST-MODIFIED:20251125T045408Z
UID:10002620-1768845600-1768849200@prisonfamiliesalliance.org
SUMMARY:(In Person) General Support Meeting – La Porte\, IN (6PM CT)
DESCRIPTION:This PFA General Support meeting is in person and provides a compassionate and supportive space for individuals who have a loved one in the carceral system. Recognizing the inherent challenges and stress that come with this experience\, we offer a platform for sharing information\, perspectives\, and personal experiences. Join us to connect with others who understand and navigate this journey with empathy and insight. We look forward to welcoming you and building a supportive network together. \n6:00 CT – First Church of God\, 2020 East Lincoln Way\, La Porte\, IN\n 
URL:https://prisonfamiliesalliance.org/event/in-person-general-support-meeting-la-porte-in-6pm-ct-36/
LOCATION:First Church of God\,\, 2020 East Lincoln Way\, La Porte\, IN\, United States
CATEGORIES:Group Meeting
END:VEVENT
BEGIN:VEVENT
DTSTART;TZID=America/Los_Angeles:20260124T140000
DTEND;TZID=America/Los_Angeles:20260124T160000
DTSTAMP:20260423T132350
CREATED:20260102T191831Z
LAST-MODIFIED:20260102T191831Z
UID:10003027-1769263200-1769270400@prisonfamiliesalliance.org
SUMMARY:(In Person) PFA CARES FUN ART DAY – Las Vegas\, Nevada (2:00pm PT)
DESCRIPTION:PFA FUN ART DAY is a welcoming creative space for adults and youth to explore their imagination through drawing\, painting\, vision boards\, and more. Come express yourself\, relax\, and have fun using your creativity in a supportive environment. All youth must be accompanied by an adult. \nEmail connect@PrisonFamiliesAlliance.org for questions or more information. \nIn person – 4800 Alpine Place\, Suite 7\, Las Vegas\, NV \n2:00pm – 4:00pm Pacific Time Zone
URL:https://prisonfamiliesalliance.org/event/in-person-pfa-cares-fun-art-day-las-vegas-nevada-200pm-pt/
LOCATION:Foundation for Recovery\, 4800 Alpine Place\, Las Vegas\, NV\, 89018\, United States
CATEGORIES:Group Meeting
END:VEVENT
END:VCALENDAR