BEGIN:VCALENDAR
VERSION:2.0
PRODID:-//Prison Families Alliance - ECPv6.15.20//NONSGML v1.0//EN
CALSCALE:GREGORIAN
METHOD:PUBLISH
X-ORIGINAL-URL:https://prisonfamiliesalliance.org
X-WR-CALDESC:Events for Prison Families Alliance
REFRESH-INTERVAL;VALUE=DURATION:PT1H
X-Robots-Tag:noindex
X-PUBLISHED-TTL:PT1H
BEGIN:VTIMEZONE
TZID:America/Los_Angeles
BEGIN:DAYLIGHT
TZOFFSETFROM:-0800
TZOFFSETTO:-0700
TZNAME:PDT
DTSTART:20250309T100000
END:DAYLIGHT
BEGIN:STANDARD
TZOFFSETFROM:-0700
TZOFFSETTO:-0800
TZNAME:PST
DTSTART:20251102T090000
END:STANDARD
BEGIN:DAYLIGHT
TZOFFSETFROM:-0800
TZOFFSETTO:-0700
TZNAME:PDT
DTSTART:20260308T100000
END:DAYLIGHT
BEGIN:STANDARD
TZOFFSETFROM:-0700
TZOFFSETTO:-0800
TZNAME:PST
DTSTART:20261101T090000
END:STANDARD
BEGIN:DAYLIGHT
TZOFFSETFROM:-0800
TZOFFSETTO:-0700
TZNAME:PDT
DTSTART:20270314T100000
END:DAYLIGHT
BEGIN:STANDARD
TZOFFSETFROM:-0700
TZOFFSETTO:-0800
TZNAME:PST
DTSTART:20271107T090000
END:STANDARD
END:VTIMEZONE
BEGIN:VEVENT
DTSTART;TZID=America/Los_Angeles:20260219T170000
DTEND;TZID=America/Los_Angeles:20260219T180000
DTSTAMP:20260423T132647
CREATED:20260124T233119Z
LAST-MODIFIED:20260124T233119Z
UID:10003135-1771520400-1771524000@prisonfamiliesalliance.org
SUMMARY:Self-Care: Staying in the Game - Resilience Tools That Work Real Time - 5:00pm PT
DESCRIPTION:Having an incarcerated loved one can bring overwhelming stress\, emotional strain\, and uncertainty. In this one-hour self–care workshop\, Amy will guide participants through calming techniques and practical tools to help relieve stress\, restore balance\, and build emotional resilience. Whether you’re directly impacted by incarceration or navigating other life challenges\, this session will offer supportive practices to help you care for yourself in the midst of it all. You’ll leave with easy-to-use strategies you can incorporate into your daily life to support your mental and emotional well-being. And most of all we’ll have fun together learning and using these tools! \nJoin online at 5:00 PT | 6:00 MT | 7:00 CT | 8:00 ET  — Click on ZOOM Link
URL:https://prisonfamiliesalliance.org/event/self-care-staying-in-the-game-resilience-tools-that-work-real-time-500pm-pt/
LOCATION:Zoom
CATEGORIES:Group Meeting
END:VEVENT
END:VCALENDAR