BEGIN:VCALENDAR
VERSION:2.0
PRODID:-//Prison Families Alliance - ECPv6.15.20//NONSGML v1.0//EN
CALSCALE:GREGORIAN
METHOD:PUBLISH
X-ORIGINAL-URL:https://prisonfamiliesalliance.org
X-WR-CALDESC:Events for Prison Families Alliance
REFRESH-INTERVAL;VALUE=DURATION:PT1H
X-Robots-Tag:noindex
X-PUBLISHED-TTL:PT1H
BEGIN:VTIMEZONE
TZID:America/Los_Angeles
BEGIN:DAYLIGHT
TZOFFSETFROM:-0800
TZOFFSETTO:-0700
TZNAME:PDT
DTSTART:20230312T100000
END:DAYLIGHT
BEGIN:STANDARD
TZOFFSETFROM:-0700
TZOFFSETTO:-0800
TZNAME:PST
DTSTART:20231105T090000
END:STANDARD
BEGIN:DAYLIGHT
TZOFFSETFROM:-0800
TZOFFSETTO:-0700
TZNAME:PDT
DTSTART:20240310T100000
END:DAYLIGHT
BEGIN:STANDARD
TZOFFSETFROM:-0700
TZOFFSETTO:-0800
TZNAME:PST
DTSTART:20241103T090000
END:STANDARD
BEGIN:DAYLIGHT
TZOFFSETFROM:-0800
TZOFFSETTO:-0700
TZNAME:PDT
DTSTART:20250309T100000
END:DAYLIGHT
BEGIN:STANDARD
TZOFFSETFROM:-0700
TZOFFSETTO:-0800
TZNAME:PST
DTSTART:20251102T090000
END:STANDARD
END:VTIMEZONE
BEGIN:VEVENT
DTSTART;TZID=America/Los_Angeles:20240519T150000
DTEND;TZID=America/Los_Angeles:20240519T160000
DTSTAMP:20260425T181244
CREATED:20240428T005951Z
LAST-MODIFIED:20240428T005951Z
UID:10002032-1716130800-1716134400@prisonfamiliesalliance.org
SUMMARY:PFA Youth Group - 2 Meetings 3pm ET and 3pm PT
DESCRIPTION:Time:  3pm PT\, 3pm ET \nA safe\, non-judgmental\, and supportive meeting for youth to talk kid-to-kid.  Meeting is facilitated by adults\, and youths have fun and are provided tools to help them deal with having an incarcerated family member.  Parent or legal guardian need to fill out registration form: Click Here to Register(Scroll down to registration form and submit) \nMeeting will be on Zoom and kids will be moved into separate age-appropriate rooms during the meeting
URL:https://prisonfamiliesalliance.org/event/pfa-youth-group-2-meetings-3pm-et-and-3pm-pt/
LOCATION:Zoom
CATEGORIES:Youth Meeting
END:VEVENT
END:VCALENDAR