BEGIN:VCALENDAR
VERSION:2.0
PRODID:-//Prison Families Alliance - ECPv6.15.20//NONSGML v1.0//EN
CALSCALE:GREGORIAN
METHOD:PUBLISH
X-ORIGINAL-URL:https://prisonfamiliesalliance.org
X-WR-CALDESC:Events for Prison Families Alliance
REFRESH-INTERVAL;VALUE=DURATION:PT1H
X-Robots-Tag:noindex
X-PUBLISHED-TTL:PT1H
BEGIN:VTIMEZONE
TZID:America/Los_Angeles
BEGIN:DAYLIGHT
TZOFFSETFROM:-0800
TZOFFSETTO:-0700
TZNAME:PDT
DTSTART:20260308T100000
END:DAYLIGHT
BEGIN:STANDARD
TZOFFSETFROM:-0700
TZOFFSETTO:-0800
TZNAME:PST
DTSTART:20261101T090000
END:STANDARD
BEGIN:DAYLIGHT
TZOFFSETFROM:-0800
TZOFFSETTO:-0700
TZNAME:PDT
DTSTART:20270314T100000
END:DAYLIGHT
BEGIN:STANDARD
TZOFFSETFROM:-0700
TZOFFSETTO:-0800
TZNAME:PST
DTSTART:20271107T090000
END:STANDARD
BEGIN:DAYLIGHT
TZOFFSETFROM:-0800
TZOFFSETTO:-0700
TZNAME:PDT
DTSTART:20280312T100000
END:DAYLIGHT
BEGIN:STANDARD
TZOFFSETFROM:-0700
TZOFFSETTO:-0800
TZNAME:PST
DTSTART:20281105T090000
END:STANDARD
END:VTIMEZONE
BEGIN:VEVENT
DTSTART;TZID=America/Los_Angeles:20270428T170000
DTEND;TZID=America/Los_Angeles:20270428T180000
DTSTAMP:20260424T004418
CREATED:20260105T021752Z
LAST-MODIFIED:20260105T023422Z
UID:10003043-1808931600-1808935200@prisonfamiliesalliance.org
SUMMARY:(Check Your Time Zone) General Support Meeting in Spanish
DESCRIPTION:PFA General Support Meeting in Spanish: Esta reunion general es en Espanol – Participe hoy en una reunion que sera compasiva\, informativa y de ayuda para cualquier persona que ha tenido un ser querido en el sistema penitenciario. Tener un ser querido en el sistema penitenciario es una situación estresante y una etapa difícil. Unese con personas que entienden y comparten información\, perspectiva y experiencias personales. \nEn linea:  ZOOM LINK \n5:00pm PT\, 6:00pm MT\, 7:00pm CT\, 8:00pm ET \n 
URL:https://prisonfamiliesalliance.org/event/check-your-time-zone-general-support-meeting-in-spanish-13/2027-04-28/
LOCATION:Zoom
CATEGORIES:Support Group Meeting
END:VEVENT
END:VCALENDAR