BEGIN:VCALENDAR
VERSION:2.0
PRODID:-//Prison Families Alliance - ECPv6.15.20//NONSGML v1.0//EN
CALSCALE:GREGORIAN
METHOD:PUBLISH
X-WR-CALNAME:Prison Families Alliance
X-ORIGINAL-URL:https://prisonfamiliesalliance.org
X-WR-CALDESC:Events for Prison Families Alliance
REFRESH-INTERVAL;VALUE=DURATION:PT1H
X-Robots-Tag:noindex
X-PUBLISHED-TTL:PT1H
BEGIN:VTIMEZONE
TZID:America/Los_Angeles
BEGIN:DAYLIGHT
TZOFFSETFROM:-0800
TZOFFSETTO:-0700
TZNAME:PDT
DTSTART:20250309T100000
END:DAYLIGHT
BEGIN:STANDARD
TZOFFSETFROM:-0700
TZOFFSETTO:-0800
TZNAME:PST
DTSTART:20251102T090000
END:STANDARD
BEGIN:DAYLIGHT
TZOFFSETFROM:-0800
TZOFFSETTO:-0700
TZNAME:PDT
DTSTART:20260308T100000
END:DAYLIGHT
BEGIN:STANDARD
TZOFFSETFROM:-0700
TZOFFSETTO:-0800
TZNAME:PST
DTSTART:20261101T090000
END:STANDARD
BEGIN:DAYLIGHT
TZOFFSETFROM:-0800
TZOFFSETTO:-0700
TZNAME:PDT
DTSTART:20270314T100000
END:DAYLIGHT
BEGIN:STANDARD
TZOFFSETFROM:-0700
TZOFFSETTO:-0800
TZNAME:PST
DTSTART:20271107T090000
END:STANDARD
END:VTIMEZONE
BEGIN:VEVENT
DTSTART;TZID=America/Los_Angeles:20260509T090000
DTEND;TZID=America/Los_Angeles:20260509T100000
DTSTAMP:20260423T081729
CREATED:20251127T215746Z
LAST-MODIFIED:20251127T220407Z
UID:10002739-1778317200-1778320800@prisonfamiliesalliance.org
SUMMARY:Lioness Moms CHAT (Check Your Time Zone)
DESCRIPTION:9:00am PT\, 10:00am MT\, 11:00am CT\, Noon ET\nJoin us for Lioness Moms CHAT\, a support meeting tailored for mothers with incarcerated loved ones\, although others are welcome to join. Our mission is to educate\, empower\, encourage\, and support mothers and families facing challenges to their loved one’s freedom. Come connect with us – together\, we are stronger. \nClick Zoom Link:  ZOOM LINK \n 
URL:https://prisonfamiliesalliance.org/event/lioness-moms-chat-check-your-time-zone-4/2026-05-09/
LOCATION:Zoom
CATEGORIES:Support Group Meeting
END:VEVENT
BEGIN:VEVENT
DTSTART;TZID=America/Los_Angeles:20260613T090000
DTEND;TZID=America/Los_Angeles:20260613T100000
DTSTAMP:20260423T081729
CREATED:20251127T215746Z
LAST-MODIFIED:20251127T220407Z
UID:10002740-1781341200-1781344800@prisonfamiliesalliance.org
SUMMARY:Lioness Moms CHAT (Check Your Time Zone)
DESCRIPTION:9:00am PT\, 10:00am MT\, 11:00am CT\, Noon ET\nJoin us for Lioness Moms CHAT\, a support meeting tailored for mothers with incarcerated loved ones\, although others are welcome to join. Our mission is to educate\, empower\, encourage\, and support mothers and families facing challenges to their loved one’s freedom. Come connect with us – together\, we are stronger. \nClick Zoom Link:  ZOOM LINK \n 
URL:https://prisonfamiliesalliance.org/event/lioness-moms-chat-check-your-time-zone-4/2026-06-13/
LOCATION:Zoom
CATEGORIES:Support Group Meeting
END:VEVENT
BEGIN:VEVENT
DTSTART;TZID=America/Los_Angeles:20260711T090000
DTEND;TZID=America/Los_Angeles:20260711T100000
DTSTAMP:20260423T081729
CREATED:20251127T215746Z
LAST-MODIFIED:20251127T220407Z
UID:10002741-1783760400-1783764000@prisonfamiliesalliance.org
SUMMARY:Lioness Moms CHAT (Check Your Time Zone)
DESCRIPTION:9:00am PT\, 10:00am MT\, 11:00am CT\, Noon ET\nJoin us for Lioness Moms CHAT\, a support meeting tailored for mothers with incarcerated loved ones\, although others are welcome to join. Our mission is to educate\, empower\, encourage\, and support mothers and families facing challenges to their loved one’s freedom. Come connect with us – together\, we are stronger. \nClick Zoom Link:  ZOOM LINK \n 
URL:https://prisonfamiliesalliance.org/event/lioness-moms-chat-check-your-time-zone-4/2026-07-11/
LOCATION:Zoom
CATEGORIES:Support Group Meeting
END:VEVENT
BEGIN:VEVENT
DTSTART;TZID=America/Los_Angeles:20260808T090000
DTEND;TZID=America/Los_Angeles:20260808T100000
DTSTAMP:20260423T081729
CREATED:20251127T215746Z
LAST-MODIFIED:20251127T220407Z
UID:10002742-1786179600-1786183200@prisonfamiliesalliance.org
SUMMARY:Lioness Moms CHAT (Check Your Time Zone)
DESCRIPTION:9:00am PT\, 10:00am MT\, 11:00am CT\, Noon ET\nJoin us for Lioness Moms CHAT\, a support meeting tailored for mothers with incarcerated loved ones\, although others are welcome to join. Our mission is to educate\, empower\, encourage\, and support mothers and families facing challenges to their loved one’s freedom. Come connect with us – together\, we are stronger. \nClick Zoom Link:  ZOOM LINK \n 
URL:https://prisonfamiliesalliance.org/event/lioness-moms-chat-check-your-time-zone-4/2026-08-08/
LOCATION:Zoom
CATEGORIES:Support Group Meeting
END:VEVENT
BEGIN:VEVENT
DTSTART;TZID=America/Los_Angeles:20260912T090000
DTEND;TZID=America/Los_Angeles:20260912T100000
DTSTAMP:20260423T081729
CREATED:20251127T215746Z
LAST-MODIFIED:20251127T220407Z
UID:10002743-1789203600-1789207200@prisonfamiliesalliance.org
SUMMARY:Lioness Moms CHAT (Check Your Time Zone)
DESCRIPTION:9:00am PT\, 10:00am MT\, 11:00am CT\, Noon ET\nJoin us for Lioness Moms CHAT\, a support meeting tailored for mothers with incarcerated loved ones\, although others are welcome to join. Our mission is to educate\, empower\, encourage\, and support mothers and families facing challenges to their loved one’s freedom. Come connect with us – together\, we are stronger. \nClick Zoom Link:  ZOOM LINK \n 
URL:https://prisonfamiliesalliance.org/event/lioness-moms-chat-check-your-time-zone-4/2026-09-12/
LOCATION:Zoom
CATEGORIES:Support Group Meeting
END:VEVENT
BEGIN:VEVENT
DTSTART;TZID=America/Los_Angeles:20261010T090000
DTEND;TZID=America/Los_Angeles:20261010T100000
DTSTAMP:20260423T081729
CREATED:20251127T215746Z
LAST-MODIFIED:20251127T220407Z
UID:10002744-1791622800-1791626400@prisonfamiliesalliance.org
SUMMARY:Lioness Moms CHAT (Check Your Time Zone)
DESCRIPTION:9:00am PT\, 10:00am MT\, 11:00am CT\, Noon ET\nJoin us for Lioness Moms CHAT\, a support meeting tailored for mothers with incarcerated loved ones\, although others are welcome to join. Our mission is to educate\, empower\, encourage\, and support mothers and families facing challenges to their loved one’s freedom. Come connect with us – together\, we are stronger. \nClick Zoom Link:  ZOOM LINK \n 
URL:https://prisonfamiliesalliance.org/event/lioness-moms-chat-check-your-time-zone-4/2026-10-10/
LOCATION:Zoom
CATEGORIES:Support Group Meeting
END:VEVENT
BEGIN:VEVENT
DTSTART;TZID=America/Los_Angeles:20261114T090000
DTEND;TZID=America/Los_Angeles:20261114T100000
DTSTAMP:20260423T081729
CREATED:20251127T215746Z
LAST-MODIFIED:20251127T220407Z
UID:10002745-1794646800-1794650400@prisonfamiliesalliance.org
SUMMARY:Lioness Moms CHAT (Check Your Time Zone)
DESCRIPTION:9:00am PT\, 10:00am MT\, 11:00am CT\, Noon ET\nJoin us for Lioness Moms CHAT\, a support meeting tailored for mothers with incarcerated loved ones\, although others are welcome to join. Our mission is to educate\, empower\, encourage\, and support mothers and families facing challenges to their loved one’s freedom. Come connect with us – together\, we are stronger. \nClick Zoom Link:  ZOOM LINK \n 
URL:https://prisonfamiliesalliance.org/event/lioness-moms-chat-check-your-time-zone-4/2026-11-14/
LOCATION:Zoom
CATEGORIES:Support Group Meeting
END:VEVENT
BEGIN:VEVENT
DTSTART;TZID=America/Los_Angeles:20261212T090000
DTEND;TZID=America/Los_Angeles:20261212T100000
DTSTAMP:20260423T081729
CREATED:20251127T215746Z
LAST-MODIFIED:20251127T220407Z
UID:10002746-1797066000-1797069600@prisonfamiliesalliance.org
SUMMARY:Lioness Moms CHAT (Check Your Time Zone)
DESCRIPTION:9:00am PT\, 10:00am MT\, 11:00am CT\, Noon ET\nJoin us for Lioness Moms CHAT\, a support meeting tailored for mothers with incarcerated loved ones\, although others are welcome to join. Our mission is to educate\, empower\, encourage\, and support mothers and families facing challenges to their loved one’s freedom. Come connect with us – together\, we are stronger. \nClick Zoom Link:  ZOOM LINK \n 
URL:https://prisonfamiliesalliance.org/event/lioness-moms-chat-check-your-time-zone-4/2026-12-12/
LOCATION:Zoom
CATEGORIES:Support Group Meeting
END:VEVENT
END:VCALENDAR