BEGIN:VCALENDAR
VERSION:2.0
PRODID:-//Prison Families Alliance - ECPv6.15.20//NONSGML v1.0//EN
CALSCALE:GREGORIAN
METHOD:PUBLISH
X-WR-CALNAME:Prison Families Alliance
X-ORIGINAL-URL:https://prisonfamiliesalliance.org
X-WR-CALDESC:Events for Prison Families Alliance
REFRESH-INTERVAL;VALUE=DURATION:PT1H
X-Robots-Tag:noindex
X-PUBLISHED-TTL:PT1H
BEGIN:VTIMEZONE
TZID:America/Los_Angeles
BEGIN:DAYLIGHT
TZOFFSETFROM:-0800
TZOFFSETTO:-0700
TZNAME:PDT
DTSTART:20250309T100000
END:DAYLIGHT
BEGIN:STANDARD
TZOFFSETFROM:-0700
TZOFFSETTO:-0800
TZNAME:PST
DTSTART:20251102T090000
END:STANDARD
BEGIN:DAYLIGHT
TZOFFSETFROM:-0800
TZOFFSETTO:-0700
TZNAME:PDT
DTSTART:20260308T100000
END:DAYLIGHT
BEGIN:STANDARD
TZOFFSETFROM:-0700
TZOFFSETTO:-0800
TZNAME:PST
DTSTART:20261101T090000
END:STANDARD
BEGIN:DAYLIGHT
TZOFFSETFROM:-0800
TZOFFSETTO:-0700
TZNAME:PDT
DTSTART:20270314T100000
END:DAYLIGHT
BEGIN:STANDARD
TZOFFSETFROM:-0700
TZOFFSETTO:-0800
TZNAME:PST
DTSTART:20271107T090000
END:STANDARD
END:VTIMEZONE
BEGIN:VEVENT
DTSTART;TZID=America/Los_Angeles:20260423T150000
DTEND;TZID=America/Los_Angeles:20260423T160000
DTSTAMP:20260423T081801
CREATED:20251129T033734Z
LAST-MODIFIED:20251129T033734Z
UID:10002964-1776956400-1776960000@prisonfamiliesalliance.org
SUMMARY:Returning Citizens Meeting (Check your TimeZone)
DESCRIPTION:3:00 PT | 4:00 MT | 5:00 CT | 6:00 ET \nThis meeting is for PFA Families’ loved ones who are returning from prison or jail to the community.  These are our Returning Citizens.  This meeting will be limited to people who have formerly been incarcerated. \nJoin us for a support meeting exclusively for individuals who have experienced incarceration. This is a safe\, welcoming space to share\, listen\, and connect with others who understand the unique challenges of reentry. Come as you are—no judgment\, just support. \nClick Zoom Link: Zoom Link \n3:00 PT | 4:00 MT | 5:00 CT | 6:00 ET \n 
URL:https://prisonfamiliesalliance.org/event/returning-citizens-meeting-check-your-timezone-4/2026-04-23/
LOCATION:Foundation for Recovery\, 4800 Alpine Place\, Las Vegas\, NV\, 89018\, United States
CATEGORIES:Support Group Meeting
END:VEVENT
BEGIN:VEVENT
DTSTART;TZID=America/Los_Angeles:20260528T150000
DTEND;TZID=America/Los_Angeles:20260528T160000
DTSTAMP:20260423T081801
CREATED:20251129T033734Z
LAST-MODIFIED:20251129T033734Z
UID:10002965-1779980400-1779984000@prisonfamiliesalliance.org
SUMMARY:Returning Citizens Meeting (Check your TimeZone)
DESCRIPTION:3:00 PT | 4:00 MT | 5:00 CT | 6:00 ET \nThis meeting is for PFA Families’ loved ones who are returning from prison or jail to the community.  These are our Returning Citizens.  This meeting will be limited to people who have formerly been incarcerated. \nJoin us for a support meeting exclusively for individuals who have experienced incarceration. This is a safe\, welcoming space to share\, listen\, and connect with others who understand the unique challenges of reentry. Come as you are—no judgment\, just support. \nClick Zoom Link: Zoom Link \n3:00 PT | 4:00 MT | 5:00 CT | 6:00 ET \n 
URL:https://prisonfamiliesalliance.org/event/returning-citizens-meeting-check-your-timezone-4/2026-05-28/
LOCATION:Foundation for Recovery\, 4800 Alpine Place\, Las Vegas\, NV\, 89018\, United States
CATEGORIES:Support Group Meeting
END:VEVENT
BEGIN:VEVENT
DTSTART;TZID=America/Los_Angeles:20260625T150000
DTEND;TZID=America/Los_Angeles:20260625T160000
DTSTAMP:20260423T081801
CREATED:20251129T033734Z
LAST-MODIFIED:20251129T033734Z
UID:10002966-1782399600-1782403200@prisonfamiliesalliance.org
SUMMARY:Returning Citizens Meeting (Check your TimeZone)
DESCRIPTION:3:00 PT | 4:00 MT | 5:00 CT | 6:00 ET \nThis meeting is for PFA Families’ loved ones who are returning from prison or jail to the community.  These are our Returning Citizens.  This meeting will be limited to people who have formerly been incarcerated. \nJoin us for a support meeting exclusively for individuals who have experienced incarceration. This is a safe\, welcoming space to share\, listen\, and connect with others who understand the unique challenges of reentry. Come as you are—no judgment\, just support. \nClick Zoom Link: Zoom Link \n3:00 PT | 4:00 MT | 5:00 CT | 6:00 ET \n 
URL:https://prisonfamiliesalliance.org/event/returning-citizens-meeting-check-your-timezone-4/2026-06-25/
LOCATION:Foundation for Recovery\, 4800 Alpine Place\, Las Vegas\, NV\, 89018\, United States
CATEGORIES:Support Group Meeting
END:VEVENT
BEGIN:VEVENT
DTSTART;TZID=America/Los_Angeles:20260723T150000
DTEND;TZID=America/Los_Angeles:20260723T160000
DTSTAMP:20260423T081801
CREATED:20251129T033734Z
LAST-MODIFIED:20251129T033734Z
UID:10002967-1784818800-1784822400@prisonfamiliesalliance.org
SUMMARY:Returning Citizens Meeting (Check your TimeZone)
DESCRIPTION:3:00 PT | 4:00 MT | 5:00 CT | 6:00 ET \nThis meeting is for PFA Families’ loved ones who are returning from prison or jail to the community.  These are our Returning Citizens.  This meeting will be limited to people who have formerly been incarcerated. \nJoin us for a support meeting exclusively for individuals who have experienced incarceration. This is a safe\, welcoming space to share\, listen\, and connect with others who understand the unique challenges of reentry. Come as you are—no judgment\, just support. \nClick Zoom Link: Zoom Link \n3:00 PT | 4:00 MT | 5:00 CT | 6:00 ET \n 
URL:https://prisonfamiliesalliance.org/event/returning-citizens-meeting-check-your-timezone-4/2026-07-23/
LOCATION:Foundation for Recovery\, 4800 Alpine Place\, Las Vegas\, NV\, 89018\, United States
CATEGORIES:Support Group Meeting
END:VEVENT
BEGIN:VEVENT
DTSTART;TZID=America/Los_Angeles:20260827T150000
DTEND;TZID=America/Los_Angeles:20260827T160000
DTSTAMP:20260423T081801
CREATED:20251129T033734Z
LAST-MODIFIED:20251129T033734Z
UID:10002968-1787842800-1787846400@prisonfamiliesalliance.org
SUMMARY:Returning Citizens Meeting (Check your TimeZone)
DESCRIPTION:3:00 PT | 4:00 MT | 5:00 CT | 6:00 ET \nThis meeting is for PFA Families’ loved ones who are returning from prison or jail to the community.  These are our Returning Citizens.  This meeting will be limited to people who have formerly been incarcerated. \nJoin us for a support meeting exclusively for individuals who have experienced incarceration. This is a safe\, welcoming space to share\, listen\, and connect with others who understand the unique challenges of reentry. Come as you are—no judgment\, just support. \nClick Zoom Link: Zoom Link \n3:00 PT | 4:00 MT | 5:00 CT | 6:00 ET \n 
URL:https://prisonfamiliesalliance.org/event/returning-citizens-meeting-check-your-timezone-4/2026-08-27/
LOCATION:Foundation for Recovery\, 4800 Alpine Place\, Las Vegas\, NV\, 89018\, United States
CATEGORIES:Support Group Meeting
END:VEVENT
BEGIN:VEVENT
DTSTART;TZID=America/Los_Angeles:20260924T150000
DTEND;TZID=America/Los_Angeles:20260924T160000
DTSTAMP:20260423T081801
CREATED:20251129T033734Z
LAST-MODIFIED:20251129T033734Z
UID:10002969-1790262000-1790265600@prisonfamiliesalliance.org
SUMMARY:Returning Citizens Meeting (Check your TimeZone)
DESCRIPTION:3:00 PT | 4:00 MT | 5:00 CT | 6:00 ET \nThis meeting is for PFA Families’ loved ones who are returning from prison or jail to the community.  These are our Returning Citizens.  This meeting will be limited to people who have formerly been incarcerated. \nJoin us for a support meeting exclusively for individuals who have experienced incarceration. This is a safe\, welcoming space to share\, listen\, and connect with others who understand the unique challenges of reentry. Come as you are—no judgment\, just support. \nClick Zoom Link: Zoom Link \n3:00 PT | 4:00 MT | 5:00 CT | 6:00 ET \n 
URL:https://prisonfamiliesalliance.org/event/returning-citizens-meeting-check-your-timezone-4/2026-09-24/
LOCATION:Foundation for Recovery\, 4800 Alpine Place\, Las Vegas\, NV\, 89018\, United States
CATEGORIES:Support Group Meeting
END:VEVENT
BEGIN:VEVENT
DTSTART;TZID=America/Los_Angeles:20261022T150000
DTEND;TZID=America/Los_Angeles:20261022T160000
DTSTAMP:20260423T081801
CREATED:20251129T033734Z
LAST-MODIFIED:20251129T033734Z
UID:10002970-1792681200-1792684800@prisonfamiliesalliance.org
SUMMARY:Returning Citizens Meeting (Check your TimeZone)
DESCRIPTION:3:00 PT | 4:00 MT | 5:00 CT | 6:00 ET \nThis meeting is for PFA Families’ loved ones who are returning from prison or jail to the community.  These are our Returning Citizens.  This meeting will be limited to people who have formerly been incarcerated. \nJoin us for a support meeting exclusively for individuals who have experienced incarceration. This is a safe\, welcoming space to share\, listen\, and connect with others who understand the unique challenges of reentry. Come as you are—no judgment\, just support. \nClick Zoom Link: Zoom Link \n3:00 PT | 4:00 MT | 5:00 CT | 6:00 ET \n 
URL:https://prisonfamiliesalliance.org/event/returning-citizens-meeting-check-your-timezone-4/2026-10-22/
LOCATION:Foundation for Recovery\, 4800 Alpine Place\, Las Vegas\, NV\, 89018\, United States
CATEGORIES:Support Group Meeting
END:VEVENT
BEGIN:VEVENT
DTSTART;TZID=America/Los_Angeles:20261126T150000
DTEND;TZID=America/Los_Angeles:20261126T160000
DTSTAMP:20260423T081801
CREATED:20251129T033734Z
LAST-MODIFIED:20251129T033734Z
UID:10002971-1795705200-1795708800@prisonfamiliesalliance.org
SUMMARY:Returning Citizens Meeting (Check your TimeZone)
DESCRIPTION:3:00 PT | 4:00 MT | 5:00 CT | 6:00 ET \nThis meeting is for PFA Families’ loved ones who are returning from prison or jail to the community.  These are our Returning Citizens.  This meeting will be limited to people who have formerly been incarcerated. \nJoin us for a support meeting exclusively for individuals who have experienced incarceration. This is a safe\, welcoming space to share\, listen\, and connect with others who understand the unique challenges of reentry. Come as you are—no judgment\, just support. \nClick Zoom Link: Zoom Link \n3:00 PT | 4:00 MT | 5:00 CT | 6:00 ET \n 
URL:https://prisonfamiliesalliance.org/event/returning-citizens-meeting-check-your-timezone-4/2026-11-26/
LOCATION:Foundation for Recovery\, 4800 Alpine Place\, Las Vegas\, NV\, 89018\, United States
CATEGORIES:Support Group Meeting
END:VEVENT
BEGIN:VEVENT
DTSTART;TZID=America/Los_Angeles:20261224T150000
DTEND;TZID=America/Los_Angeles:20261224T160000
DTSTAMP:20260423T081801
CREATED:20251129T033734Z
LAST-MODIFIED:20251129T033734Z
UID:10002972-1798124400-1798128000@prisonfamiliesalliance.org
SUMMARY:Returning Citizens Meeting (Check your TimeZone)
DESCRIPTION:3:00 PT | 4:00 MT | 5:00 CT | 6:00 ET \nThis meeting is for PFA Families’ loved ones who are returning from prison or jail to the community.  These are our Returning Citizens.  This meeting will be limited to people who have formerly been incarcerated. \nJoin us for a support meeting exclusively for individuals who have experienced incarceration. This is a safe\, welcoming space to share\, listen\, and connect with others who understand the unique challenges of reentry. Come as you are—no judgment\, just support. \nClick Zoom Link: Zoom Link \n3:00 PT | 4:00 MT | 5:00 CT | 6:00 ET \n 
URL:https://prisonfamiliesalliance.org/event/returning-citizens-meeting-check-your-timezone-4/2026-12-24/
LOCATION:Foundation for Recovery\, 4800 Alpine Place\, Las Vegas\, NV\, 89018\, United States
CATEGORIES:Support Group Meeting
END:VEVENT
END:VCALENDAR