BEGIN:VCALENDAR
VERSION:2.0
PRODID:-//Prison Families Alliance - ECPv6.15.20//NONSGML v1.0//EN
CALSCALE:GREGORIAN
METHOD:PUBLISH
X-WR-CALNAME:Prison Families Alliance
X-ORIGINAL-URL:https://prisonfamiliesalliance.org
X-WR-CALDESC:Events for Prison Families Alliance
REFRESH-INTERVAL;VALUE=DURATION:PT1H
X-Robots-Tag:noindex
X-PUBLISHED-TTL:PT1H
BEGIN:VTIMEZONE
TZID:America/Los_Angeles
BEGIN:DAYLIGHT
TZOFFSETFROM:-0800
TZOFFSETTO:-0700
TZNAME:PDT
DTSTART:20250309T100000
END:DAYLIGHT
BEGIN:STANDARD
TZOFFSETFROM:-0700
TZOFFSETTO:-0800
TZNAME:PST
DTSTART:20251102T090000
END:STANDARD
BEGIN:DAYLIGHT
TZOFFSETFROM:-0800
TZOFFSETTO:-0700
TZNAME:PDT
DTSTART:20260308T100000
END:DAYLIGHT
BEGIN:STANDARD
TZOFFSETFROM:-0700
TZOFFSETTO:-0800
TZNAME:PST
DTSTART:20261101T090000
END:STANDARD
BEGIN:DAYLIGHT
TZOFFSETFROM:-0800
TZOFFSETTO:-0700
TZNAME:PDT
DTSTART:20270314T100000
END:DAYLIGHT
BEGIN:STANDARD
TZOFFSETFROM:-0700
TZOFFSETTO:-0800
TZNAME:PST
DTSTART:20271107T090000
END:STANDARD
END:VTIMEZONE
BEGIN:VEVENT
DTSTART;TZID=America/Los_Angeles:20260427T173000
DTEND;TZID=America/Los_Angeles:20260427T190000
DTSTAMP:20260423T083057
CREATED:20260124T231625Z
LAST-MODIFIED:20260124T231625Z
UID:10003127-1777311000-1777316400@prisonfamiliesalliance.org
SUMMARY:(In Person) PFA CARES Support Meeting AND Youth Program – Las Vegas\, Nevada (5:30pm PT)
DESCRIPTION:PFA CARES Youth Program and Adult Support. The Youth are supervised by facilitators while adults meet in their own are to share\, learn\, and support each other. \nThe Prison Families Alliance (PFA) Youth Program is a fun\, welcoming space where young people who have a justice-impacted family member can be themselves\, share their feelings\, and connect with other kids who understand what they’re going through. Through art\, creativity\, and play\, participants get the chance to heal\, grow\, and build confidence while having a great time. \n🖌️ What We Do \n\nPainting & drawing\nCreative writing\nDrama & music\nMovement\, games & activities\n\n🍕 FREE PROGRAM • FOOD PROVIDED \n📍 When: 2nd & 4th Mondays | 5:30 PM \n📍 Where: 4800 Alpine Place\, Suite 7 \n(Foundation for Recovery Building) Las Vegas\, NV \nA safe place to create\, heal\, and grow—because our kids deserve support\, joy\, and connection.
URL:https://prisonfamiliesalliance.org/event/in-person-pfa-cares-support-meeting-and-youth-program-las-vegas-nevada-530pm-pt-2/2026-04-27/
LOCATION:Foundation for Recovery\, 4800 Alpine Place\, Las Vegas\, NV\, 89018\, United States
CATEGORIES:Group Meeting
END:VEVENT
BEGIN:VEVENT
DTSTART;TZID=America/Los_Angeles:20260511T173000
DTEND;TZID=America/Los_Angeles:20260511T190000
DTSTAMP:20260423T083057
CREATED:20260124T231447Z
LAST-MODIFIED:20260124T231517Z
UID:10003106-1778520600-1778526000@prisonfamiliesalliance.org
SUMMARY:(In Person) PFA CARES Support Meeting AND Youth Program – Las Vegas\, Nevada (5:30pm PT)
DESCRIPTION:PFA CARES Youth Program and Adult Support. The Youth are supervised by facilitators while adults meet in their own are to share\, learn\, and support each other. \nThe Prison Families Alliance (PFA) Youth Program is a fun\, welcoming space where young people who have a justice-impacted family member can be themselves\, share their feelings\, and connect with other kids who understand what they’re going through. Through art\, creativity\, and play\, participants get the chance to heal\, grow\, and build confidence while having a great time. \n🖌️ What We Do \n\nPainting & drawing\nCreative writing\nDrama & music\nMovement\, games & activities\n\n🍕 FREE PROGRAM • FOOD PROVIDED \n📍 When: 2nd & 4th Mondays | 5:30 PM \n📍 Where: 4800 Alpine Place\, Suite 7 \n(Foundation for Recovery Building) Las Vegas\, NV \nA safe place to create\, heal\, and grow—because our kids deserve support\, joy\, and connection.
URL:https://prisonfamiliesalliance.org/event/in-person-pfa-cares-support-meeting-and-youth-program-las-vegas-nevada-530pm-pt/2026-05-11/
LOCATION:Foundation for Recovery\, 4800 Alpine Place\, Las Vegas\, NV\, 89018\, United States
CATEGORIES:Group Meeting
END:VEVENT
BEGIN:VEVENT
DTSTART;TZID=America/Los_Angeles:20260525T173000
DTEND;TZID=America/Los_Angeles:20260525T190000
DTSTAMP:20260423T083057
CREATED:20260124T231625Z
LAST-MODIFIED:20260124T231625Z
UID:10003128-1779730200-1779735600@prisonfamiliesalliance.org
SUMMARY:(In Person) PFA CARES Support Meeting AND Youth Program – Las Vegas\, Nevada (5:30pm PT)
DESCRIPTION:PFA CARES Youth Program and Adult Support. The Youth are supervised by facilitators while adults meet in their own are to share\, learn\, and support each other. \nThe Prison Families Alliance (PFA) Youth Program is a fun\, welcoming space where young people who have a justice-impacted family member can be themselves\, share their feelings\, and connect with other kids who understand what they’re going through. Through art\, creativity\, and play\, participants get the chance to heal\, grow\, and build confidence while having a great time. \n🖌️ What We Do \n\nPainting & drawing\nCreative writing\nDrama & music\nMovement\, games & activities\n\n🍕 FREE PROGRAM • FOOD PROVIDED \n📍 When: 2nd & 4th Mondays | 5:30 PM \n📍 Where: 4800 Alpine Place\, Suite 7 \n(Foundation for Recovery Building) Las Vegas\, NV \nA safe place to create\, heal\, and grow—because our kids deserve support\, joy\, and connection.
URL:https://prisonfamiliesalliance.org/event/in-person-pfa-cares-support-meeting-and-youth-program-las-vegas-nevada-530pm-pt-2/2026-05-25/
LOCATION:Foundation for Recovery\, 4800 Alpine Place\, Las Vegas\, NV\, 89018\, United States
CATEGORIES:Group Meeting
END:VEVENT
BEGIN:VEVENT
DTSTART;TZID=America/Los_Angeles:20260608T173000
DTEND;TZID=America/Los_Angeles:20260608T190000
DTSTAMP:20260423T083057
CREATED:20260124T231447Z
LAST-MODIFIED:20260124T231517Z
UID:10003107-1780939800-1780945200@prisonfamiliesalliance.org
SUMMARY:(In Person) PFA CARES Support Meeting AND Youth Program – Las Vegas\, Nevada (5:30pm PT)
DESCRIPTION:PFA CARES Youth Program and Adult Support. The Youth are supervised by facilitators while adults meet in their own are to share\, learn\, and support each other. \nThe Prison Families Alliance (PFA) Youth Program is a fun\, welcoming space where young people who have a justice-impacted family member can be themselves\, share their feelings\, and connect with other kids who understand what they’re going through. Through art\, creativity\, and play\, participants get the chance to heal\, grow\, and build confidence while having a great time. \n🖌️ What We Do \n\nPainting & drawing\nCreative writing\nDrama & music\nMovement\, games & activities\n\n🍕 FREE PROGRAM • FOOD PROVIDED \n📍 When: 2nd & 4th Mondays | 5:30 PM \n📍 Where: 4800 Alpine Place\, Suite 7 \n(Foundation for Recovery Building) Las Vegas\, NV \nA safe place to create\, heal\, and grow—because our kids deserve support\, joy\, and connection.
URL:https://prisonfamiliesalliance.org/event/in-person-pfa-cares-support-meeting-and-youth-program-las-vegas-nevada-530pm-pt/2026-06-08/
LOCATION:Foundation for Recovery\, 4800 Alpine Place\, Las Vegas\, NV\, 89018\, United States
CATEGORIES:Group Meeting
END:VEVENT
BEGIN:VEVENT
DTSTART;TZID=America/Los_Angeles:20260622T173000
DTEND;TZID=America/Los_Angeles:20260622T190000
DTSTAMP:20260423T083057
CREATED:20260124T231625Z
LAST-MODIFIED:20260124T231625Z
UID:10003129-1782149400-1782154800@prisonfamiliesalliance.org
SUMMARY:(In Person) PFA CARES Support Meeting AND Youth Program – Las Vegas\, Nevada (5:30pm PT)
DESCRIPTION:PFA CARES Youth Program and Adult Support. The Youth are supervised by facilitators while adults meet in their own are to share\, learn\, and support each other. \nThe Prison Families Alliance (PFA) Youth Program is a fun\, welcoming space where young people who have a justice-impacted family member can be themselves\, share their feelings\, and connect with other kids who understand what they’re going through. Through art\, creativity\, and play\, participants get the chance to heal\, grow\, and build confidence while having a great time. \n🖌️ What We Do \n\nPainting & drawing\nCreative writing\nDrama & music\nMovement\, games & activities\n\n🍕 FREE PROGRAM • FOOD PROVIDED \n📍 When: 2nd & 4th Mondays | 5:30 PM \n📍 Where: 4800 Alpine Place\, Suite 7 \n(Foundation for Recovery Building) Las Vegas\, NV \nA safe place to create\, heal\, and grow—because our kids deserve support\, joy\, and connection.
URL:https://prisonfamiliesalliance.org/event/in-person-pfa-cares-support-meeting-and-youth-program-las-vegas-nevada-530pm-pt-2/2026-06-22/
LOCATION:Foundation for Recovery\, 4800 Alpine Place\, Las Vegas\, NV\, 89018\, United States
CATEGORIES:Group Meeting
END:VEVENT
BEGIN:VEVENT
DTSTART;TZID=America/Los_Angeles:20260713T173000
DTEND;TZID=America/Los_Angeles:20260713T190000
DTSTAMP:20260423T083057
CREATED:20260124T231447Z
LAST-MODIFIED:20260124T231517Z
UID:10003108-1783963800-1783969200@prisonfamiliesalliance.org
SUMMARY:(In Person) PFA CARES Support Meeting AND Youth Program – Las Vegas\, Nevada (5:30pm PT)
DESCRIPTION:PFA CARES Youth Program and Adult Support. The Youth are supervised by facilitators while adults meet in their own are to share\, learn\, and support each other. \nThe Prison Families Alliance (PFA) Youth Program is a fun\, welcoming space where young people who have a justice-impacted family member can be themselves\, share their feelings\, and connect with other kids who understand what they’re going through. Through art\, creativity\, and play\, participants get the chance to heal\, grow\, and build confidence while having a great time. \n🖌️ What We Do \n\nPainting & drawing\nCreative writing\nDrama & music\nMovement\, games & activities\n\n🍕 FREE PROGRAM • FOOD PROVIDED \n📍 When: 2nd & 4th Mondays | 5:30 PM \n📍 Where: 4800 Alpine Place\, Suite 7 \n(Foundation for Recovery Building) Las Vegas\, NV \nA safe place to create\, heal\, and grow—because our kids deserve support\, joy\, and connection.
URL:https://prisonfamiliesalliance.org/event/in-person-pfa-cares-support-meeting-and-youth-program-las-vegas-nevada-530pm-pt/2026-07-13/
LOCATION:Foundation for Recovery\, 4800 Alpine Place\, Las Vegas\, NV\, 89018\, United States
CATEGORIES:Group Meeting
END:VEVENT
BEGIN:VEVENT
DTSTART;TZID=America/Los_Angeles:20260727T173000
DTEND;TZID=America/Los_Angeles:20260727T190000
DTSTAMP:20260423T083057
CREATED:20260124T231625Z
LAST-MODIFIED:20260124T231625Z
UID:10003130-1785173400-1785178800@prisonfamiliesalliance.org
SUMMARY:(In Person) PFA CARES Support Meeting AND Youth Program – Las Vegas\, Nevada (5:30pm PT)
DESCRIPTION:PFA CARES Youth Program and Adult Support. The Youth are supervised by facilitators while adults meet in their own are to share\, learn\, and support each other. \nThe Prison Families Alliance (PFA) Youth Program is a fun\, welcoming space where young people who have a justice-impacted family member can be themselves\, share their feelings\, and connect with other kids who understand what they’re going through. Through art\, creativity\, and play\, participants get the chance to heal\, grow\, and build confidence while having a great time. \n🖌️ What We Do \n\nPainting & drawing\nCreative writing\nDrama & music\nMovement\, games & activities\n\n🍕 FREE PROGRAM • FOOD PROVIDED \n📍 When: 2nd & 4th Mondays | 5:30 PM \n📍 Where: 4800 Alpine Place\, Suite 7 \n(Foundation for Recovery Building) Las Vegas\, NV \nA safe place to create\, heal\, and grow—because our kids deserve support\, joy\, and connection.
URL:https://prisonfamiliesalliance.org/event/in-person-pfa-cares-support-meeting-and-youth-program-las-vegas-nevada-530pm-pt-2/2026-07-27/
LOCATION:Foundation for Recovery\, 4800 Alpine Place\, Las Vegas\, NV\, 89018\, United States
CATEGORIES:Group Meeting
END:VEVENT
BEGIN:VEVENT
DTSTART;TZID=America/Los_Angeles:20260810T173000
DTEND;TZID=America/Los_Angeles:20260810T190000
DTSTAMP:20260423T083057
CREATED:20260124T231447Z
LAST-MODIFIED:20260124T231517Z
UID:10003109-1786383000-1786388400@prisonfamiliesalliance.org
SUMMARY:(In Person) PFA CARES Support Meeting AND Youth Program – Las Vegas\, Nevada (5:30pm PT)
DESCRIPTION:PFA CARES Youth Program and Adult Support. The Youth are supervised by facilitators while adults meet in their own are to share\, learn\, and support each other. \nThe Prison Families Alliance (PFA) Youth Program is a fun\, welcoming space where young people who have a justice-impacted family member can be themselves\, share their feelings\, and connect with other kids who understand what they’re going through. Through art\, creativity\, and play\, participants get the chance to heal\, grow\, and build confidence while having a great time. \n🖌️ What We Do \n\nPainting & drawing\nCreative writing\nDrama & music\nMovement\, games & activities\n\n🍕 FREE PROGRAM • FOOD PROVIDED \n📍 When: 2nd & 4th Mondays | 5:30 PM \n📍 Where: 4800 Alpine Place\, Suite 7 \n(Foundation for Recovery Building) Las Vegas\, NV \nA safe place to create\, heal\, and grow—because our kids deserve support\, joy\, and connection.
URL:https://prisonfamiliesalliance.org/event/in-person-pfa-cares-support-meeting-and-youth-program-las-vegas-nevada-530pm-pt/2026-08-10/
LOCATION:Foundation for Recovery\, 4800 Alpine Place\, Las Vegas\, NV\, 89018\, United States
CATEGORIES:Group Meeting
END:VEVENT
BEGIN:VEVENT
DTSTART;TZID=America/Los_Angeles:20260824T173000
DTEND;TZID=America/Los_Angeles:20260824T190000
DTSTAMP:20260423T083057
CREATED:20260124T231625Z
LAST-MODIFIED:20260124T231625Z
UID:10003131-1787592600-1787598000@prisonfamiliesalliance.org
SUMMARY:(In Person) PFA CARES Support Meeting AND Youth Program – Las Vegas\, Nevada (5:30pm PT)
DESCRIPTION:PFA CARES Youth Program and Adult Support. The Youth are supervised by facilitators while adults meet in their own are to share\, learn\, and support each other. \nThe Prison Families Alliance (PFA) Youth Program is a fun\, welcoming space where young people who have a justice-impacted family member can be themselves\, share their feelings\, and connect with other kids who understand what they’re going through. Through art\, creativity\, and play\, participants get the chance to heal\, grow\, and build confidence while having a great time. \n🖌️ What We Do \n\nPainting & drawing\nCreative writing\nDrama & music\nMovement\, games & activities\n\n🍕 FREE PROGRAM • FOOD PROVIDED \n📍 When: 2nd & 4th Mondays | 5:30 PM \n📍 Where: 4800 Alpine Place\, Suite 7 \n(Foundation for Recovery Building) Las Vegas\, NV \nA safe place to create\, heal\, and grow—because our kids deserve support\, joy\, and connection.
URL:https://prisonfamiliesalliance.org/event/in-person-pfa-cares-support-meeting-and-youth-program-las-vegas-nevada-530pm-pt-2/2026-08-24/
LOCATION:Foundation for Recovery\, 4800 Alpine Place\, Las Vegas\, NV\, 89018\, United States
CATEGORIES:Group Meeting
END:VEVENT
BEGIN:VEVENT
DTSTART;TZID=America/Los_Angeles:20260914T173000
DTEND;TZID=America/Los_Angeles:20260914T190000
DTSTAMP:20260423T083057
CREATED:20260124T231447Z
LAST-MODIFIED:20260124T231517Z
UID:10003110-1789407000-1789412400@prisonfamiliesalliance.org
SUMMARY:(In Person) PFA CARES Support Meeting AND Youth Program – Las Vegas\, Nevada (5:30pm PT)
DESCRIPTION:PFA CARES Youth Program and Adult Support. The Youth are supervised by facilitators while adults meet in their own are to share\, learn\, and support each other. \nThe Prison Families Alliance (PFA) Youth Program is a fun\, welcoming space where young people who have a justice-impacted family member can be themselves\, share their feelings\, and connect with other kids who understand what they’re going through. Through art\, creativity\, and play\, participants get the chance to heal\, grow\, and build confidence while having a great time. \n🖌️ What We Do \n\nPainting & drawing\nCreative writing\nDrama & music\nMovement\, games & activities\n\n🍕 FREE PROGRAM • FOOD PROVIDED \n📍 When: 2nd & 4th Mondays | 5:30 PM \n📍 Where: 4800 Alpine Place\, Suite 7 \n(Foundation for Recovery Building) Las Vegas\, NV \nA safe place to create\, heal\, and grow—because our kids deserve support\, joy\, and connection.
URL:https://prisonfamiliesalliance.org/event/in-person-pfa-cares-support-meeting-and-youth-program-las-vegas-nevada-530pm-pt/2026-09-14/
LOCATION:Foundation for Recovery\, 4800 Alpine Place\, Las Vegas\, NV\, 89018\, United States
CATEGORIES:Group Meeting
END:VEVENT
BEGIN:VEVENT
DTSTART;TZID=America/Los_Angeles:20260928T173000
DTEND;TZID=America/Los_Angeles:20260928T190000
DTSTAMP:20260423T083057
CREATED:20260124T231625Z
LAST-MODIFIED:20260124T231625Z
UID:10003132-1790616600-1790622000@prisonfamiliesalliance.org
SUMMARY:(In Person) PFA CARES Support Meeting AND Youth Program – Las Vegas\, Nevada (5:30pm PT)
DESCRIPTION:PFA CARES Youth Program and Adult Support. The Youth are supervised by facilitators while adults meet in their own are to share\, learn\, and support each other. \nThe Prison Families Alliance (PFA) Youth Program is a fun\, welcoming space where young people who have a justice-impacted family member can be themselves\, share their feelings\, and connect with other kids who understand what they’re going through. Through art\, creativity\, and play\, participants get the chance to heal\, grow\, and build confidence while having a great time. \n🖌️ What We Do \n\nPainting & drawing\nCreative writing\nDrama & music\nMovement\, games & activities\n\n🍕 FREE PROGRAM • FOOD PROVIDED \n📍 When: 2nd & 4th Mondays | 5:30 PM \n📍 Where: 4800 Alpine Place\, Suite 7 \n(Foundation for Recovery Building) Las Vegas\, NV \nA safe place to create\, heal\, and grow—because our kids deserve support\, joy\, and connection.
URL:https://prisonfamiliesalliance.org/event/in-person-pfa-cares-support-meeting-and-youth-program-las-vegas-nevada-530pm-pt-2/2026-09-28/
LOCATION:Foundation for Recovery\, 4800 Alpine Place\, Las Vegas\, NV\, 89018\, United States
CATEGORIES:Group Meeting
END:VEVENT
BEGIN:VEVENT
DTSTART;TZID=America/Los_Angeles:20261012T173000
DTEND;TZID=America/Los_Angeles:20261012T190000
DTSTAMP:20260423T083057
CREATED:20260124T231447Z
LAST-MODIFIED:20260124T231517Z
UID:10003111-1791826200-1791831600@prisonfamiliesalliance.org
SUMMARY:(In Person) PFA CARES Support Meeting AND Youth Program – Las Vegas\, Nevada (5:30pm PT)
DESCRIPTION:PFA CARES Youth Program and Adult Support. The Youth are supervised by facilitators while adults meet in their own are to share\, learn\, and support each other. \nThe Prison Families Alliance (PFA) Youth Program is a fun\, welcoming space where young people who have a justice-impacted family member can be themselves\, share their feelings\, and connect with other kids who understand what they’re going through. Through art\, creativity\, and play\, participants get the chance to heal\, grow\, and build confidence while having a great time. \n🖌️ What We Do \n\nPainting & drawing\nCreative writing\nDrama & music\nMovement\, games & activities\n\n🍕 FREE PROGRAM • FOOD PROVIDED \n📍 When: 2nd & 4th Mondays | 5:30 PM \n📍 Where: 4800 Alpine Place\, Suite 7 \n(Foundation for Recovery Building) Las Vegas\, NV \nA safe place to create\, heal\, and grow—because our kids deserve support\, joy\, and connection.
URL:https://prisonfamiliesalliance.org/event/in-person-pfa-cares-support-meeting-and-youth-program-las-vegas-nevada-530pm-pt/2026-10-12/
LOCATION:Foundation for Recovery\, 4800 Alpine Place\, Las Vegas\, NV\, 89018\, United States
CATEGORIES:Group Meeting
END:VEVENT
BEGIN:VEVENT
DTSTART;TZID=America/Los_Angeles:20261026T173000
DTEND;TZID=America/Los_Angeles:20261026T190000
DTSTAMP:20260423T083057
CREATED:20260124T231625Z
LAST-MODIFIED:20260124T231625Z
UID:10003133-1793035800-1793041200@prisonfamiliesalliance.org
SUMMARY:(In Person) PFA CARES Support Meeting AND Youth Program – Las Vegas\, Nevada (5:30pm PT)
DESCRIPTION:PFA CARES Youth Program and Adult Support. The Youth are supervised by facilitators while adults meet in their own are to share\, learn\, and support each other. \nThe Prison Families Alliance (PFA) Youth Program is a fun\, welcoming space where young people who have a justice-impacted family member can be themselves\, share their feelings\, and connect with other kids who understand what they’re going through. Through art\, creativity\, and play\, participants get the chance to heal\, grow\, and build confidence while having a great time. \n🖌️ What We Do \n\nPainting & drawing\nCreative writing\nDrama & music\nMovement\, games & activities\n\n🍕 FREE PROGRAM • FOOD PROVIDED \n📍 When: 2nd & 4th Mondays | 5:30 PM \n📍 Where: 4800 Alpine Place\, Suite 7 \n(Foundation for Recovery Building) Las Vegas\, NV \nA safe place to create\, heal\, and grow—because our kids deserve support\, joy\, and connection.
URL:https://prisonfamiliesalliance.org/event/in-person-pfa-cares-support-meeting-and-youth-program-las-vegas-nevada-530pm-pt-2/2026-10-26/
LOCATION:Foundation for Recovery\, 4800 Alpine Place\, Las Vegas\, NV\, 89018\, United States
CATEGORIES:Group Meeting
END:VEVENT
BEGIN:VEVENT
DTSTART;TZID=America/Los_Angeles:20261109T173000
DTEND;TZID=America/Los_Angeles:20261109T190000
DTSTAMP:20260423T083057
CREATED:20260124T231447Z
LAST-MODIFIED:20260124T231517Z
UID:10003112-1794245400-1794250800@prisonfamiliesalliance.org
SUMMARY:(In Person) PFA CARES Support Meeting AND Youth Program – Las Vegas\, Nevada (5:30pm PT)
DESCRIPTION:PFA CARES Youth Program and Adult Support. The Youth are supervised by facilitators while adults meet in their own are to share\, learn\, and support each other. \nThe Prison Families Alliance (PFA) Youth Program is a fun\, welcoming space where young people who have a justice-impacted family member can be themselves\, share their feelings\, and connect with other kids who understand what they’re going through. Through art\, creativity\, and play\, participants get the chance to heal\, grow\, and build confidence while having a great time. \n🖌️ What We Do \n\nPainting & drawing\nCreative writing\nDrama & music\nMovement\, games & activities\n\n🍕 FREE PROGRAM • FOOD PROVIDED \n📍 When: 2nd & 4th Mondays | 5:30 PM \n📍 Where: 4800 Alpine Place\, Suite 7 \n(Foundation for Recovery Building) Las Vegas\, NV \nA safe place to create\, heal\, and grow—because our kids deserve support\, joy\, and connection.
URL:https://prisonfamiliesalliance.org/event/in-person-pfa-cares-support-meeting-and-youth-program-las-vegas-nevada-530pm-pt/2026-11-09/
LOCATION:Foundation for Recovery\, 4800 Alpine Place\, Las Vegas\, NV\, 89018\, United States
CATEGORIES:Group Meeting
END:VEVENT
BEGIN:VEVENT
DTSTART;TZID=America/Los_Angeles:20261123T173000
DTEND;TZID=America/Los_Angeles:20261123T190000
DTSTAMP:20260423T083057
CREATED:20260124T231625Z
LAST-MODIFIED:20260124T231625Z
UID:10003134-1795455000-1795460400@prisonfamiliesalliance.org
SUMMARY:(In Person) PFA CARES Support Meeting AND Youth Program – Las Vegas\, Nevada (5:30pm PT)
DESCRIPTION:PFA CARES Youth Program and Adult Support. The Youth are supervised by facilitators while adults meet in their own are to share\, learn\, and support each other. \nThe Prison Families Alliance (PFA) Youth Program is a fun\, welcoming space where young people who have a justice-impacted family member can be themselves\, share their feelings\, and connect with other kids who understand what they’re going through. Through art\, creativity\, and play\, participants get the chance to heal\, grow\, and build confidence while having a great time. \n🖌️ What We Do \n\nPainting & drawing\nCreative writing\nDrama & music\nMovement\, games & activities\n\n🍕 FREE PROGRAM • FOOD PROVIDED \n📍 When: 2nd & 4th Mondays | 5:30 PM \n📍 Where: 4800 Alpine Place\, Suite 7 \n(Foundation for Recovery Building) Las Vegas\, NV \nA safe place to create\, heal\, and grow—because our kids deserve support\, joy\, and connection.
URL:https://prisonfamiliesalliance.org/event/in-person-pfa-cares-support-meeting-and-youth-program-las-vegas-nevada-530pm-pt-2/2026-11-23/
LOCATION:Foundation for Recovery\, 4800 Alpine Place\, Las Vegas\, NV\, 89018\, United States
CATEGORIES:Group Meeting
END:VEVENT
BEGIN:VEVENT
DTSTART;TZID=America/Los_Angeles:20261214T173000
DTEND;TZID=America/Los_Angeles:20261214T190000
DTSTAMP:20260423T083057
CREATED:20260124T231447Z
LAST-MODIFIED:20260124T231517Z
UID:10003113-1797269400-1797274800@prisonfamiliesalliance.org
SUMMARY:(In Person) PFA CARES Support Meeting AND Youth Program – Las Vegas\, Nevada (5:30pm PT)
DESCRIPTION:PFA CARES Youth Program and Adult Support. The Youth are supervised by facilitators while adults meet in their own are to share\, learn\, and support each other. \nThe Prison Families Alliance (PFA) Youth Program is a fun\, welcoming space where young people who have a justice-impacted family member can be themselves\, share their feelings\, and connect with other kids who understand what they’re going through. Through art\, creativity\, and play\, participants get the chance to heal\, grow\, and build confidence while having a great time. \n🖌️ What We Do \n\nPainting & drawing\nCreative writing\nDrama & music\nMovement\, games & activities\n\n🍕 FREE PROGRAM • FOOD PROVIDED \n📍 When: 2nd & 4th Mondays | 5:30 PM \n📍 Where: 4800 Alpine Place\, Suite 7 \n(Foundation for Recovery Building) Las Vegas\, NV \nA safe place to create\, heal\, and grow—because our kids deserve support\, joy\, and connection.
URL:https://prisonfamiliesalliance.org/event/in-person-pfa-cares-support-meeting-and-youth-program-las-vegas-nevada-530pm-pt/2026-12-14/
LOCATION:Foundation for Recovery\, 4800 Alpine Place\, Las Vegas\, NV\, 89018\, United States
CATEGORIES:Group Meeting
END:VEVENT
END:VCALENDAR