BEGIN:VCALENDAR
VERSION:2.0
PRODID:-//Prison Families Alliance - ECPv6.15.20//NONSGML v1.0//EN
CALSCALE:GREGORIAN
METHOD:PUBLISH
X-WR-CALNAME:Prison Families Alliance
X-ORIGINAL-URL:https://prisonfamiliesalliance.org
X-WR-CALDESC:Events for Prison Families Alliance
REFRESH-INTERVAL;VALUE=DURATION:PT1H
X-Robots-Tag:noindex
X-PUBLISHED-TTL:PT1H
BEGIN:VTIMEZONE
TZID:America/New_York
BEGIN:DAYLIGHT
TZOFFSETFROM:-0500
TZOFFSETTO:-0400
TZNAME:EDT
DTSTART:20230312T070000
END:DAYLIGHT
BEGIN:STANDARD
TZOFFSETFROM:-0400
TZOFFSETTO:-0500
TZNAME:EST
DTSTART:20231105T060000
END:STANDARD
BEGIN:DAYLIGHT
TZOFFSETFROM:-0500
TZOFFSETTO:-0400
TZNAME:EDT
DTSTART:20240310T070000
END:DAYLIGHT
BEGIN:STANDARD
TZOFFSETFROM:-0400
TZOFFSETTO:-0500
TZNAME:EST
DTSTART:20241103T060000
END:STANDARD
BEGIN:DAYLIGHT
TZOFFSETFROM:-0500
TZOFFSETTO:-0400
TZNAME:EDT
DTSTART:20250309T070000
END:DAYLIGHT
BEGIN:STANDARD
TZOFFSETFROM:-0400
TZOFFSETTO:-0500
TZNAME:EST
DTSTART:20251102T060000
END:STANDARD
BEGIN:DAYLIGHT
TZOFFSETFROM:-0500
TZOFFSETTO:-0400
TZNAME:EDT
DTSTART:20260308T070000
END:DAYLIGHT
BEGIN:STANDARD
TZOFFSETFROM:-0400
TZOFFSETTO:-0500
TZNAME:EST
DTSTART:20261101T060000
END:STANDARD
BEGIN:DAYLIGHT
TZOFFSETFROM:-0500
TZOFFSETTO:-0400
TZNAME:EDT
DTSTART:20270314T070000
END:DAYLIGHT
BEGIN:STANDARD
TZOFFSETFROM:-0400
TZOFFSETTO:-0500
TZNAME:EST
DTSTART:20271107T060000
END:STANDARD
END:VTIMEZONE
BEGIN:VEVENT
DTSTART;TZID=America/New_York:20260414T183000
DTEND;TZID=America/New_York:20260414T193000
DTSTAMP:20260423T111025
CREATED:20251125T065814Z
LAST-MODIFIED:20251125T065814Z
UID:10002638-1776191400-1776195000@prisonfamiliesalliance.org
SUMMARY:(In Person) General Support Meeting – Sandusky\, Ohio (6:30pm ET)
DESCRIPTION:Join us for in-person General Support meetings\, offering compassion\, information\, and support for individuals who have had or currently have a loved one in the prison system. We understand the stress and challenges that come with this experience. Come connect with others who share insights\, perspectives\, and personal experiences. Let’s support each other through these difficult times. Please note\, this meeting is for adults only. \nThis meeting takes place at 4444 Galloway Road\, Sandusky\, OH 44870. (Note: The Chapel has graciously provided space for these meetings.) \n6:30pm – 7:30pm East Coast Time Zone \n 
URL:https://prisonfamiliesalliance.org/event/in-person-general-support-meeting-sandusky-ohio-630pm-et-14/
LOCATION:The Chapel\, 4444 Galloway Road\, \, Sandusky\, OH\, 44870
CATEGORIES:Support Group Meeting
END:VEVENT
BEGIN:VEVENT
DTSTART;TZID=America/New_York:20260310T183000
DTEND;TZID=America/New_York:20260310T193000
DTSTAMP:20260423T111025
CREATED:20251125T065751Z
LAST-MODIFIED:20251125T065751Z
UID:10002637-1773167400-1773171000@prisonfamiliesalliance.org
SUMMARY:(In Person) General Support Meeting – Sandusky\, Ohio (6:30pm ET)
DESCRIPTION:Join us for in-person General Support meetings\, offering compassion\, information\, and support for individuals who have had or currently have a loved one in the prison system. We understand the stress and challenges that come with this experience. Come connect with others who share insights\, perspectives\, and personal experiences. Let’s support each other through these difficult times. Please note\, this meeting is for adults only. \nThis meeting takes place at 4444 Galloway Road\, Sandusky\, OH 44870. (Note: The Chapel has graciously provided space for these meetings.) \n6:30pm – 7:30pm East Coast Time Zone \n 
URL:https://prisonfamiliesalliance.org/event/in-person-general-support-meeting-sandusky-ohio-630pm-et-13/
LOCATION:The Chapel\, 4444 Galloway Road\, \, Sandusky\, OH\, 44870
CATEGORIES:Support Group Meeting
END:VEVENT
BEGIN:VEVENT
DTSTART;TZID=America/New_York:20260210T183000
DTEND;TZID=America/New_York:20260210T193000
DTSTAMP:20260423T111025
CREATED:20251125T065719Z
LAST-MODIFIED:20251125T065719Z
UID:10002636-1770748200-1770751800@prisonfamiliesalliance.org
SUMMARY:(In Person) General Support Meeting – Sandusky\, Ohio (6:30pm ET)
DESCRIPTION:Join us for in-person General Support meetings\, offering compassion\, information\, and support for individuals who have had or currently have a loved one in the prison system. We understand the stress and challenges that come with this experience. Come connect with others who share insights\, perspectives\, and personal experiences. Let’s support each other through these difficult times. Please note\, this meeting is for adults only. \nThis meeting takes place at 4444 Galloway Road\, Sandusky\, OH 44870. (Note: The Chapel has graciously provided space for these meetings.) \n6:30pm – 7:30pm East Coast Time Zone \n 
URL:https://prisonfamiliesalliance.org/event/in-person-general-support-meeting-sandusky-ohio-630pm-et-12/
LOCATION:The Chapel\, 4444 Galloway Road\, \, Sandusky\, OH\, 44870
CATEGORIES:Support Group Meeting
END:VEVENT
BEGIN:VEVENT
DTSTART;TZID=America/New_York:20260113T183000
DTEND;TZID=America/New_York:20260113T193000
DTSTAMP:20260423T111025
CREATED:20251125T065652Z
LAST-MODIFIED:20251125T065652Z
UID:10002635-1768329000-1768332600@prisonfamiliesalliance.org
SUMMARY:(In Person) General Support Meeting – Sandusky\, Ohio (6:30pm ET)
DESCRIPTION:Join us for in-person General Support meetings\, offering compassion\, information\, and support for individuals who have had or currently have a loved one in the prison system. We understand the stress and challenges that come with this experience. Come connect with others who share insights\, perspectives\, and personal experiences. Let’s support each other through these difficult times. Please note\, this meeting is for adults only. \nThis meeting takes place at 4444 Galloway Road\, Sandusky\, OH 44870. (Note: The Chapel has graciously provided space for these meetings.) \n6:30pm – 7:30pm East Coast Time Zone \n 
URL:https://prisonfamiliesalliance.org/event/in-person-general-support-meeting-sandusky-ohio-630pm-et-11/
LOCATION:The Chapel\, 4444 Galloway Road\, \, Sandusky\, OH\, 44870
CATEGORIES:Support Group Meeting
END:VEVENT
BEGIN:VEVENT
DTSTART;TZID=America/New_York:20251209T183000
DTEND;TZID=America/New_York:20251209T193000
DTSTAMP:20260423T111025
CREATED:20251125T065625Z
LAST-MODIFIED:20251125T065626Z
UID:10002634-1765305000-1765308600@prisonfamiliesalliance.org
SUMMARY:(In Person) General Support Meeting – Sandusky\, Ohio (6:30pm ET)
DESCRIPTION:Join us for in-person General Support meetings\, offering compassion\, information\, and support for individuals who have had or currently have a loved one in the prison system. We understand the stress and challenges that come with this experience. Come connect with others who share insights\, perspectives\, and personal experiences. Let’s support each other through these difficult times. Please note\, this meeting is for adults only. \nThis meeting takes place at 4444 Galloway Road\, Sandusky\, OH 44870. (Note: The Chapel has graciously provided space for these meetings.) \n6:30pm – 7:30pm East Coast Time Zone \n 
URL:https://prisonfamiliesalliance.org/event/in-person-general-support-meeting-sandusky-ohio-630pm-et-10/
LOCATION:The Chapel\, 4444 Galloway Road\, \, Sandusky\, OH\, 44870
CATEGORIES:Support Group Meeting
END:VEVENT
BEGIN:VEVENT
DTSTART;TZID=America/New_York:20251111T183000
DTEND;TZID=America/New_York:20251111T193000
DTSTAMP:20260423T111025
CREATED:20251020T005856Z
LAST-MODIFIED:20251020T005938Z
UID:10002556-1762885800-1762889400@prisonfamiliesalliance.org
SUMMARY:(In Person) General Support Meeting – Sandusky\, Ohio (6:30pm ET)
DESCRIPTION:Join us for in-person General Support meetings\, offering compassion\, information\, and support for individuals who have had or currently have a loved one in the prison system. We understand the stress and challenges that come with this experience. Come connect with others who share insights\, perspectives\, and personal experiences. Let’s support each other through these difficult times. Please note\, this meeting is for adults only. \nThis meeting takes place at 4444 Galloway Road\, Sandusky\, OH 44870. (Note: The Chapel has graciously provided space for these meetings.) \n6:30pm – 7:30pm East Coast Time Zone \n 
URL:https://prisonfamiliesalliance.org/event/in-person-general-support-meeting-sandusky-ohio-630pm-et-9/
LOCATION:The Chapel\, 4444 Galloway Road\, \, Sandusky\, OH\, 44870
CATEGORIES:Support Group Meeting
END:VEVENT
BEGIN:VEVENT
DTSTART;TZID=America/New_York:20251014T183000
DTEND;TZID=America/New_York:20251014T193000
DTSTAMP:20260423T111025
CREATED:20250928T022128Z
LAST-MODIFIED:20250928T022128Z
UID:10002529-1760466600-1760470200@prisonfamiliesalliance.org
SUMMARY:(In Person) General Support Meeting – Sandusky\, Ohio (6:30pm ET)
DESCRIPTION:Join us for in-person General Support meetings\, offering compassion\, information\, and support for individuals who have had or currently have a loved one in the prison system. We understand the stress and challenges that come with this experience. Come connect with others who share insights\, perspectives\, and personal experiences. Let’s support each other through these difficult times. Please note\, this meeting is for adults only. \nThis meeting takes place at 4444 Galloway Road\, Sandusky\, OH 44870. (Note: The Chapel has graciously provided space for these meetings.) \n6:30pm – 7:30pm East Coast Time Zone \n 
URL:https://prisonfamiliesalliance.org/event/in-person-general-support-meeting-sandusky-ohio-630pm-et-8/
LOCATION:The Chapel\, 4444 Galloway Road\, \, Sandusky\, OH\, 44870
CATEGORIES:Support Group Meeting
END:VEVENT
BEGIN:VEVENT
DTSTART;TZID=America/New_York:20250909T183000
DTEND;TZID=America/New_York:20250909T193000
DTSTAMP:20260423T111025
CREATED:20250713T050844Z
LAST-MODIFIED:20250713T050844Z
UID:10002448-1757442600-1757446200@prisonfamiliesalliance.org
SUMMARY:(In Person) General Support Meeting – Sandusky\, Ohio (6:30pm ET)
DESCRIPTION:Join us for in-person General Support meetings\, offering compassion\, information\, and support for individuals who have had or currently have a loved one in the prison system. We understand the stress and challenges that come with this experience. Come connect with others who share insights\, perspectives\, and personal experiences. Let’s support each other through these difficult times. Please note\, this meeting is for adults only. \nThis meeting takes place at 4444 Galloway Road\, Sandusky\, OH 44870. (Note: The Chapel has graciously provided space for these meetings.) \n6:30pm – 7:30pm East Coast Time Zone \n 
URL:https://prisonfamiliesalliance.org/event/in-person-general-support-meeting-sandusky-ohio-630pm-et-7/
LOCATION:The Chapel\, 4444 Galloway Road\, \, Sandusky\, OH\, 44870
CATEGORIES:Support Group Meeting
END:VEVENT
BEGIN:VEVENT
DTSTART;TZID=America/New_York:20250812T183000
DTEND;TZID=America/New_York:20250812T193000
DTSTAMP:20260423T111025
CREATED:20250713T050756Z
LAST-MODIFIED:20250713T050756Z
UID:10002447-1755023400-1755027000@prisonfamiliesalliance.org
SUMMARY:(In Person) General Support Meeting – Sandusky\, Ohio (6:30pm ET)
DESCRIPTION:Join us for in-person General Support meetings\, offering compassion\, information\, and support for individuals who have had or currently have a loved one in the prison system. We understand the stress and challenges that come with this experience. Come connect with others who share insights\, perspectives\, and personal experiences. Let’s support each other through these difficult times. Please note\, this meeting is for adults only. \nThis meeting takes place at 4444 Galloway Road\, Sandusky\, OH 44870. (Note: The Chapel has graciously provided space for these meetings.) \n6:30pm – 7:30pm East Coast Time Zone \n 
URL:https://prisonfamiliesalliance.org/event/in-person-general-support-meeting-sandusky-ohio-630pm-et-6/
LOCATION:The Chapel\, 4444 Galloway Road\, \, Sandusky\, OH\, 44870
CATEGORIES:Support Group Meeting
END:VEVENT
BEGIN:VEVENT
DTSTART;TZID=America/New_York:20250708T183000
DTEND;TZID=America/New_York:20250708T193000
DTSTAMP:20260423T111025
CREATED:20250606T173953Z
LAST-MODIFIED:20250606T173953Z
UID:10002420-1751999400-1752003000@prisonfamiliesalliance.org
SUMMARY:(In Person) General Support Meeting – Sandusky\, Ohio (6:30pm ET)
DESCRIPTION:Join us for in-person General Support meetings\, offering compassion\, information\, and support for individuals who have had or currently have a loved one in the prison system. We understand the stress and challenges that come with this experience. Come connect with others who share insights\, perspectives\, and personal experiences. Let’s support each other through these difficult times. Please note\, this meeting is for adults only. \nThis meeting takes place at 4444 Galloway Road\, Sandusky\, OH 44870. (Note: The Chapel has graciously provided space for these meetings.) \n6:30pm – 7:30pm East Coast Time Zone \n 
URL:https://prisonfamiliesalliance.org/event/in-person-general-support-meeting-sandusky-ohio-630pm-et-5/
LOCATION:The Chapel\, 4444 Galloway Road\, \, Sandusky\, OH\, 44870
CATEGORIES:Support Group Meeting
END:VEVENT
BEGIN:VEVENT
DTSTART;TZID=America/New_York:20250610T183000
DTEND;TZID=America/New_York:20250610T193000
DTSTAMP:20260423T111025
CREATED:20250514T040854Z
LAST-MODIFIED:20250514T040854Z
UID:10002382-1749580200-1749583800@prisonfamiliesalliance.org
SUMMARY:(In Person) General Support Meeting – Sandusky\, Ohio (6:30pm ET)
DESCRIPTION:Join us for in-person General Support meetings\, offering compassion\, information\, and support for individuals who have had or currently have a loved one in the prison system. We understand the stress and challenges that come with this experience. Come connect with others who share insights\, perspectives\, and personal experiences. Let’s support each other through these difficult times. Please note\, this meeting is for adults only. \nThis meeting takes place at 4444 Galloway Road\, Sandusky\, OH 44870. (Note: The Chapel has graciously provided space for these meetings.) \n6:30pm – 7:30pm East Coast Time Zone \n 
URL:https://prisonfamiliesalliance.org/event/in-person-general-support-meeting-sandusky-ohio-630pm-et-4/
LOCATION:The Chapel\, 4444 Galloway Road\, \, Sandusky\, OH\, 44870
CATEGORIES:Support Group Meeting
END:VEVENT
BEGIN:VEVENT
DTSTART;TZID=America/New_York:20250513T183000
DTEND;TZID=America/New_York:20250513T193000
DTSTAMP:20260423T111025
CREATED:20250421T032743Z
LAST-MODIFIED:20250421T040837Z
UID:10002338-1747161000-1747164600@prisonfamiliesalliance.org
SUMMARY:(In Person) General Support Meeting – Sandusky\, Ohio (6:30pm ET)
DESCRIPTION:Join us for in-person General Support meetings\, offering compassion\, information\, and support for individuals who have had or currently have a loved one in the prison system. We understand the stress and challenges that come with this experience. Come connect with others who share insights\, perspectives\, and personal experiences. Let’s support each other through these difficult times. Please note\, this meeting is for adults only. \nThis meeting takes place at 4444 Galloway Road\, Sandusky\, OH 44870. (Note: The Chapel has graciously provided space for these meetings.) \n6:30pm – 7:30pm East Coast Time Zone \n 
URL:https://prisonfamiliesalliance.org/event/in-person-general-support-meeting-sandusky-ohio-630pm-et-3/
LOCATION:The Chapel\, 4444 Galloway Road\, \, Sandusky\, OH\, 44870
CATEGORIES:Support Group Meeting
END:VEVENT
BEGIN:VEVENT
DTSTART;TZID=America/New_York:20250408T183000
DTEND;TZID=America/New_York:20250408T193000
DTSTAMP:20260423T111025
CREATED:20250224T040607Z
LAST-MODIFIED:20250224T040607Z
UID:10002299-1744137000-1744140600@prisonfamiliesalliance.org
SUMMARY:(In Person) General Support Meeting – Sandusky\, Ohio (6:30pm ET)
DESCRIPTION:Join us for in-person General Support meetings\, offering compassion\, information\, and support for individuals who have had or currently have a loved one in the prison system. We understand the stress and challenges that come with this experience. Come connect with others who share insights\, perspectives\, and personal experiences. Let’s support each other through these difficult times. Please note\, this meeting is for adults only. \nThis meeting takes place at 4444 Galloway Road\, Sandusky\, OH 44870. (Note: The Chapel has graciously provided space for these meetings.) \n6:30pm – 7:30pm East Coast Time Zone \n 
URL:https://prisonfamiliesalliance.org/event/in-person-general-support-meeting-sandusky-ohio-630pm-et-2/
LOCATION:The Chapel\, 4444 Galloway Road\, \, Sandusky\, OH\, 44870
CATEGORIES:Support Group Meeting
END:VEVENT
BEGIN:VEVENT
DTSTART;TZID=America/New_York:20250311T183000
DTEND;TZID=America/New_York:20250311T193000
DTSTAMP:20260423T111025
CREATED:20250224T040543Z
LAST-MODIFIED:20250224T040543Z
UID:10002298-1741717800-1741721400@prisonfamiliesalliance.org
SUMMARY:(In Person) General Support Meeting – Sandusky\, Ohio (6:30pm ET)
DESCRIPTION:Join us for in-person General Support meetings\, offering compassion\, information\, and support for individuals who have had or currently have a loved one in the prison system. We understand the stress and challenges that come with this experience. Come connect with others who share insights\, perspectives\, and personal experiences. Let’s support each other through these difficult times. Please note\, this meeting is for adults only. \nThis meeting takes place at 4444 Galloway Road\, Sandusky\, OH 44870. (Note: The Chapel has graciously provided space for these meetings.) \n6:30pm – 7:30pm East Coast Time Zone \n 
URL:https://prisonfamiliesalliance.org/event/in-person-general-support-meeting-sandusky-ohio-630pm-et/
LOCATION:The Chapel\, 4444 Galloway Road\, \, Sandusky\, OH\, 44870
CATEGORIES:Support Group Meeting
END:VEVENT
BEGIN:VEVENT
DTSTART;TZID=America/New_York:20250211T183000
DTEND;TZID=America/New_York:20250211T193000
DTSTAMP:20260423T111025
CREATED:20250113T022346Z
LAST-MODIFIED:20250113T041110Z
UID:10002250-1739298600-1739302200@prisonfamiliesalliance.org
SUMMARY:(In Person) General Support Meeting – Sandusky\, Ohio (6:30pm ET)
DESCRIPTION:Join us for in-person General Support meetings\, offering compassion\, information\, and support for individuals who have had or currently have a loved one in the prison system. We understand the stress and challenges that come with this experience. Come connect with others who share insights\, perspectives\, and personal experiences. Let’s support each other through these difficult times. Please note\, this meeting is for adults only. \nThis meeting takes place at 4444 Galloway Road\, Sandusky\, OH 44870. (Note: The Chapel has graciously provided space for these meetings.) \n6:30pm – 7:30pm East Coast Time Zone \n 
URL:https://prisonfamiliesalliance.org/event/in-person-general-support-meeting-sandusky-ohio-3/
LOCATION:The Chapel\, 4444 Galloway Road\, \, Sandusky\, OH\, 44870
CATEGORIES:Support Group Meeting
END:VEVENT
BEGIN:VEVENT
DTSTART;TZID=America/New_York:20250114T183000
DTEND;TZID=America/New_York:20250114T193000
DTSTAMP:20260423T111025
CREATED:20241217T053809Z
LAST-MODIFIED:20241217T053809Z
UID:10002233-1736879400-1736883000@prisonfamiliesalliance.org
SUMMARY:(In Person) General Support Meeting – Sandusky\, Ohio
DESCRIPTION:Join us for in-person General Support meetings\, offering compassion\, information\, and support for individuals who have had or currently have a loved one in the prison system. We understand the stress and challenges that come with this experience. Come connect with others who share insights\, perspectives\, and personal experiences. Let’s support each other through these difficult times. Please note\, this meeting is for adults only. \nThis meeting takes place at 4444 Galloway Road\, Sandusky\, OH 44870. (Note: The Chapel has graciously provided space for these meetings.) \n6:30pm – 7:30pm East Coast Time Zone \n 
URL:https://prisonfamiliesalliance.org/event/in-person-general-support-meeting-sandusky-ohio-2/
LOCATION:The Chapel\, 4444 Galloway Road\, \, Sandusky\, OH\, 44870
CATEGORIES:Support Group Meeting
END:VEVENT
BEGIN:VEVENT
DTSTART;TZID=America/New_York:20241210T183000
DTEND;TZID=America/New_York:20241210T193000
DTSTAMP:20260423T111025
CREATED:20241104T025107Z
LAST-MODIFIED:20241110T171358Z
UID:10002196-1733855400-1733859000@prisonfamiliesalliance.org
SUMMARY:(In Person) General Support Meeting – Sandusky\, Ohio
DESCRIPTION:Join us for in-person General Support meetings\, offering compassion\, information\, and support for individuals who have had or currently have a loved one in the prison system. We understand the stress and challenges that come with this experience. Come connect with others who share insights\, perspectives\, and personal experiences. Let’s support each other through these difficult times. Please note\, this meeting is for adults only. \nThis meeting takes place at 4444 Galloway Road\, Sandusky\, OH 44870. (Note: The Chapel has graciously provided space for these meetings.) \n6:30pm – 7:30pm East Coast Time Zone \n 
URL:https://prisonfamiliesalliance.org/event/in-person-general-support-meeting-sandusky-ohio/
LOCATION:The Chapel\, 4444 Galloway Road\, \, Sandusky\, OH\, 44870
CATEGORIES:Support Group Meeting
END:VEVENT
BEGIN:VEVENT
DTSTART;TZID=America/New_York:20241112T183000
DTEND;TZID=America/New_York:20241112T193000
DTSTAMP:20260423T111025
CREATED:20240811T180704Z
LAST-MODIFIED:20241110T171447Z
UID:10002161-1731436200-1731439800@prisonfamiliesalliance.org
SUMMARY:(In Person) General Support Meeting – Sandusky\, Ohio
DESCRIPTION:Join us for in-person General Support meetings\, offering compassion\, information\, and support for individuals who have had or currently have a loved one in the prison system. We understand the stress and challenges that come with this experience. Come connect with others who share insights\, perspectives\, and personal experiences. Let’s support each other through these difficult times. Please note\, this meeting is for adults only. \nThis meeting takes place at 4444 Galloway Road\, Sandusky\, OH 44870. (Note: The Chapel has graciously provided space for these meetings.) \n6:30pm – 7:30pm East Coast Time Zone \n 
URL:https://prisonfamiliesalliance.org/event/new-in-person-general-support-meeting-sandusky-ohio-2/
LOCATION:The Chapel\, 4444 Galloway Road\, \, Sandusky\, OH\, 44870
CATEGORIES:Support Group Meeting
END:VEVENT
END:VCALENDAR