BEGIN:VCALENDAR
VERSION:2.0
PRODID:-//Prison Families Alliance - ECPv6.15.20//NONSGML v1.0//EN
CALSCALE:GREGORIAN
METHOD:PUBLISH
X-ORIGINAL-URL:https://prisonfamiliesalliance.org
X-WR-CALDESC:Events for Prison Families Alliance
REFRESH-INTERVAL;VALUE=DURATION:PT1H
X-Robots-Tag:noindex
X-PUBLISHED-TTL:PT1H
BEGIN:VTIMEZONE
TZID:America/New_York
BEGIN:DAYLIGHT
TZOFFSETFROM:-0500
TZOFFSETTO:-0400
TZNAME:EDT
DTSTART:20250309T070000
END:DAYLIGHT
BEGIN:STANDARD
TZOFFSETFROM:-0400
TZOFFSETTO:-0500
TZNAME:EST
DTSTART:20251102T060000
END:STANDARD
BEGIN:DAYLIGHT
TZOFFSETFROM:-0500
TZOFFSETTO:-0400
TZNAME:EDT
DTSTART:20260308T070000
END:DAYLIGHT
BEGIN:STANDARD
TZOFFSETFROM:-0400
TZOFFSETTO:-0500
TZNAME:EST
DTSTART:20261101T060000
END:STANDARD
BEGIN:DAYLIGHT
TZOFFSETFROM:-0500
TZOFFSETTO:-0400
TZNAME:EDT
DTSTART:20270314T070000
END:DAYLIGHT
BEGIN:STANDARD
TZOFFSETFROM:-0400
TZOFFSETTO:-0500
TZNAME:EST
DTSTART:20271107T060000
END:STANDARD
END:VTIMEZONE
BEGIN:VEVENT
DTSTART;TZID=America/New_York:20260512T183000
DTEND;TZID=America/New_York:20260512T193000
DTSTAMP:20260423T094508
CREATED:20251125T065837Z
LAST-MODIFIED:20251125T065837Z
UID:10002639-1778610600-1778614200@prisonfamiliesalliance.org
SUMMARY:(In Person) General Support Meeting – Sandusky\, Ohio (6:30pm ET)
DESCRIPTION:Join us for in-person General Support meetings\, offering compassion\, information\, and support for individuals who have had or currently have a loved one in the prison system. We understand the stress and challenges that come with this experience. Come connect with others who share insights\, perspectives\, and personal experiences. Let’s support each other through these difficult times. Please note\, this meeting is for adults only. \nThis meeting takes place at 4444 Galloway Road\, Sandusky\, OH 44870. (Note: The Chapel has graciously provided space for these meetings.) \n6:30pm – 7:30pm East Coast Time Zone \n 
URL:https://prisonfamiliesalliance.org/event/in-person-general-support-meeting-sandusky-ohio-630pm-et-15/
LOCATION:The Chapel\, 4444 Galloway Road\, \, Sandusky\, OH\, 44870
CATEGORIES:Support Group Meeting
END:VEVENT
BEGIN:VEVENT
DTSTART;TZID=America/New_York:20260609T183000
DTEND;TZID=America/New_York:20260609T193000
DTSTAMP:20260423T094508
CREATED:20251125T065909Z
LAST-MODIFIED:20251125T065909Z
UID:10002640-1781029800-1781033400@prisonfamiliesalliance.org
SUMMARY:(In Person) General Support Meeting – Sandusky\, Ohio (6:30pm ET)
DESCRIPTION:Join us for in-person General Support meetings\, offering compassion\, information\, and support for individuals who have had or currently have a loved one in the prison system. We understand the stress and challenges that come with this experience. Come connect with others who share insights\, perspectives\, and personal experiences. Let’s support each other through these difficult times. Please note\, this meeting is for adults only. \nThis meeting takes place at 4444 Galloway Road\, Sandusky\, OH 44870. (Note: The Chapel has graciously provided space for these meetings.) \n6:30pm – 7:30pm East Coast Time Zone \n 
URL:https://prisonfamiliesalliance.org/event/in-person-general-support-meeting-sandusky-ohio-630pm-et-16/
LOCATION:The Chapel\, 4444 Galloway Road\, \, Sandusky\, OH\, 44870
CATEGORIES:Support Group Meeting
END:VEVENT
BEGIN:VEVENT
DTSTART;TZID=America/New_York:20260714T183000
DTEND;TZID=America/New_York:20260714T193000
DTSTAMP:20260423T094508
CREATED:20251125T065928Z
LAST-MODIFIED:20251125T065928Z
UID:10002641-1784053800-1784057400@prisonfamiliesalliance.org
SUMMARY:(In Person) General Support Meeting – Sandusky\, Ohio (6:30pm ET)
DESCRIPTION:Join us for in-person General Support meetings\, offering compassion\, information\, and support for individuals who have had or currently have a loved one in the prison system. We understand the stress and challenges that come with this experience. Come connect with others who share insights\, perspectives\, and personal experiences. Let’s support each other through these difficult times. Please note\, this meeting is for adults only. \nThis meeting takes place at 4444 Galloway Road\, Sandusky\, OH 44870. (Note: The Chapel has graciously provided space for these meetings.) \n6:30pm – 7:30pm East Coast Time Zone \n 
URL:https://prisonfamiliesalliance.org/event/in-person-general-support-meeting-sandusky-ohio-630pm-et-17/
LOCATION:The Chapel\, 4444 Galloway Road\, \, Sandusky\, OH\, 44870
CATEGORIES:Support Group Meeting
END:VEVENT
BEGIN:VEVENT
DTSTART;TZID=America/New_York:20260811T183000
DTEND;TZID=America/New_York:20260811T193000
DTSTAMP:20260423T094508
CREATED:20251125T065946Z
LAST-MODIFIED:20251125T065946Z
UID:10002642-1786473000-1786476600@prisonfamiliesalliance.org
SUMMARY:(In Person) General Support Meeting – Sandusky\, Ohio (6:30pm ET)
DESCRIPTION:Join us for in-person General Support meetings\, offering compassion\, information\, and support for individuals who have had or currently have a loved one in the prison system. We understand the stress and challenges that come with this experience. Come connect with others who share insights\, perspectives\, and personal experiences. Let’s support each other through these difficult times. Please note\, this meeting is for adults only. \nThis meeting takes place at 4444 Galloway Road\, Sandusky\, OH 44870. (Note: The Chapel has graciously provided space for these meetings.) \n6:30pm – 7:30pm East Coast Time Zone \n 
URL:https://prisonfamiliesalliance.org/event/in-person-general-support-meeting-sandusky-ohio-630pm-et-18/
LOCATION:The Chapel\, 4444 Galloway Road\, \, Sandusky\, OH\, 44870
CATEGORIES:Support Group Meeting
END:VEVENT
BEGIN:VEVENT
DTSTART;TZID=America/New_York:20260908T183000
DTEND;TZID=America/New_York:20260908T193000
DTSTAMP:20260423T094508
CREATED:20251125T070012Z
LAST-MODIFIED:20251125T070012Z
UID:10002643-1788892200-1788895800@prisonfamiliesalliance.org
SUMMARY:(In Person) General Support Meeting – Sandusky\, Ohio (6:30pm ET)
DESCRIPTION:Join us for in-person General Support meetings\, offering compassion\, information\, and support for individuals who have had or currently have a loved one in the prison system. We understand the stress and challenges that come with this experience. Come connect with others who share insights\, perspectives\, and personal experiences. Let’s support each other through these difficult times. Please note\, this meeting is for adults only. \nThis meeting takes place at 4444 Galloway Road\, Sandusky\, OH 44870. (Note: The Chapel has graciously provided space for these meetings.) \n6:30pm – 7:30pm East Coast Time Zone \n 
URL:https://prisonfamiliesalliance.org/event/in-person-general-support-meeting-sandusky-ohio-630pm-et-19/
LOCATION:The Chapel\, 4444 Galloway Road\, \, Sandusky\, OH\, 44870
CATEGORIES:Support Group Meeting
END:VEVENT
BEGIN:VEVENT
DTSTART;TZID=America/New_York:20261013T183000
DTEND;TZID=America/New_York:20261013T193000
DTSTAMP:20260423T094508
CREATED:20251125T070034Z
LAST-MODIFIED:20251125T070034Z
UID:10002644-1791916200-1791919800@prisonfamiliesalliance.org
SUMMARY:(In Person) General Support Meeting – Sandusky\, Ohio (6:30pm ET)
DESCRIPTION:Join us for in-person General Support meetings\, offering compassion\, information\, and support for individuals who have had or currently have a loved one in the prison system. We understand the stress and challenges that come with this experience. Come connect with others who share insights\, perspectives\, and personal experiences. Let’s support each other through these difficult times. Please note\, this meeting is for adults only. \nThis meeting takes place at 4444 Galloway Road\, Sandusky\, OH 44870. (Note: The Chapel has graciously provided space for these meetings.) \n6:30pm – 7:30pm East Coast Time Zone \n 
URL:https://prisonfamiliesalliance.org/event/in-person-general-support-meeting-sandusky-ohio-630pm-et-20/
LOCATION:The Chapel\, 4444 Galloway Road\, \, Sandusky\, OH\, 44870
CATEGORIES:Support Group Meeting
END:VEVENT
BEGIN:VEVENT
DTSTART;TZID=America/New_York:20261110T183000
DTEND;TZID=America/New_York:20261110T193000
DTSTAMP:20260423T094508
CREATED:20251125T070056Z
LAST-MODIFIED:20251125T070056Z
UID:10002645-1794335400-1794339000@prisonfamiliesalliance.org
SUMMARY:(In Person) General Support Meeting – Sandusky\, Ohio (6:30pm ET)
DESCRIPTION:Join us for in-person General Support meetings\, offering compassion\, information\, and support for individuals who have had or currently have a loved one in the prison system. We understand the stress and challenges that come with this experience. Come connect with others who share insights\, perspectives\, and personal experiences. Let’s support each other through these difficult times. Please note\, this meeting is for adults only. \nThis meeting takes place at 4444 Galloway Road\, Sandusky\, OH 44870. (Note: The Chapel has graciously provided space for these meetings.) \n6:30pm – 7:30pm East Coast Time Zone \n 
URL:https://prisonfamiliesalliance.org/event/in-person-general-support-meeting-sandusky-ohio-630pm-et-21/
LOCATION:The Chapel\, 4444 Galloway Road\, \, Sandusky\, OH\, 44870
CATEGORIES:Support Group Meeting
END:VEVENT
BEGIN:VEVENT
DTSTART;TZID=America/New_York:20261208T183000
DTEND;TZID=America/New_York:20261208T193000
DTSTAMP:20260423T094508
CREATED:20251125T070119Z
LAST-MODIFIED:20251125T070119Z
UID:10002646-1796754600-1796758200@prisonfamiliesalliance.org
SUMMARY:(In Person) General Support Meeting – Sandusky\, Ohio (6:30pm ET)
DESCRIPTION:Join us for in-person General Support meetings\, offering compassion\, information\, and support for individuals who have had or currently have a loved one in the prison system. We understand the stress and challenges that come with this experience. Come connect with others who share insights\, perspectives\, and personal experiences. Let’s support each other through these difficult times. Please note\, this meeting is for adults only. \nThis meeting takes place at 4444 Galloway Road\, Sandusky\, OH 44870. (Note: The Chapel has graciously provided space for these meetings.) \n6:30pm – 7:30pm East Coast Time Zone \n 
URL:https://prisonfamiliesalliance.org/event/in-person-general-support-meeting-sandusky-ohio-630pm-et-22/
LOCATION:The Chapel\, 4444 Galloway Road\, \, Sandusky\, OH\, 44870
CATEGORIES:Support Group Meeting
END:VEVENT
END:VCALENDAR