BEGIN:VCALENDAR
VERSION:2.0
PRODID:-//Prison Families Alliance - ECPv6.15.20//NONSGML v1.0//EN
CALSCALE:GREGORIAN
METHOD:PUBLISH
X-ORIGINAL-URL:https://prisonfamiliesalliance.org
X-WR-CALDESC:Events for Prison Families Alliance
REFRESH-INTERVAL;VALUE=DURATION:PT1H
X-Robots-Tag:noindex
X-PUBLISHED-TTL:PT1H
BEGIN:VTIMEZONE
TZID:America/Los_Angeles
BEGIN:DAYLIGHT
TZOFFSETFROM:-0800
TZOFFSETTO:-0700
TZNAME:PDT
DTSTART:20230312T100000
END:DAYLIGHT
BEGIN:STANDARD
TZOFFSETFROM:-0700
TZOFFSETTO:-0800
TZNAME:PST
DTSTART:20231105T090000
END:STANDARD
BEGIN:DAYLIGHT
TZOFFSETFROM:-0800
TZOFFSETTO:-0700
TZNAME:PDT
DTSTART:20240310T100000
END:DAYLIGHT
BEGIN:STANDARD
TZOFFSETFROM:-0700
TZOFFSETTO:-0800
TZNAME:PST
DTSTART:20241103T090000
END:STANDARD
BEGIN:DAYLIGHT
TZOFFSETFROM:-0800
TZOFFSETTO:-0700
TZNAME:PDT
DTSTART:20250309T100000
END:DAYLIGHT
BEGIN:STANDARD
TZOFFSETFROM:-0700
TZOFFSETTO:-0800
TZNAME:PST
DTSTART:20251102T090000
END:STANDARD
BEGIN:DAYLIGHT
TZOFFSETFROM:-0800
TZOFFSETTO:-0700
TZNAME:PDT
DTSTART:20260308T100000
END:DAYLIGHT
BEGIN:STANDARD
TZOFFSETFROM:-0700
TZOFFSETTO:-0800
TZNAME:PST
DTSTART:20261101T090000
END:STANDARD
BEGIN:DAYLIGHT
TZOFFSETFROM:-0800
TZOFFSETTO:-0700
TZNAME:PDT
DTSTART:20270314T100000
END:DAYLIGHT
BEGIN:STANDARD
TZOFFSETFROM:-0700
TZOFFSETTO:-0800
TZNAME:PST
DTSTART:20271107T090000
END:STANDARD
END:VTIMEZONE
BEGIN:VTIMEZONE
TZID:America/New_York
BEGIN:DAYLIGHT
TZOFFSETFROM:-0500
TZOFFSETTO:-0400
TZNAME:EDT
DTSTART:20250309T070000
END:DAYLIGHT
BEGIN:STANDARD
TZOFFSETFROM:-0400
TZOFFSETTO:-0500
TZNAME:EST
DTSTART:20251102T060000
END:STANDARD
BEGIN:DAYLIGHT
TZOFFSETFROM:-0500
TZOFFSETTO:-0400
TZNAME:EDT
DTSTART:20260308T070000
END:DAYLIGHT
BEGIN:STANDARD
TZOFFSETFROM:-0400
TZOFFSETTO:-0500
TZNAME:EST
DTSTART:20261101T060000
END:STANDARD
BEGIN:DAYLIGHT
TZOFFSETFROM:-0500
TZOFFSETTO:-0400
TZNAME:EDT
DTSTART:20270314T070000
END:DAYLIGHT
BEGIN:STANDARD
TZOFFSETFROM:-0400
TZOFFSETTO:-0500
TZNAME:EST
DTSTART:20271107T060000
END:STANDARD
END:VTIMEZONE
BEGIN:VEVENT
DTSTART;TZID=America/Los_Angeles:20260210T190000
DTEND;TZID=America/Los_Angeles:20260210T200000
DTSTAMP:20260423T145446
CREATED:20251123T230427Z
LAST-MODIFIED:20260126T174137Z
UID:10002589-1770750000-1770753600@prisonfamiliesalliance.org
SUMMARY:(CANCELLED) General Support Meeting – Westbury\, New York (7PM ET)
DESCRIPTION:This in-person group is taking a pause until June. The PFA calendar has several online meetings to choose from to stay connected\, share\, receive information and support – join us online:  https://PrisonFamiliesAlliance.org/calendar\n  \nThis PFA General Support meeting is in person and provides a compassionate and supportive space for individuals who have a loved one in the carceral system. Recognizing the inherent challenges and stress that come with this experience\, we offer a platform for sharing information\, perspectives\, and personal experiences. Join us to connect with others who understand and navigate this journey with empathy and insight. We look forward to welcoming you and building a supportive network together. \n7:00 ET – The Parish Center\, 75 Post Ave & 5th Ave.\, Westbury\, NY – Entrance to building is on 5th Ave. Parking is in a lot opposite entrance on 5th St.\n  \n 
URL:https://prisonfamiliesalliance.org/event/in-person-general-support-meeting-westbury-new-york-7pm-et-11/
LOCATION:The Parish Center\, 75 Post Ave & 5th Ave.\, Westbury\,\, NY
END:VEVENT
BEGIN:VEVENT
DTSTART;TZID=America/New_York:20260113T190000
DTEND;TZID=America/New_York:20260113T200000
DTSTAMP:20260423T145446
CREATED:20251123T230343Z
LAST-MODIFIED:20260126T174027Z
UID:10002588-1768330800-1768334400@prisonfamiliesalliance.org
SUMMARY:(IN PERSON) General Support Meeting – Westbury\, New York (7PM ET)
DESCRIPTION:This PFA General Support meeting is in person and provides a compassionate and supportive space for individuals who have a loved one in the carceral system. Recognizing the inherent challenges and stress that come with this experience\, we offer a platform for sharing information\, perspectives\, and personal experiences. Join us to connect with others who understand and navigate this journey with empathy and insight. We look forward to welcoming you and building a supportive network together. \n7:00 ET – The Parish Center\, 75 Post Ave & 5th Ave.\, Westbury\, NY – Entrance to building is on 5th Ave. Parking is in a lot opposite entrance on 5th St.\n  \n 
URL:https://prisonfamiliesalliance.org/event/in-person-general-support-meeting-westbury-new-york-7pm-et-10/
LOCATION:The Parish Center\, 75 Post Ave & 5th Ave.\, Westbury\,\, NY
END:VEVENT
BEGIN:VEVENT
DTSTART;TZID=America/Los_Angeles:20251209T190000
DTEND;TZID=America/Los_Angeles:20251209T200000
DTSTAMP:20260423T145446
CREATED:20251123T054022Z
LAST-MODIFIED:20251123T054022Z
UID:10002572-1765306800-1765310400@prisonfamiliesalliance.org
SUMMARY:(IN PERSON) General Support Meeting – Westbury\, New York (7PM ET)
DESCRIPTION:This PFA General Support meeting is in person and provides a compassionate and supportive space for individuals who have a loved one in the carceral system. Recognizing the inherent challenges and stress that come with this experience\, we offer a platform for sharing information\, perspectives\, and personal experiences. Join us to connect with others who understand and navigate this journey with empathy and insight. We look forward to welcoming you and building a supportive network together. \n7:00 ET – The Parish Center\, 75 Post Ave & 5th Ave.\, Westbury\, NY – Entrance to building is on 5th Ave. Parking is in a lot opposite entrance on 5th St.\n  \n 
URL:https://prisonfamiliesalliance.org/event/in-person-general-support-meeting-westbury-new-york-7pm-et-9/
LOCATION:The Parish Center\, 75 Post Ave & 5th Ave.\, Westbury\,\, NY
END:VEVENT
BEGIN:VEVENT
DTSTART;TZID=America/Los_Angeles:20251014T190000
DTEND;TZID=America/Los_Angeles:20251014T200000
DTSTAMP:20260423T145446
CREATED:20250928T022254Z
LAST-MODIFIED:20250928T022254Z
UID:10002530-1760468400-1760472000@prisonfamiliesalliance.org
SUMMARY:(IN PERSON) General Support Meeting – Westbury\, New York (7PM ET)
DESCRIPTION:This PFA General Support meeting is in person and provides a compassionate and supportive space for individuals who have a loved one in the carceral system. Recognizing the inherent challenges and stress that come with this experience\, we offer a platform for sharing information\, perspectives\, and personal experiences. Join us to connect with others who understand and navigate this journey with empathy and insight. We look forward to welcoming you and building a supportive network together. \n7:00 ET – The Parish Center\, 75 Post Ave & 5th Ave.\, Westbury\, NY – Entrance to building is on 5th Ave. Parking is in a lot opposite entrance on 5th St.\n  \n 
URL:https://prisonfamiliesalliance.org/event/in-person-general-support-meeting-westbury-new-york-7pm-et-8/
LOCATION:The Parish Center\, 75 Post Ave & 5th Ave.\, Westbury\,\, NY
END:VEVENT
BEGIN:VEVENT
DTSTART;TZID=America/Los_Angeles:20250909T190000
DTEND;TZID=America/Los_Angeles:20250909T200000
DTSTAMP:20260423T145446
CREATED:20250713T051044Z
LAST-MODIFIED:20250713T051044Z
UID:10002450-1757444400-1757448000@prisonfamiliesalliance.org
SUMMARY:(IN PERSON) General Support Meeting – Westbury\, New York (7PM ET)
DESCRIPTION:This PFA General Support meeting is in person and provides a compassionate and supportive space for individuals who have a loved one in the carceral system. Recognizing the inherent challenges and stress that come with this experience\, we offer a platform for sharing information\, perspectives\, and personal experiences. Join us to connect with others who understand and navigate this journey with empathy and insight. We look forward to welcoming you and building a supportive network together. \n7:00 ET – The Parish Center\, 75 Post Ave & 5th Ave.\, Westbury\, NY – Entrance to building is on 5th Ave. Parking is in a lot opposite entrance on 5th St.\n  \n 
URL:https://prisonfamiliesalliance.org/event/in-person-general-support-meeting-westbury-new-york-7pm-et-7/
LOCATION:The Parish Center\, 75 Post Ave & 5th Ave.\, Westbury\,\, NY
END:VEVENT
BEGIN:VEVENT
DTSTART;TZID=America/Los_Angeles:20250812T190000
DTEND;TZID=America/Los_Angeles:20250812T200000
DTSTAMP:20260423T145446
CREATED:20250713T051021Z
LAST-MODIFIED:20250713T051021Z
UID:10002449-1755025200-1755028800@prisonfamiliesalliance.org
SUMMARY:(IN PERSON) General Support Meeting – Westbury\, New York (7PM ET)
DESCRIPTION:This PFA General Support meeting is in person and provides a compassionate and supportive space for individuals who have a loved one in the carceral system. Recognizing the inherent challenges and stress that come with this experience\, we offer a platform for sharing information\, perspectives\, and personal experiences. Join us to connect with others who understand and navigate this journey with empathy and insight. We look forward to welcoming you and building a supportive network together. \n7:00 ET – The Parish Center\, 75 Post Ave & 5th Ave.\, Westbury\, NY – Entrance to building is on 5th Ave. Parking is in a lot opposite entrance on 5th St.\n  \n 
URL:https://prisonfamiliesalliance.org/event/in-person-general-support-meeting-westbury-new-york-7pm-et-6/
LOCATION:The Parish Center\, 75 Post Ave & 5th Ave.\, Westbury\,\, NY
END:VEVENT
BEGIN:VEVENT
DTSTART;TZID=America/Los_Angeles:20250708T190000
DTEND;TZID=America/Los_Angeles:20250708T200000
DTSTAMP:20260423T145446
CREATED:20250606T174120Z
LAST-MODIFIED:20250606T174120Z
UID:10002421-1752001200-1752004800@prisonfamiliesalliance.org
SUMMARY:(IN PERSON) General Support Meeting – Westbury\, New York (7PM ET)
DESCRIPTION:This PFA General Support meeting is in person and provides a compassionate and supportive space for individuals who have a loved one in the carceral system. Recognizing the inherent challenges and stress that come with this experience\, we offer a platform for sharing information\, perspectives\, and personal experiences. Join us to connect with others who understand and navigate this journey with empathy and insight. We look forward to welcoming you and building a supportive network together. \n7:00 ET – The Parish Center\, 75 Post Ave & 5th Ave.\, Westbury\, NY – Entrance to building is on 5th Ave. Parking is in a lot opposite entrance on 5th St.\n  \n 
URL:https://prisonfamiliesalliance.org/event/in-person-general-support-meeting-westbury-new-york-7pm-et-5/
LOCATION:The Parish Center\, 75 Post Ave & 5th Ave.\, Westbury\,\, NY
END:VEVENT
BEGIN:VEVENT
DTSTART;TZID=America/Los_Angeles:20250610T190000
DTEND;TZID=America/Los_Angeles:20250610T200000
DTSTAMP:20260423T145446
CREATED:20250514T040944Z
LAST-MODIFIED:20250514T040944Z
UID:10002383-1749582000-1749585600@prisonfamiliesalliance.org
SUMMARY:(IN PERSON) General Support Meeting – Westbury\, New York (7PM ET)
DESCRIPTION:This PFA General Support meeting is in person and provides a compassionate and supportive space for individuals who have a loved one in the carceral system. Recognizing the inherent challenges and stress that come with this experience\, we offer a platform for sharing information\, perspectives\, and personal experiences. Join us to connect with others who understand and navigate this journey with empathy and insight. We look forward to welcoming you and building a supportive network together. \n7:00 ET – The Parish Center\, 75 Post Ave & 5th Ave.\, Westbury\, NY – Entrance to building is on 5th Ave. Parking is in a lot opposite entrance on 5th St.\n  \n 
URL:https://prisonfamiliesalliance.org/event/in-person-general-support-meeting-westbury-new-york-7pm-et-4/
LOCATION:The Parish Center\, 75 Post Ave & 5th Ave.\, Westbury\,\, NY
END:VEVENT
BEGIN:VEVENT
DTSTART;TZID=America/Los_Angeles:20250513T190000
DTEND;TZID=America/Los_Angeles:20250513T200000
DTSTAMP:20260423T145446
CREATED:20250421T041050Z
LAST-MODIFIED:20250421T041050Z
UID:10002362-1747162800-1747166400@prisonfamiliesalliance.org
SUMMARY:NO MAY MEETING - (IN PERSON) General Support Meeting – Westbury\, New York (7PM ET)
DESCRIPTION:No May Meeting – See you in June! – This PFA General Support meeting is in person and provides a compassionate and supportive space for individuals who have a loved one in the carceral system. Recognizing the inherent challenges and stress that come with this experience\, we offer a platform for sharing information\, perspectives\, and personal experiences. Join us to connect with others who understand and navigate this journey with empathy and insight. We look forward to welcoming you and building a supportive network together. \n7:00 ET – The Parish Center\, 75 Post Ave & 5th Ave.\, Westbury\, NY – Entrance to building is on 5th Ave. Parking is in a lot opposite entrance on 5th St.\n  \n 
URL:https://prisonfamiliesalliance.org/event/no-may-meeting-in-person-general-support-meeting-westbury-new-york-7pm-et/
LOCATION:The Parish Center\, 75 Post Ave & 5th Ave.\, Westbury\,\, NY
END:VEVENT
BEGIN:VEVENT
DTSTART;TZID=America/Los_Angeles:20250408T190000
DTEND;TZID=America/Los_Angeles:20250408T200000
DTSTAMP:20260423T145446
CREATED:20250224T040442Z
LAST-MODIFIED:20250227T172827Z
UID:10002297-1744138800-1744142400@prisonfamiliesalliance.org
SUMMARY:(IN PERSON) General Support Meeting – Westbury\, New York (7PM ET)
DESCRIPTION:This PFA General Support meeting is in person and provides a compassionate and supportive space for individuals who have a loved one in the carceral system. Recognizing the inherent challenges and stress that come with this experience\, we offer a platform for sharing information\, perspectives\, and personal experiences. Join us to connect with others who understand and navigate this journey with empathy and insight. We look forward to welcoming you and building a supportive network together. \n7:00 ET – The Parish Center\, 75 Post Ave & 5th Ave.\, Westbury\, NY – Entrance to building is on 5th Ave. Parking is in a lot opposite entrance on 5th St.\n  \n 
URL:https://prisonfamiliesalliance.org/event/no-meeting-this-month-general-support-meeting-westbury-new-york-7pm-et-2/
LOCATION:The Parish Center\, 75 Post Ave & 5th Ave.\, Westbury\,\, NY
END:VEVENT
BEGIN:VEVENT
DTSTART;TZID=America/Los_Angeles:20250311T190000
DTEND;TZID=America/Los_Angeles:20250311T200000
DTSTAMP:20260423T145446
CREATED:20250224T040416Z
LAST-MODIFIED:20250227T172741Z
UID:10002296-1741719600-1741723200@prisonfamiliesalliance.org
SUMMARY:(IN PERSON) General Support Meeting – Westbury\, New York (7PM ET)
DESCRIPTION:This PFA General Support meeting is in person and provides a compassionate and supportive space for individuals who have a loved one in the carceral system. Recognizing the inherent challenges and stress that come with this experience\, we offer a platform for sharing information\, perspectives\, and personal experiences. Join us to connect with others who understand and navigate this journey with empathy and insight. We look forward to welcoming you and building a supportive network together. \n7:00 ET – The Parish Center\, 75 Post Ave & 5th Ave.\, Westbury\, NY – Entrance to building is on 5th Ave. Parking is in a lot opposite entrance on 5th St.\n  \n 
URL:https://prisonfamiliesalliance.org/event/no-meeting-this-month-general-support-meeting-westbury-new-york-7pm-et/
LOCATION:The Parish Center\, 75 Post Ave & 5th Ave.\, Westbury\,\, NY
END:VEVENT
BEGIN:VEVENT
DTSTART;TZID=America/Los_Angeles:20250211T190000
DTEND;TZID=America/Los_Angeles:20250211T200000
DTSTAMP:20260423T145446
CREATED:20250113T022516Z
LAST-MODIFIED:20250123T022909Z
UID:10002251-1739300400-1739304000@prisonfamiliesalliance.org
SUMMARY:(NO MEETING THIS MONTH) General Support Meeting – Westbury\, New York (7PM ET)
DESCRIPTION:NO MEETING THIS MONTH ONLY – This PFA General Support meeting is in person and provides a compassionate and supportive space for individuals who have a loved one in the carceral system. Recognizing the inherent challenges and stress that come with this experience\, we offer a platform for sharing information\, perspectives\, and personal experiences. Join us to connect with others who understand and navigate this journey with empathy and insight. We look forward to welcoming you and building a supportive network together. \n7:00 ET – The Parish Center\, 75 Post Ave & 5th Ave.\, Westbury\, NY – Entrance to building is on 5th Ave. Parking is in a lot opposite entrance on 5th St.\n  \n 
URL:https://prisonfamiliesalliance.org/event/in-person-general-support-meeting-westbury-new-york-7pm-et-3/
LOCATION:The Parish Center\, 75 Post Ave & 5th Ave.\, Westbury\,\, NY
END:VEVENT
BEGIN:VEVENT
DTSTART;TZID=America/Los_Angeles:20250114T190000
DTEND;TZID=America/Los_Angeles:20250114T200000
DTSTAMP:20260423T145446
CREATED:20241217T054023Z
LAST-MODIFIED:20241217T054023Z
UID:10002234-1736881200-1736884800@prisonfamiliesalliance.org
SUMMARY:(In Person) General Support Meeting – Westbury\, New York (7PM ET)
DESCRIPTION:This PFA General Support meeting is in person and provides a compassionate and supportive space for individuals who have a loved one in the carceral system. Recognizing the inherent challenges and stress that come with this experience\, we offer a platform for sharing information\, perspectives\, and personal experiences. Join us to connect with others who understand and navigate this journey with empathy and insight. We look forward to welcoming you and building a supportive network together. \n7:00 ET – The Parish Center\, 75 Post Ave & 5th Ave.\, Westbury\, NY – Entrance to building is on 5th Ave. Parking is in a lot opposite entrance on 5th St.\n  \n 
URL:https://prisonfamiliesalliance.org/event/in-person-general-support-meeting-westbury-new-york-7pm-et-2/
LOCATION:The Parish Center\, 75 Post Ave & 5th Ave.\, Westbury\,\, NY
END:VEVENT
BEGIN:VEVENT
DTSTART;TZID=America/Los_Angeles:20241210T190000
DTEND;TZID=America/Los_Angeles:20241210T200000
DTSTAMP:20260423T145446
CREATED:20241104T025219Z
LAST-MODIFIED:20241110T172248Z
UID:10002197-1733857200-1733860800@prisonfamiliesalliance.org
SUMMARY:(In Person) General Support Meeting – Westbury\, New York (7PM ET)
DESCRIPTION:This PFA General Support meeting is in person and provides a compassionate and supportive space for individuals who have a loved one in the carceral system. Recognizing the inherent challenges and stress that come with this experience\, we offer a platform for sharing information\, perspectives\, and personal experiences. Join us to connect with others who understand and navigate this journey with empathy and insight. We look forward to welcoming you and building a supportive network together. \n7:00 ET – The Parish Center\, 75 Post Ave & 5th Ave.\, Westbury\, NY – Entrance to building is on 5th Ave. Parking is in a lot opposite entrance on 5th St.\n  \n 
URL:https://prisonfamiliesalliance.org/event/in-person-general-support-meeting-westbury-new-york-7pm-et/
LOCATION:The Parish Center\, 75 Post Ave & 5th Ave.\, Westbury\,\, NY
END:VEVENT
BEGIN:VEVENT
DTSTART;TZID=America/Los_Angeles:20241112T190000
DTEND;TZID=America/Los_Angeles:20241112T200000
DTSTAMP:20260423T145446
CREATED:20241013T064012Z
LAST-MODIFIED:20241110T172422Z
UID:10002186-1731438000-1731441600@prisonfamiliesalliance.org
SUMMARY:(In Person) General Support Meeting – Westbury\, New York (7PM ET)
DESCRIPTION:This PFA General Support meeting is in person and provides a compassionate and supportive space for individuals who have a loved one in the carceral system. Recognizing the inherent challenges and stress that come with this experience\, we offer a platform for sharing information\, perspectives\, and personal experiences. Join us to connect with others who understand and navigate this journey with empathy and insight. We look forward to welcoming you and building a supportive network together. \n7:00 ET – The Parish Center\, 75 Post Ave & 5th Ave.\, Westbury\, NY – Entrance to building is on 5th Ave. Parking is in a lot opposite entrance on 5th St.\n  \n 
URL:https://prisonfamiliesalliance.org/event/in-person-general-support-meeting-central-islip-new-york-7pm-et-6/
LOCATION:The Parish Center\, 75 Post Ave & 5th Ave.\, Westbury\,\, NY
CATEGORIES:Support Group Meeting
END:VEVENT
END:VCALENDAR