BEGIN:VCALENDAR
VERSION:2.0
PRODID:-//Prison Families Alliance - ECPv6.15.20//NONSGML v1.0//EN
CALSCALE:GREGORIAN
METHOD:PUBLISH
X-ORIGINAL-URL:https://prisonfamiliesalliance.org
X-WR-CALDESC:Events for Prison Families Alliance
REFRESH-INTERVAL;VALUE=DURATION:PT1H
X-Robots-Tag:noindex
X-PUBLISHED-TTL:PT1H
BEGIN:VTIMEZONE
TZID:America/Los_Angeles
BEGIN:DAYLIGHT
TZOFFSETFROM:-0800
TZOFFSETTO:-0700
TZNAME:PDT
DTSTART:20250309T100000
END:DAYLIGHT
BEGIN:STANDARD
TZOFFSETFROM:-0700
TZOFFSETTO:-0800
TZNAME:PST
DTSTART:20251102T090000
END:STANDARD
BEGIN:DAYLIGHT
TZOFFSETFROM:-0800
TZOFFSETTO:-0700
TZNAME:PDT
DTSTART:20260308T100000
END:DAYLIGHT
BEGIN:STANDARD
TZOFFSETFROM:-0700
TZOFFSETTO:-0800
TZNAME:PST
DTSTART:20261101T090000
END:STANDARD
BEGIN:DAYLIGHT
TZOFFSETFROM:-0800
TZOFFSETTO:-0700
TZNAME:PDT
DTSTART:20270314T100000
END:DAYLIGHT
BEGIN:STANDARD
TZOFFSETFROM:-0700
TZOFFSETTO:-0800
TZNAME:PST
DTSTART:20271107T090000
END:STANDARD
END:VTIMEZONE
BEGIN:VEVENT
DTSTART;TZID=America/Los_Angeles:20260609T190000
DTEND;TZID=America/Los_Angeles:20260609T200000
DTSTAMP:20260423T132138
CREATED:20251123T230833Z
LAST-MODIFIED:20251123T230833Z
UID:10002593-1781031600-1781035200@prisonfamiliesalliance.org
SUMMARY:(IN PERSON) General Support Meeting – Westbury\, New York (7PM ET)
DESCRIPTION:This PFA General Support meeting is in person and provides a compassionate and supportive space for individuals who have a loved one in the carceral system. Recognizing the inherent challenges and stress that come with this experience\, we offer a platform for sharing information\, perspectives\, and personal experiences. Join us to connect with others who understand and navigate this journey with empathy and insight. We look forward to welcoming you and building a supportive network together. \n7:00 ET – The Parish Center\, 75 Post Ave & 5th Ave.\, Westbury\, NY – Entrance to building is on 5th Ave. Parking is in a lot opposite entrance on 5th St.\n  \n 
URL:https://prisonfamiliesalliance.org/event/in-person-general-support-meeting-westbury-new-york-7pm-et-15/
LOCATION:The Parish Center\, 75 Post Ave & 5th Ave.\, Westbury\,\, NY
END:VEVENT
BEGIN:VEVENT
DTSTART;TZID=America/Los_Angeles:20260714T190000
DTEND;TZID=America/Los_Angeles:20260714T200000
DTSTAMP:20260423T132138
CREATED:20251123T230907Z
LAST-MODIFIED:20251123T230907Z
UID:10002594-1784055600-1784059200@prisonfamiliesalliance.org
SUMMARY:(IN PERSON) General Support Meeting – Westbury\, New York (7PM ET)
DESCRIPTION:This PFA General Support meeting is in person and provides a compassionate and supportive space for individuals who have a loved one in the carceral system. Recognizing the inherent challenges and stress that come with this experience\, we offer a platform for sharing information\, perspectives\, and personal experiences. Join us to connect with others who understand and navigate this journey with empathy and insight. We look forward to welcoming you and building a supportive network together. \n7:00 ET – The Parish Center\, 75 Post Ave & 5th Ave.\, Westbury\, NY – Entrance to building is on 5th Ave. Parking is in a lot opposite entrance on 5th St.\n  \n 
URL:https://prisonfamiliesalliance.org/event/in-person-general-support-meeting-westbury-new-york-7pm-et-16/
LOCATION:The Parish Center\, 75 Post Ave & 5th Ave.\, Westbury\,\, NY
END:VEVENT
BEGIN:VEVENT
DTSTART;TZID=America/Los_Angeles:20260811T190000
DTEND;TZID=America/Los_Angeles:20260811T200000
DTSTAMP:20260423T132138
CREATED:20251123T230941Z
LAST-MODIFIED:20251123T230941Z
UID:10002595-1786474800-1786478400@prisonfamiliesalliance.org
SUMMARY:(IN PERSON) General Support Meeting – Westbury\, New York (7PM ET)
DESCRIPTION:This PFA General Support meeting is in person and provides a compassionate and supportive space for individuals who have a loved one in the carceral system. Recognizing the inherent challenges and stress that come with this experience\, we offer a platform for sharing information\, perspectives\, and personal experiences. Join us to connect with others who understand and navigate this journey with empathy and insight. We look forward to welcoming you and building a supportive network together. \n7:00 ET – The Parish Center\, 75 Post Ave & 5th Ave.\, Westbury\, NY – Entrance to building is on 5th Ave. Parking is in a lot opposite entrance on 5th St.\n  \n 
URL:https://prisonfamiliesalliance.org/event/in-person-general-support-meeting-westbury-new-york-7pm-et-17/
LOCATION:The Parish Center\, 75 Post Ave & 5th Ave.\, Westbury\,\, NY
END:VEVENT
BEGIN:VEVENT
DTSTART;TZID=America/Los_Angeles:20260908T190000
DTEND;TZID=America/Los_Angeles:20260908T200000
DTSTAMP:20260423T132138
CREATED:20251123T231021Z
LAST-MODIFIED:20251123T231021Z
UID:10002596-1788894000-1788897600@prisonfamiliesalliance.org
SUMMARY:(IN PERSON) General Support Meeting – Westbury\, New York (7PM ET)
DESCRIPTION:This PFA General Support meeting is in person and provides a compassionate and supportive space for individuals who have a loved one in the carceral system. Recognizing the inherent challenges and stress that come with this experience\, we offer a platform for sharing information\, perspectives\, and personal experiences. Join us to connect with others who understand and navigate this journey with empathy and insight. We look forward to welcoming you and building a supportive network together. \n7:00 ET – The Parish Center\, 75 Post Ave & 5th Ave.\, Westbury\, NY – Entrance to building is on 5th Ave. Parking is in a lot opposite entrance on 5th St.\n  \n 
URL:https://prisonfamiliesalliance.org/event/in-person-general-support-meeting-westbury-new-york-7pm-et-18/
LOCATION:The Parish Center\, 75 Post Ave & 5th Ave.\, Westbury\,\, NY
END:VEVENT
BEGIN:VEVENT
DTSTART;TZID=America/Los_Angeles:20261013T190000
DTEND;TZID=America/Los_Angeles:20261013T200000
DTSTAMP:20260423T132138
CREATED:20251123T231121Z
LAST-MODIFIED:20251123T231121Z
UID:10002597-1791918000-1791921600@prisonfamiliesalliance.org
SUMMARY:(IN PERSON) General Support Meeting – Westbury\, New York (7PM ET)
DESCRIPTION:This PFA General Support meeting is in person and provides a compassionate and supportive space for individuals who have a loved one in the carceral system. Recognizing the inherent challenges and stress that come with this experience\, we offer a platform for sharing information\, perspectives\, and personal experiences. Join us to connect with others who understand and navigate this journey with empathy and insight. We look forward to welcoming you and building a supportive network together. \n7:00 ET – The Parish Center\, 75 Post Ave & 5th Ave.\, Westbury\, NY – Entrance to building is on 5th Ave. Parking is in a lot opposite entrance on 5th St.\n  \n 
URL:https://prisonfamiliesalliance.org/event/in-person-general-support-meeting-westbury-new-york-7pm-et-19/
LOCATION:The Parish Center\, 75 Post Ave & 5th Ave.\, Westbury\,\, NY
END:VEVENT
BEGIN:VEVENT
DTSTART;TZID=America/Los_Angeles:20261110T190000
DTEND;TZID=America/Los_Angeles:20261110T200000
DTSTAMP:20260423T132138
CREATED:20251123T231247Z
LAST-MODIFIED:20251123T231247Z
UID:10002598-1794337200-1794340800@prisonfamiliesalliance.org
SUMMARY:(IN PERSON) General Support Meeting – Westbury\, New York (7PM ET)
DESCRIPTION:This PFA General Support meeting is in person and provides a compassionate and supportive space for individuals who have a loved one in the carceral system. Recognizing the inherent challenges and stress that come with this experience\, we offer a platform for sharing information\, perspectives\, and personal experiences. Join us to connect with others who understand and navigate this journey with empathy and insight. We look forward to welcoming you and building a supportive network together. \n7:00 ET – The Parish Center\, 75 Post Ave & 5th Ave.\, Westbury\, NY – Entrance to building is on 5th Ave. Parking is in a lot opposite entrance on 5th St.\n  \n 
URL:https://prisonfamiliesalliance.org/event/in-person-general-support-meeting-westbury-new-york-7pm-et-20/
LOCATION:The Parish Center\, 75 Post Ave & 5th Ave.\, Westbury\,\, NY
END:VEVENT
BEGIN:VEVENT
DTSTART;TZID=America/Los_Angeles:20261208T190000
DTEND;TZID=America/Los_Angeles:20261208T200000
DTSTAMP:20260423T132138
CREATED:20251123T231328Z
LAST-MODIFIED:20251123T231328Z
UID:10002599-1796756400-1796760000@prisonfamiliesalliance.org
SUMMARY:(IN PERSON) General Support Meeting – Westbury\, New York (7PM ET)
DESCRIPTION:This PFA General Support meeting is in person and provides a compassionate and supportive space for individuals who have a loved one in the carceral system. Recognizing the inherent challenges and stress that come with this experience\, we offer a platform for sharing information\, perspectives\, and personal experiences. Join us to connect with others who understand and navigate this journey with empathy and insight. We look forward to welcoming you and building a supportive network together. \n7:00 ET – The Parish Center\, 75 Post Ave & 5th Ave.\, Westbury\, NY – Entrance to building is on 5th Ave. Parking is in a lot opposite entrance on 5th St.\n  \n 
URL:https://prisonfamiliesalliance.org/event/in-person-general-support-meeting-westbury-new-york-7pm-et-21/
LOCATION:The Parish Center\, 75 Post Ave & 5th Ave.\, Westbury\,\, NY
END:VEVENT
END:VCALENDAR