BEGIN:VCALENDAR
VERSION:2.0
PRODID:-//Prison Families Alliance - ECPv6.15.20//NONSGML v1.0//EN
CALSCALE:GREGORIAN
METHOD:PUBLISH
X-WR-CALNAME:Prison Families Alliance
X-ORIGINAL-URL:https://prisonfamiliesalliance.org
X-WR-CALDESC:Events for Prison Families Alliance
REFRESH-INTERVAL;VALUE=DURATION:PT1H
X-Robots-Tag:noindex
X-PUBLISHED-TTL:PT1H
BEGIN:VTIMEZONE
TZID:America/Los_Angeles
BEGIN:DAYLIGHT
TZOFFSETFROM:-0800
TZOFFSETTO:-0700
TZNAME:PDT
DTSTART:20230312T100000
END:DAYLIGHT
BEGIN:STANDARD
TZOFFSETFROM:-0700
TZOFFSETTO:-0800
TZNAME:PST
DTSTART:20231105T090000
END:STANDARD
BEGIN:DAYLIGHT
TZOFFSETFROM:-0800
TZOFFSETTO:-0700
TZNAME:PDT
DTSTART:20240310T100000
END:DAYLIGHT
BEGIN:STANDARD
TZOFFSETFROM:-0700
TZOFFSETTO:-0800
TZNAME:PST
DTSTART:20241103T090000
END:STANDARD
BEGIN:DAYLIGHT
TZOFFSETFROM:-0800
TZOFFSETTO:-0700
TZNAME:PDT
DTSTART:20250309T100000
END:DAYLIGHT
BEGIN:STANDARD
TZOFFSETFROM:-0700
TZOFFSETTO:-0800
TZNAME:PST
DTSTART:20251102T090000
END:STANDARD
BEGIN:DAYLIGHT
TZOFFSETFROM:-0800
TZOFFSETTO:-0700
TZNAME:PDT
DTSTART:20260308T100000
END:DAYLIGHT
BEGIN:STANDARD
TZOFFSETFROM:-0700
TZOFFSETTO:-0800
TZNAME:PST
DTSTART:20261101T090000
END:STANDARD
END:VTIMEZONE
BEGIN:VEVENT
DTSTART;TZID=America/Los_Angeles:20250611T180000
DTEND;TZID=America/Los_Angeles:20250611T190000
DTSTAMP:20260423T201538
CREATED:20250514T041129Z
LAST-MODIFIED:20250515T143900Z
UID:10002385-1749664800-1749668400@prisonfamiliesalliance.org
SUMMARY:CANCELLED: (In Person) Support Meeting - Reno\, Nevada (6PM PT)
DESCRIPTION:This meeting is cancelled until further notice.\nThis PFA Support meeting is in person and provides a compassionate and supportive space for individuals who have a loved one in the carceral system. Recognizing the inherent challenges and stress that come with this experience\, we offer a platform for sharing information\, perspectives\, and personal experiences. Join us to connect with others who understand and navigate this journey with empathy and insight. We look forward to welcoming you and building a supportive network together. \n6pm PT – Thurman Hall\, 1660 Grandview Avenue\, Reno\, NV (Located next to St. Paul’s United Methodist Church)
URL:https://prisonfamiliesalliance.org/event/in-person-support-meeting-reno-nevada-6pm-pt-4/
LOCATION:Thurman Hall\, 1660 Grandview Avenue\, Reno\, NV\, 89503\, United States
CATEGORIES:Support Group Meeting
END:VEVENT
BEGIN:VEVENT
DTSTART;TZID=America/Los_Angeles:20250514T180000
DTEND;TZID=America/Los_Angeles:20250514T190000
DTSTAMP:20260423T201538
CREATED:20250421T032925Z
LAST-MODIFIED:20250421T032925Z
UID:10002340-1747245600-1747249200@prisonfamiliesalliance.org
SUMMARY:(In Person) Support Meeting - Reno\, Nevada (6PM PT)
DESCRIPTION:This PFA Support meeting is in person and provides a compassionate and supportive space for individuals who have a loved one in the carceral system. Recognizing the inherent challenges and stress that come with this experience\, we offer a platform for sharing information\, perspectives\, and personal experiences. Join us to connect with others who understand and navigate this journey with empathy and insight. We look forward to welcoming you and building a supportive network together. \n6pm PT – Thurman Hall\, 1660 Grandview Avenue\, Reno\, NV (Located next to St. Paul’s United Methodist Church)
URL:https://prisonfamiliesalliance.org/event/in-person-support-meeting-reno-nevada-6pm-pt-3/
LOCATION:Thurman Hall\, 1660 Grandview Avenue\, Reno\, NV\, 89503\, United States
CATEGORIES:Support Group Meeting
END:VEVENT
BEGIN:VEVENT
DTSTART;TZID=America/Los_Angeles:20250409T180000
DTEND;TZID=America/Los_Angeles:20250409T190000
DTSTAMP:20260423T201538
CREATED:20250224T044335Z
LAST-MODIFIED:20250224T044335Z
UID:10002315-1744221600-1744225200@prisonfamiliesalliance.org
SUMMARY:(In Person) Support Meeting - Reno\, Nevada (6PM PT)
DESCRIPTION:This PFA Support meeting is in person and provides a compassionate and supportive space for individuals who have a loved one in the carceral system. Recognizing the inherent challenges and stress that come with this experience\, we offer a platform for sharing information\, perspectives\, and personal experiences. Join us to connect with others who understand and navigate this journey with empathy and insight. We look forward to welcoming you and building a supportive network together. \n6pm PT – Thurman Hall\, 1660 Grandview Avenue\, Reno\, NV (Located next to St. Paul’s United Methodist Church)
URL:https://prisonfamiliesalliance.org/event/in-person-support-meeting-reno-nevada-6pm-pt-2/
LOCATION:Thurman Hall\, 1660 Grandview Avenue\, Reno\, NV\, 89503\, United States
CATEGORIES:Support Group Meeting
END:VEVENT
BEGIN:VEVENT
DTSTART;TZID=America/Los_Angeles:20250312T180000
DTEND;TZID=America/Los_Angeles:20250312T190000
DTSTAMP:20260423T201538
CREATED:20250224T044300Z
LAST-MODIFIED:20250224T044300Z
UID:10002314-1741802400-1741806000@prisonfamiliesalliance.org
SUMMARY:(In Person) Support Meeting - Reno\, Nevada (6PM PT)
DESCRIPTION:This PFA Support meeting is in person and provides a compassionate and supportive space for individuals who have a loved one in the carceral system. Recognizing the inherent challenges and stress that come with this experience\, we offer a platform for sharing information\, perspectives\, and personal experiences. Join us to connect with others who understand and navigate this journey with empathy and insight. We look forward to welcoming you and building a supportive network together. \n6pm PT – Thurman Hall\, 1660 Grandview Avenue\, Reno\, NV (Located next to St. Paul’s United Methodist Church)
URL:https://prisonfamiliesalliance.org/event/in-person-support-meeting-reno-nevada-6pm-pt/
LOCATION:Thurman Hall\, 1660 Grandview Avenue\, Reno\, NV\, 89503\, United States
CATEGORIES:Support Group Meeting
END:VEVENT
BEGIN:VEVENT
DTSTART;TZID=America/Los_Angeles:20250212T180000
DTEND;TZID=America/Los_Angeles:20250212T190000
DTSTAMP:20260423T201538
CREATED:20250113T021722Z
LAST-MODIFIED:20250113T042107Z
UID:10002245-1739383200-1739386800@prisonfamiliesalliance.org
SUMMARY:(In Person) Support Meeting - Reno\, Nevada (6PM PT)
DESCRIPTION:This PFA Support meeting is in person and provides a compassionate and supportive space for individuals who have a loved one in the carceral system. Recognizing the inherent challenges and stress that come with this experience\, we offer a platform for sharing information\, perspectives\, and personal experiences. Join us to connect with others who understand and navigate this journey with empathy and insight. We look forward to welcoming you and building a supportive network together. \n6pm PT – Thurman Hall\, 1660 Grandview Avenue\, Reno\, NV (Located next to St. Paul’s United Methodist Church)
URL:https://prisonfamiliesalliance.org/event/in-person-support-meeting-reno-nevada-3/
LOCATION:Thurman Hall\, 1660 Grandview Avenue\, Reno\, NV\, 89503\, United States
CATEGORIES:Support Group Meeting
END:VEVENT
BEGIN:VEVENT
DTSTART;TZID=America/Los_Angeles:20250108T180000
DTEND;TZID=America/Los_Angeles:20250108T190000
DTSTAMP:20260423T201538
CREATED:20250106T024901Z
LAST-MODIFIED:20250106T024901Z
UID:10002238-1736359200-1736362800@prisonfamiliesalliance.org
SUMMARY:(In Person) Support Meeting - Reno\, Nevada
DESCRIPTION:This PFA Support meeting is in person and provides a compassionate and supportive space for individuals who have a loved one in the carceral system. Recognizing the inherent challenges and stress that come with this experience\, we offer a platform for sharing information\, perspectives\, and personal experiences. Join us to connect with others who understand and navigate this journey with empathy and insight. We look forward to welcoming you and building a supportive network together. \n6pm PT – Thurman Hall\, 1660 Grandview Avenue\, Reno\, NV (Located next to St. Paul’s United Methodist Church)
URL:https://prisonfamiliesalliance.org/event/in-person-support-meeting-reno-nevada-2/
LOCATION:Thurman Hall\, 1660 Grandview Avenue\, Reno\, NV\, 89503\, United States
CATEGORIES:Support Group Meeting
END:VEVENT
BEGIN:VEVENT
DTSTART;TZID=America/Los_Angeles:20241211T180000
DTEND;TZID=America/Los_Angeles:20241211T190000
DTSTAMP:20260423T201538
CREATED:20241122T095208Z
LAST-MODIFIED:20241122T095327Z
UID:10002212-1733940000-1733943600@prisonfamiliesalliance.org
SUMMARY:(In Person) Support Meeting - Reno\, Nevada
DESCRIPTION:This PFA Support meeting is in person and provides a compassionate and supportive space for individuals who have a loved one in the carceral system. Recognizing the inherent challenges and stress that come with this experience\, we offer a platform for sharing information\, perspectives\, and personal experiences. Join us to connect with others who understand and navigate this journey with empathy and insight. We look forward to welcoming you and building a supportive network together. \n6pm PT – Thurman Hall\, 1660 Grandview Avenue\, Reno\, NV (Located next to St. Paul’s United Methodist Church)
URL:https://prisonfamiliesalliance.org/event/in-person-support-meeting-reno-nevada/
LOCATION:Thurman Hall\, 1660 Grandview Avenue\, Reno\, NV\, 89503\, United States
CATEGORIES:Support Group Meeting
END:VEVENT
END:VCALENDAR