BEGIN:VCALENDAR
VERSION:2.0
PRODID:-//Prison Families Alliance - ECPv6.15.20//NONSGML v1.0//EN
CALSCALE:GREGORIAN
METHOD:PUBLISH
X-WR-CALNAME:Prison Families Alliance
X-ORIGINAL-URL:https://prisonfamiliesalliance.org
X-WR-CALDESC:Events for Prison Families Alliance
REFRESH-INTERVAL;VALUE=DURATION:PT1H
X-Robots-Tag:noindex
X-PUBLISHED-TTL:PT1H
BEGIN:VTIMEZONE
TZID:America/Los_Angeles
BEGIN:DAYLIGHT
TZOFFSETFROM:-0800
TZOFFSETTO:-0700
TZNAME:PDT
DTSTART:20230312T100000
END:DAYLIGHT
BEGIN:STANDARD
TZOFFSETFROM:-0700
TZOFFSETTO:-0800
TZNAME:PST
DTSTART:20231105T090000
END:STANDARD
BEGIN:DAYLIGHT
TZOFFSETFROM:-0800
TZOFFSETTO:-0700
TZNAME:PDT
DTSTART:20240310T100000
END:DAYLIGHT
BEGIN:STANDARD
TZOFFSETFROM:-0700
TZOFFSETTO:-0800
TZNAME:PST
DTSTART:20241103T090000
END:STANDARD
BEGIN:DAYLIGHT
TZOFFSETFROM:-0800
TZOFFSETTO:-0700
TZNAME:PDT
DTSTART:20250309T100000
END:DAYLIGHT
BEGIN:STANDARD
TZOFFSETFROM:-0700
TZOFFSETTO:-0800
TZNAME:PST
DTSTART:20251102T090000
END:STANDARD
BEGIN:DAYLIGHT
TZOFFSETFROM:-0800
TZOFFSETTO:-0700
TZNAME:PDT
DTSTART:20260308T100000
END:DAYLIGHT
BEGIN:STANDARD
TZOFFSETFROM:-0700
TZOFFSETTO:-0800
TZNAME:PST
DTSTART:20261101T090000
END:STANDARD
END:VTIMEZONE
BEGIN:VEVENT
DTSTART;TZID=America/Los_Angeles:20250203T180000
DTEND;TZID=America/Los_Angeles:20250203T190000
DTSTAMP:20260423T163529
CREATED:20250113T033852Z
LAST-MODIFIED:20250121T022542Z
UID:10002262-1738605600-1738609200@prisonfamiliesalliance.org
SUMMARY:***NEW***(In Person) General Support Meeting – La Porte\, IN (6PM CT)
DESCRIPTION:This PFA General Support meeting is in person and provides a compassionate and supportive space for individuals who have a loved one in the carceral system. Recognizing the inherent challenges and stress that come with this experience\, we offer a platform for sharing information\, perspectives\, and personal experiences. Join us to connect with others who understand and navigate this journey with empathy and insight. We look forward to welcoming you and building a supportive network together. \n6:00 CT – First Church of God\, 2020 East LincolnWay\, La Porte\, IN\n 
URL:https://prisonfamiliesalliance.org/event/in-person-general-support-meeting-la-porte-in-6pm-ct/
LOCATION:Touro Law School\, 225 Eastview Dr.\, Central Islip\, New York\, 11722
CATEGORIES:Support Group Meeting
END:VEVENT
BEGIN:VEVENT
DTSTART;TZID=America/Los_Angeles:20250128T190000
DTEND;TZID=America/Los_Angeles:20250128T200000
DTSTAMP:20260423T163529
CREATED:20241217T051354Z
LAST-MODIFIED:20241217T051354Z
UID:10002227-1738090800-1738094400@prisonfamiliesalliance.org
SUMMARY:(In Person) General Support Meeting – Central Islip\, New York (7PM ET)
DESCRIPTION:This PFA General Support meeting is in person and provides a compassionate and supportive space for individuals who have a loved one in the carceral system. Recognizing the inherent challenges and stress that come with this experience\, we offer a platform for sharing information\, perspectives\, and personal experiences. Join us to connect with others who understand and navigate this journey with empathy and insight. We look forward to welcoming you and building a supportive network together. \n7:00 ET – Touro Law School\, Public Advocacy Center (PAC)\, 225 Eastview Dr.\, Central Islip\, NY \n 
URL:https://prisonfamiliesalliance.org/event/in-person-general-support-meeting-central-islip-new-york-7pm-et-7/
LOCATION:Touro Law School\, 225 Eastview Dr.\, Central Islip\, New York\, 11722
END:VEVENT
BEGIN:VEVENT
DTSTART;TZID=America/Los_Angeles:20241224T190000
DTEND;TZID=America/Los_Angeles:20241224T200000
DTSTAMP:20260423T163529
CREATED:20241104T033055Z
LAST-MODIFIED:20241104T033446Z
UID:10002210-1735066800-1735070400@prisonfamiliesalliance.org
SUMMARY:(NO MEETING) General Support Meeting – Central Islip\, New York (7PM ET)
DESCRIPTION:NO MEETING 12/24 \nThis PFA General Support meeting is in person and provides a compassionate and supportive space for individuals who have a loved one in the carceral system. Recognizing the inherent challenges and stress that come with this experience\, we offer a platform for sharing information\, perspectives\, and personal experiences. Join us to connect with others who understand and navigate this journey with empathy and insight. We look forward to welcoming you and building a supportive network together. \n7:00 ET – Touro Law School\, Public Advocacy Center (PAC)\, 225 Eastview Dr.\, Central Islip\, NY \n 
URL:https://prisonfamiliesalliance.org/event/no-meeting-general-support-meeting-central-islip-new-york-7pm-et/
LOCATION:Touro Law School\, 225 Eastview Dr.\, Central Islip\, New York\, 11722
END:VEVENT
BEGIN:VEVENT
DTSTART;TZID=America/Los_Angeles:20241126T190000
DTEND;TZID=America/Los_Angeles:20241126T200000
DTSTAMP:20260423T163529
CREATED:20241013T062445Z
LAST-MODIFIED:20241013T062445Z
UID:10002178-1732647600-1732651200@prisonfamiliesalliance.org
SUMMARY:(In Person) General Support Meeting – Central Islip\, New York (7PM ET)
DESCRIPTION:This PFA General Support meeting is in person and provides a compassionate and supportive space for individuals who have a loved one in the carceral system. Recognizing the inherent challenges and stress that come with this experience\, we offer a platform for sharing information\, perspectives\, and personal experiences. Join us to connect with others who understand and navigate this journey with empathy and insight. We look forward to welcoming you and building a supportive network together. \n7:00 ET – Touro Law School\, Public Advocacy Center (PAC)\, 225 Eastview Dr.\, Central Islip\, NY \n 
URL:https://prisonfamiliesalliance.org/event/in-person-general-support-meeting-central-islip-new-york-7pm-et-5/
LOCATION:Touro Law School\, 225 Eastview Dr.\, Central Islip\, New York\, 11722
END:VEVENT
BEGIN:VEVENT
DTSTART;TZID=America/Los_Angeles:20241022T190000
DTEND;TZID=America/Los_Angeles:20241022T200000
DTSTAMP:20260423T163529
CREATED:20240811T164127Z
LAST-MODIFIED:20240811T164127Z
UID:10002123-1729623600-1729627200@prisonfamiliesalliance.org
SUMMARY:(In Person) General Support Meeting – Central Islip\, New York (7PM ET)
DESCRIPTION:This PFA General Support meeting is in person and provides a compassionate and supportive space for individuals who have a loved one in the carceral system. Recognizing the inherent challenges and stress that come with this experience\, we offer a platform for sharing information\, perspectives\, and personal experiences. Join us to connect with others who understand and navigate this journey with empathy and insight. We look forward to welcoming you and building a supportive network together. \n7:00 ET – Touro Law School\, Public Advocacy Center (PAC)\, 225 Eastview Dr.\, Central Islip\, NY \n 
URL:https://prisonfamiliesalliance.org/event/in-person-general-support-meeting-central-islip-new-york-7pm-et-4/
LOCATION:Touro Law School\, 225 Eastview Dr.\, Central Islip\, New York\, 11722
END:VEVENT
BEGIN:VEVENT
DTSTART;TZID=America/Los_Angeles:20240924T190000
DTEND;TZID=America/Los_Angeles:20240924T200000
DTSTAMP:20260423T163529
CREATED:20240811T164055Z
LAST-MODIFIED:20240811T164055Z
UID:10002122-1727204400-1727208000@prisonfamiliesalliance.org
SUMMARY:(In Person) General Support Meeting – Central Islip\, New York (7PM ET)
DESCRIPTION:This PFA General Support meeting is in person and provides a compassionate and supportive space for individuals who have a loved one in the carceral system. Recognizing the inherent challenges and stress that come with this experience\, we offer a platform for sharing information\, perspectives\, and personal experiences. Join us to connect with others who understand and navigate this journey with empathy and insight. We look forward to welcoming you and building a supportive network together. \n7:00 ET – Touro Law School\, Public Advocacy Center (PAC)\, 225 Eastview Dr.\, Central Islip\, NY \n 
URL:https://prisonfamiliesalliance.org/event/in-person-general-support-meeting-central-islip-new-york-7pm-et-3/
LOCATION:Touro Law School\, 225 Eastview Dr.\, Central Islip\, New York\, 11722
END:VEVENT
BEGIN:VEVENT
DTSTART;TZID=America/Los_Angeles:20240827T190000
DTEND;TZID=America/Los_Angeles:20240827T200000
DTSTAMP:20260423T163529
CREATED:20240714T013709Z
LAST-MODIFIED:20240714T013709Z
UID:10002101-1724785200-1724788800@prisonfamiliesalliance.org
SUMMARY:(In Person) General Support Meeting – Central Islip\, New York (7PM ET)
DESCRIPTION:This PFA General Support meeting is in person and provides a compassionate and supportive space for individuals who have a loved one in the carceral system. Recognizing the inherent challenges and stress that come with this experience\, we offer a platform for sharing information\, perspectives\, and personal experiences. Join us to connect with others who understand and navigate this journey with empathy and insight. We look forward to welcoming you and building a supportive network together. \n7:00 ET – Touro Law School\, Public Advocacy Center (PAC)\, 225 Eastview Dr.\, Central Islip\, NY \n 
URL:https://prisonfamiliesalliance.org/event/in-person-general-support-meeting-central-islip-new-york-7pm-et-2/
LOCATION:Touro Law School\, 225 Eastview Dr.\, Central Islip\, New York\, 11722
END:VEVENT
BEGIN:VEVENT
DTSTART;TZID=America/Los_Angeles:20240723T190000
DTEND;TZID=America/Los_Angeles:20240723T200000
DTSTAMP:20260423T163529
CREATED:20240630T185258Z
LAST-MODIFIED:20240630T185258Z
UID:10002090-1721761200-1721764800@prisonfamiliesalliance.org
SUMMARY:(In Person) General Support Meeting – Central Islip\, New York (7PM ET)
DESCRIPTION:This PFA General Support meeting is in person and provides a compassionate and supportive space for individuals who have a loved one in the carceral system. Recognizing the inherent challenges and stress that come with this experience\, we offer a platform for sharing information\, perspectives\, and personal experiences. Join us to connect with others who understand and navigate this journey with empathy and insight. We look forward to welcoming you and building a supportive network together. \n7:00 ET – Touro Law School\, Public Advocacy Center (PAC)\, 225 Eastview Dr.\, Central Islip\, NY \n 
URL:https://prisonfamiliesalliance.org/event/in-person-general-support-meeting-central-islip-new-york-7pm-et/
LOCATION:Touro Law School\, 225 Eastview Dr.\, Central Islip\, New York\, 11722
END:VEVENT
BEGIN:VEVENT
DTSTART;TZID=America/Los_Angeles:20240620T160000
DTEND;TZID=America/Los_Angeles:20240620T170000
DTSTAMP:20260423T163529
CREATED:20240526T202229Z
LAST-MODIFIED:20240616T042559Z
UID:10002048-1718899200-1718902800@prisonfamiliesalliance.org
SUMMARY:(In Person) General Support Meeting – Central Islip\, New York (7PM ET)
DESCRIPTION:This PFA General Support meeting is in person and provides a compassionate and supportive space for individuals who have a loved one in the carceral system. Recognizing the inherent challenges and stress that come with this experience\, we offer a platform for sharing information\, perspectives\, and personal experiences. Join us to connect with others who understand and navigate this journey with empathy and insight. We look forward to welcoming you and building a supportive network together. \n7:00 ET – Touro Law School\, Public Advocacy Center (PAC)\, 225 Eastview Dr.\, Central Islip\, NY 
URL:https://prisonfamiliesalliance.org/event/in-person-7pm-et-general-support-meeting/
LOCATION:Touro Law School\, 225 Eastview Dr.\, Central Islip\, New York\, 11722
CATEGORIES:Support Group Meeting
END:VEVENT
END:VCALENDAR