BEGIN:VCALENDAR
VERSION:2.0
PRODID:-//Prison Families Alliance - ECPv6.15.20//NONSGML v1.0//EN
CALSCALE:GREGORIAN
METHOD:PUBLISH
X-WR-CALNAME:Prison Families Alliance
X-ORIGINAL-URL:https://prisonfamiliesalliance.org
X-WR-CALDESC:Events for Prison Families Alliance
REFRESH-INTERVAL;VALUE=DURATION:PT1H
X-Robots-Tag:noindex
X-PUBLISHED-TTL:PT1H
BEGIN:VTIMEZONE
TZID:America/Chicago
BEGIN:DAYLIGHT
TZOFFSETFROM:-0600
TZOFFSETTO:-0500
TZNAME:CDT
DTSTART:20240310T080000
END:DAYLIGHT
BEGIN:STANDARD
TZOFFSETFROM:-0500
TZOFFSETTO:-0600
TZNAME:CST
DTSTART:20241103T070000
END:STANDARD
BEGIN:DAYLIGHT
TZOFFSETFROM:-0600
TZOFFSETTO:-0500
TZNAME:CDT
DTSTART:20250309T080000
END:DAYLIGHT
BEGIN:STANDARD
TZOFFSETFROM:-0500
TZOFFSETTO:-0600
TZNAME:CST
DTSTART:20251102T070000
END:STANDARD
BEGIN:DAYLIGHT
TZOFFSETFROM:-0600
TZOFFSETTO:-0500
TZNAME:CDT
DTSTART:20260308T080000
END:DAYLIGHT
BEGIN:STANDARD
TZOFFSETFROM:-0500
TZOFFSETTO:-0600
TZNAME:CST
DTSTART:20261101T070000
END:STANDARD
BEGIN:DAYLIGHT
TZOFFSETFROM:-0600
TZOFFSETTO:-0500
TZNAME:CDT
DTSTART:20270314T080000
END:DAYLIGHT
BEGIN:STANDARD
TZOFFSETFROM:-0500
TZOFFSETTO:-0600
TZNAME:CST
DTSTART:20271107T070000
END:STANDARD
END:VTIMEZONE
BEGIN:VEVENT
DTSTART;TZID=America/Chicago:20260117T100000
DTEND;TZID=America/Chicago:20260117T230000
DTSTAMP:20260423T154856
CREATED:20260118T021204Z
LAST-MODIFIED:20260118T021205Z
UID:10003101-1768644000-1768690800@prisonfamiliesalliance.org
SUMMARY:(In Person) General Support Meeting for Women – Lincoln\, Nebraska (10 CT)
DESCRIPTION:This PFA General Support with WII (Women Impacted by Incarceration) meeting is in person and provides a compassionate and supportive space for women who have a loved one in the carceral system. Recognizing the inherent challenges and stress that come with this experience\, we offer a platform for sharing information\, perspectives\, and personal experiences. Join us to connect with others who understand and navigate this journey with empathy and insight. We look forward to welcoming you and building a supportive network together. \n10am CT – 5530 O Street\, Ste. 3\, Lincoln\, NE  (Inside the Wellbeing Initiative Building\, Door #4\, Support Group Room) \n 
URL:https://prisonfamiliesalliance.org/event/in-person-general-support-meeting-for-women-lincoln-nebraska-10-ct-5-2/2026-01-17/
LOCATION:Wellbeing Initiative Building\, 5530 O Street\, Ste. 3\, Lincoln\, NE\, United States
CATEGORIES:Support Group Meeting
END:VEVENT
BEGIN:VEVENT
DTSTART;TZID=America/Chicago:20260110T100000
DTEND;TZID=America/Chicago:20260110T230000
DTSTAMP:20260423T154856
CREATED:20260118T021204Z
LAST-MODIFIED:20260118T021205Z
UID:10002841-1768039200-1768086000@prisonfamiliesalliance.org
SUMMARY:(In Person) General Support Meeting for Women – Lincoln\, Nebraska (10 CT)
DESCRIPTION:This PFA General Support with WII (Women Impacted by Incarceration) meeting is in person and provides a compassionate and supportive space for women who have a loved one in the carceral system. Recognizing the inherent challenges and stress that come with this experience\, we offer a platform for sharing information\, perspectives\, and personal experiences. Join us to connect with others who understand and navigate this journey with empathy and insight. We look forward to welcoming you and building a supportive network together. \n10am CT – 5530 O Street\, Ste. 3\, Lincoln\, NE  (Inside the Wellbeing Initiative Building\, Door #4\, Support Group Room) \n 
URL:https://prisonfamiliesalliance.org/event/in-person-general-support-meeting-for-women-lincoln-nebraska-10-ct-5-2/2026-01-10/
LOCATION:Wellbeing Initiative Building\, 5530 O Street\, Ste. 3\, Lincoln\, NE\, United States
CATEGORIES:Support Group Meeting
END:VEVENT
BEGIN:VEVENT
DTSTART;TZID=America/Chicago:20260110T100000
DTEND;TZID=America/Chicago:20260110T230000
DTSTAMP:20260423T154856
CREATED:20251128T230529Z
LAST-MODIFIED:20251128T231618Z
UID:10002840-1768039200-1768086000@prisonfamiliesalliance.org
SUMMARY:(In Person) General Support Meeting for Women – Lincoln\, Nebraska (10 CT)
DESCRIPTION:This PFA General Support with WII (Women Impacted by Incarceration) meeting is in person and provides a compassionate and supportive space for women who have a loved one in the carceral system. Recognizing the inherent challenges and stress that come with this experience\, we offer a platform for sharing information\, perspectives\, and personal experiences. Join us to connect with others who understand and navigate this journey with empathy and insight. We look forward to welcoming you and building a supportive network together. \n10am CT – 5530 O Street\, Ste. 3\, Lincoln\, NE  (Inside the Wellbeing Initiative Building\, Door #4\, Support Group Room) \n 
URL:https://prisonfamiliesalliance.org/event/in-person-general-support-meeting-for-women-lincoln-nebraska-10-ct-5/
LOCATION:Wellbeing Initiative Building\, 5530 O Street\, Ste. 3\, Lincoln\, NE\, United States
CATEGORIES:Support Group Meeting
END:VEVENT
BEGIN:VEVENT
DTSTART;TZID=America/Chicago:20251213T100000
DTEND;TZID=America/Chicago:20251213T230000
DTSTAMP:20260423T154856
CREATED:20251123T231513Z
LAST-MODIFIED:20251123T231513Z
UID:10002600-1765620000-1765666800@prisonfamiliesalliance.org
SUMMARY:(In Person) General Support Meeting for Women – Lincoln\, Nebraska (10 CT)
DESCRIPTION:This PFA General Support with WII (Women Impacted by Incarceration) meeting is in person and provides a compassionate and supportive space for women who have a loved one in the carceral system. Recognizing the inherent challenges and stress that come with this experience\, we offer a platform for sharing information\, perspectives\, and personal experiences. Join us to connect with others who understand and navigate this journey with empathy and insight. We look forward to welcoming you and building a supportive network together. \n10am CT – 5530 O Street\, Ste. 3 (Inside the Wellbeing Initiative Building\, Door #4\, Support Group Room) \n 
URL:https://prisonfamiliesalliance.org/event/in-person-general-support-meeting-for-women-lincoln-nebraska-10-ct-4/
LOCATION:Wellbeing Initiative Building\, 5530 O Street\, Ste. 3\, Lincoln\, NE\, United States
CATEGORIES:Support Group Meeting
END:VEVENT
BEGIN:VEVENT
DTSTART;TZID=America/Chicago:20251108T100000
DTEND;TZID=America/Chicago:20251108T230000
DTSTAMP:20260423T154856
CREATED:20251020T003828Z
LAST-MODIFIED:20251020T004005Z
UID:10002553-1762596000-1762642800@prisonfamiliesalliance.org
SUMMARY:(In Person) General Support Meeting for Women – Lincoln\, Nebraska (10 CT)
DESCRIPTION:This PFA General Support with WII (Women Impacted by Incarceration) meeting is in person and provides a compassionate and supportive space for women who have a loved one in the carceral system. Recognizing the inherent challenges and stress that come with this experience\, we offer a platform for sharing information\, perspectives\, and personal experiences. Join us to connect with others who understand and navigate this journey with empathy and insight. We look forward to welcoming you and building a supportive network together. \n10am CT – 5530 O Street\, Ste. 3 (Inside the Wellbeing Initiative Building\, Door #4\, Support Group Room) \n 
URL:https://prisonfamiliesalliance.org/event/in-person-general-support-meeting-for-women-lincoln-nebraska-10-ct-3/
LOCATION:Wellbeing Initiative Building\, 5530 O Street\, Ste. 3\, Lincoln\, NE\, United States
CATEGORIES:Support Group Meeting
END:VEVENT
BEGIN:VEVENT
DTSTART;TZID=America/Chicago:20251011T100000
DTEND;TZID=America/Chicago:20251011T230000
DTSTAMP:20260423T154856
CREATED:20250928T021603Z
LAST-MODIFIED:20250928T021603Z
UID:10002526-1760176800-1760223600@prisonfamiliesalliance.org
SUMMARY:(In Person) General Support Meeting for Women – Lincoln\, Nebraska (10 CT)
DESCRIPTION:This PFA General Support with WII (Women Impacted by Incarceration) meeting is in person and provides a compassionate and supportive space for women who have a loved one in the carceral system. Recognizing the inherent challenges and stress that come with this experience\, we offer a platform for sharing information\, perspectives\, and personal experiences. Join us to connect with others who understand and navigate this journey with empathy and insight. We look forward to welcoming you and building a supportive network together. \n10am CT – 5530 O Street\, Ste. 3 (Inside the Wellbeing Initiative Building\, Door #4\, Support Group Room) \n 
URL:https://prisonfamiliesalliance.org/event/in-person-general-support-meeting-for-women-lincoln-nebraska-10-ct-2/
LOCATION:Wellbeing Initiative Building\, 5530 O Street\, Ste. 3\, Lincoln\, NE\, United States
CATEGORIES:Support Group Meeting
END:VEVENT
BEGIN:VEVENT
DTSTART;TZID=America/Chicago:20250913T100000
DTEND;TZID=America/Chicago:20250913T230000
DTSTAMP:20260423T154856
CREATED:20250901T063521Z
LAST-MODIFIED:20250901T063521Z
UID:10002505-1757757600-1757804400@prisonfamiliesalliance.org
SUMMARY:(In Person) General Support Meeting for Women – Lincoln\, Nebraska (10 CT)
DESCRIPTION:This PFA General Support with WII (Women Impacted by Incarceration) meeting is in person and provides a compassionate and supportive space for women who have a loved one in the carceral system. Recognizing the inherent challenges and stress that come with this experience\, we offer a platform for sharing information\, perspectives\, and personal experiences. Join us to connect with others who understand and navigate this journey with empathy and insight. We look forward to welcoming you and building a supportive network together. \n10am CT – 5530 O Street\, Ste. 3 (Inside the Wellbeing Initiative Building\, Door #4\, Support Group Room) \n 
URL:https://prisonfamiliesalliance.org/event/in-person-general-support-meeting-for-women-lincoln-nebraska-10-ct/
LOCATION:Wellbeing Initiative Building\, 5530 O Street\, Ste. 3\, Lincoln\, NE\, United States
CATEGORIES:Support Group Meeting
END:VEVENT
BEGIN:VEVENT
DTSTART;TZID=America/Chicago:20250809T100000
DTEND;TZID=America/Chicago:20250809T230000
DTSTAMP:20260423T154856
CREATED:20250719T214701Z
LAST-MODIFIED:20250719T215051Z
UID:10002495-1754733600-1754780400@prisonfamiliesalliance.org
SUMMARY:(In Person) General Support Meeting for Women – Lincoln\, Nebraska (10 CT)
DESCRIPTION:This PFA General Support with WII (Women Impacted by Incarceration) meeting is in person and provides a compassionate and supportive space for women who have a loved one in the carceral system. Recognizing the inherent challenges and stress that come with this experience\, we offer a platform for sharing information\, perspectives\, and personal experiences. Join us to connect with others who understand and navigate this journey with empathy and insight. We look forward to welcoming you and building a supportive network together. \n10am CT – 5530 O Street\, Ste. 3 (Inside the Wellbeing Initiative Building\, Door #4\, Support Group Room) \n 
URL:https://prisonfamiliesalliance.org/event/in-person-general-support-meeting-lincoln-nebraska-10-ct/
LOCATION:Wellbeing Initiative Building\, 5530 O Street\, Ste. 3\, Lincoln\, NE\, United States
END:VEVENT
END:VCALENDAR