BEGIN:VCALENDAR
VERSION:2.0
PRODID:-//Prison Families Alliance - ECPv6.15.20//NONSGML v1.0//EN
CALSCALE:GREGORIAN
METHOD:PUBLISH
X-ORIGINAL-URL:https://prisonfamiliesalliance.org
X-WR-CALDESC:Events for Prison Families Alliance
REFRESH-INTERVAL;VALUE=DURATION:PT1H
X-Robots-Tag:noindex
X-PUBLISHED-TTL:PT1H
BEGIN:VTIMEZONE
TZID:America/New_York
BEGIN:DAYLIGHT
TZOFFSETFROM:-0500
TZOFFSETTO:-0400
TZNAME:EDT
DTSTART:20250309T070000
END:DAYLIGHT
BEGIN:STANDARD
TZOFFSETFROM:-0400
TZOFFSETTO:-0500
TZNAME:EST
DTSTART:20251102T060000
END:STANDARD
BEGIN:DAYLIGHT
TZOFFSETFROM:-0500
TZOFFSETTO:-0400
TZNAME:EDT
DTSTART:20260308T070000
END:DAYLIGHT
BEGIN:STANDARD
TZOFFSETFROM:-0400
TZOFFSETTO:-0500
TZNAME:EST
DTSTART:20261101T060000
END:STANDARD
BEGIN:DAYLIGHT
TZOFFSETFROM:-0500
TZOFFSETTO:-0400
TZNAME:EDT
DTSTART:20270314T070000
END:DAYLIGHT
BEGIN:STANDARD
TZOFFSETFROM:-0400
TZOFFSETTO:-0500
TZNAME:EST
DTSTART:20271107T060000
END:STANDARD
END:VTIMEZONE
BEGIN:VEVENT
DTSTART;TZID=America/New_York:20260509T100000
DTEND;TZID=America/New_York:20260509T110000
DTSTAMP:20260423T101509
CREATED:20251123T192614Z
LAST-MODIFIED:20251123T192614Z
UID:10002579-1778320800-1778324400@prisonfamiliesalliance.org
SUMMARY:General Support Meeting – Sykesville\, Maryland (10am ET)
DESCRIPTION:Join us AT OUR NEW LOCATION for in-person General Support meetings\, offering compassion\, information\, and support for individuals who have had or currently have a loved one in the prison system. We understand the stress and challenges that come with this experience. Come connect with others who share insights\, perspectives\, and personal experiences. Let’s support each other through these difficult times. Please note\, this meeting is for adults only. \nThis meeting takes place at 351 Liberty Rd.\, Sykesville\, MD  21784. (Note: The South Carroll Church of the Nazarene has graciously provided space for these PFA meetings.) \n10:00am – 11:00am East Coast Time Zone
URL:https://prisonfamiliesalliance.org/event/general-support-meeting-sykesville-maryland-10am-et-8/
LOCATION:Westminster First Church of the Nazerene\, 127 Sullivan Road\, Westminster\, 21157\, United States
CATEGORIES:Support Group Meeting
END:VEVENT
BEGIN:VEVENT
DTSTART;TZID=America/New_York:20260613T100000
DTEND;TZID=America/New_York:20260613T110000
DTSTAMP:20260423T101509
CREATED:20251123T192639Z
LAST-MODIFIED:20251123T192639Z
UID:10002580-1781344800-1781348400@prisonfamiliesalliance.org
SUMMARY:General Support Meeting – Sykesville\, Maryland (10am ET)
DESCRIPTION:Join us AT OUR NEW LOCATION for in-person General Support meetings\, offering compassion\, information\, and support for individuals who have had or currently have a loved one in the prison system. We understand the stress and challenges that come with this experience. Come connect with others who share insights\, perspectives\, and personal experiences. Let’s support each other through these difficult times. Please note\, this meeting is for adults only. \nThis meeting takes place at 351 Liberty Rd.\, Sykesville\, MD  21784. (Note: The South Carroll Church of the Nazarene has graciously provided space for these PFA meetings.) \n10:00am – 11:00am East Coast Time Zone
URL:https://prisonfamiliesalliance.org/event/general-support-meeting-sykesville-maryland-10am-et-9/
LOCATION:Westminster First Church of the Nazerene\, 127 Sullivan Road\, Westminster\, 21157\, United States
CATEGORIES:Support Group Meeting
END:VEVENT
BEGIN:VEVENT
DTSTART;TZID=America/New_York:20260711T100000
DTEND;TZID=America/New_York:20260711T110000
DTSTAMP:20260423T101509
CREATED:20251123T192703Z
LAST-MODIFIED:20251123T192703Z
UID:10002581-1783764000-1783767600@prisonfamiliesalliance.org
SUMMARY:General Support Meeting – Sykesville\, Maryland (10am ET)
DESCRIPTION:Join us AT OUR NEW LOCATION for in-person General Support meetings\, offering compassion\, information\, and support for individuals who have had or currently have a loved one in the prison system. We understand the stress and challenges that come with this experience. Come connect with others who share insights\, perspectives\, and personal experiences. Let’s support each other through these difficult times. Please note\, this meeting is for adults only. \nThis meeting takes place at 351 Liberty Rd.\, Sykesville\, MD  21784. (Note: The South Carroll Church of the Nazarene has graciously provided space for these PFA meetings.) \n10:00am – 11:00am East Coast Time Zone
URL:https://prisonfamiliesalliance.org/event/general-support-meeting-sykesville-maryland-10am-et-10/
LOCATION:Westminster First Church of the Nazerene\, 127 Sullivan Road\, Westminster\, 21157\, United States
CATEGORIES:Support Group Meeting
END:VEVENT
BEGIN:VEVENT
DTSTART;TZID=America/New_York:20260808T100000
DTEND;TZID=America/New_York:20260808T110000
DTSTAMP:20260423T101509
CREATED:20251123T192726Z
LAST-MODIFIED:20251123T192726Z
UID:10002582-1786183200-1786186800@prisonfamiliesalliance.org
SUMMARY:General Support Meeting – Sykesville\, Maryland (10am ET)
DESCRIPTION:Join us AT OUR NEW LOCATION for in-person General Support meetings\, offering compassion\, information\, and support for individuals who have had or currently have a loved one in the prison system. We understand the stress and challenges that come with this experience. Come connect with others who share insights\, perspectives\, and personal experiences. Let’s support each other through these difficult times. Please note\, this meeting is for adults only. \nThis meeting takes place at 351 Liberty Rd.\, Sykesville\, MD  21784. (Note: The South Carroll Church of the Nazarene has graciously provided space for these PFA meetings.) \n10:00am – 11:00am East Coast Time Zone
URL:https://prisonfamiliesalliance.org/event/general-support-meeting-sykesville-maryland-10am-et-11/
LOCATION:Westminster First Church of the Nazerene\, 127 Sullivan Road\, Westminster\, 21157\, United States
CATEGORIES:Support Group Meeting
END:VEVENT
BEGIN:VEVENT
DTSTART;TZID=America/New_York:20260912T100000
DTEND;TZID=America/New_York:20260912T110000
DTSTAMP:20260423T101509
CREATED:20251123T192749Z
LAST-MODIFIED:20251123T192749Z
UID:10002583-1789207200-1789210800@prisonfamiliesalliance.org
SUMMARY:General Support Meeting – Sykesville\, Maryland (10am ET)
DESCRIPTION:Join us AT OUR NEW LOCATION for in-person General Support meetings\, offering compassion\, information\, and support for individuals who have had or currently have a loved one in the prison system. We understand the stress and challenges that come with this experience. Come connect with others who share insights\, perspectives\, and personal experiences. Let’s support each other through these difficult times. Please note\, this meeting is for adults only. \nThis meeting takes place at 351 Liberty Rd.\, Sykesville\, MD  21784. (Note: The South Carroll Church of the Nazarene has graciously provided space for these PFA meetings.) \n10:00am – 11:00am East Coast Time Zone
URL:https://prisonfamiliesalliance.org/event/general-support-meeting-sykesville-maryland-10am-et-12/
LOCATION:Westminster First Church of the Nazerene\, 127 Sullivan Road\, Westminster\, 21157\, United States
CATEGORIES:Support Group Meeting
END:VEVENT
BEGIN:VEVENT
DTSTART;TZID=America/New_York:20261010T100000
DTEND;TZID=America/New_York:20261010T110000
DTSTAMP:20260423T101509
CREATED:20251123T192929Z
LAST-MODIFIED:20251123T192929Z
UID:10002586-1791626400-1791630000@prisonfamiliesalliance.org
SUMMARY:General Support Meeting – Sykesville\, Maryland (10am ET)
DESCRIPTION:Join us AT OUR NEW LOCATION for in-person General Support meetings\, offering compassion\, information\, and support for individuals who have had or currently have a loved one in the prison system. We understand the stress and challenges that come with this experience. Come connect with others who share insights\, perspectives\, and personal experiences. Let’s support each other through these difficult times. Please note\, this meeting is for adults only. \nThis meeting takes place at 351 Liberty Rd.\, Sykesville\, MD  21784. (Note: The South Carroll Church of the Nazarene has graciously provided space for these PFA meetings.) \n10:00am – 11:00am East Coast Time Zone
URL:https://prisonfamiliesalliance.org/event/general-support-meeting-sykesville-maryland-10am-et-15/
LOCATION:Westminster First Church of the Nazerene\, 127 Sullivan Road\, Westminster\, 21157\, United States
CATEGORIES:Support Group Meeting
END:VEVENT
BEGIN:VEVENT
DTSTART;TZID=America/New_York:20261114T100000
DTEND;TZID=America/New_York:20261114T110000
DTSTAMP:20260423T101509
CREATED:20251123T192906Z
LAST-MODIFIED:20251123T192906Z
UID:10002585-1794650400-1794654000@prisonfamiliesalliance.org
SUMMARY:General Support Meeting – Sykesville\, Maryland (10am ET)
DESCRIPTION:Join us AT OUR NEW LOCATION for in-person General Support meetings\, offering compassion\, information\, and support for individuals who have had or currently have a loved one in the prison system. We understand the stress and challenges that come with this experience. Come connect with others who share insights\, perspectives\, and personal experiences. Let’s support each other through these difficult times. Please note\, this meeting is for adults only. \nThis meeting takes place at 351 Liberty Rd.\, Sykesville\, MD  21784. (Note: The South Carroll Church of the Nazarene has graciously provided space for these PFA meetings.) \n10:00am – 11:00am East Coast Time Zone
URL:https://prisonfamiliesalliance.org/event/general-support-meeting-sykesville-maryland-10am-et-14/
LOCATION:Westminster First Church of the Nazerene\, 127 Sullivan Road\, Westminster\, 21157\, United States
CATEGORIES:Support Group Meeting
END:VEVENT
BEGIN:VEVENT
DTSTART;TZID=America/New_York:20261212T100000
DTEND;TZID=America/New_York:20261212T110000
DTSTAMP:20260423T101509
CREATED:20251123T192841Z
LAST-MODIFIED:20251123T192841Z
UID:10002584-1797069600-1797073200@prisonfamiliesalliance.org
SUMMARY:General Support Meeting – Sykesville\, Maryland (10am ET)
DESCRIPTION:Join us AT OUR NEW LOCATION for in-person General Support meetings\, offering compassion\, information\, and support for individuals who have had or currently have a loved one in the prison system. We understand the stress and challenges that come with this experience. Come connect with others who share insights\, perspectives\, and personal experiences. Let’s support each other through these difficult times. Please note\, this meeting is for adults only. \nThis meeting takes place at 351 Liberty Rd.\, Sykesville\, MD  21784. (Note: The South Carroll Church of the Nazarene has graciously provided space for these PFA meetings.) \n10:00am – 11:00am East Coast Time Zone
URL:https://prisonfamiliesalliance.org/event/general-support-meeting-sykesville-maryland-10am-et-13/
LOCATION:Westminster First Church of the Nazerene\, 127 Sullivan Road\, Westminster\, 21157\, United States
CATEGORIES:Support Group Meeting
END:VEVENT
END:VCALENDAR