BEGIN:VCALENDAR
VERSION:2.0
PRODID:-//Prison Families Alliance - ECPv6.15.20//NONSGML v1.0//EN
CALSCALE:GREGORIAN
METHOD:PUBLISH
X-WR-CALNAME:Prison Families Alliance
X-ORIGINAL-URL:https://prisonfamiliesalliance.org
X-WR-CALDESC:Events for Prison Families Alliance
REFRESH-INTERVAL;VALUE=DURATION:PT1H
X-Robots-Tag:noindex
X-PUBLISHED-TTL:PT1H
BEGIN:VTIMEZONE
TZID:America/New_York
BEGIN:DAYLIGHT
TZOFFSETFROM:-0500
TZOFFSETTO:-0400
TZNAME:EDT
DTSTART:20230312T070000
END:DAYLIGHT
BEGIN:STANDARD
TZOFFSETFROM:-0400
TZOFFSETTO:-0500
TZNAME:EST
DTSTART:20231105T060000
END:STANDARD
BEGIN:DAYLIGHT
TZOFFSETFROM:-0500
TZOFFSETTO:-0400
TZNAME:EDT
DTSTART:20240310T070000
END:DAYLIGHT
BEGIN:STANDARD
TZOFFSETFROM:-0400
TZOFFSETTO:-0500
TZNAME:EST
DTSTART:20241103T060000
END:STANDARD
BEGIN:DAYLIGHT
TZOFFSETFROM:-0500
TZOFFSETTO:-0400
TZNAME:EDT
DTSTART:20250309T070000
END:DAYLIGHT
BEGIN:STANDARD
TZOFFSETFROM:-0400
TZOFFSETTO:-0500
TZNAME:EST
DTSTART:20251102T060000
END:STANDARD
BEGIN:DAYLIGHT
TZOFFSETFROM:-0500
TZOFFSETTO:-0400
TZNAME:EDT
DTSTART:20260308T070000
END:DAYLIGHT
BEGIN:STANDARD
TZOFFSETFROM:-0400
TZOFFSETTO:-0500
TZNAME:EST
DTSTART:20261101T060000
END:STANDARD
END:VTIMEZONE
BEGIN:VTIMEZONE
TZID:America/Los_Angeles
BEGIN:DAYLIGHT
TZOFFSETFROM:-0800
TZOFFSETTO:-0700
TZNAME:PDT
DTSTART:20230312T100000
END:DAYLIGHT
BEGIN:STANDARD
TZOFFSETFROM:-0700
TZOFFSETTO:-0800
TZNAME:PST
DTSTART:20231105T090000
END:STANDARD
BEGIN:DAYLIGHT
TZOFFSETFROM:-0800
TZOFFSETTO:-0700
TZNAME:PDT
DTSTART:20240310T100000
END:DAYLIGHT
BEGIN:STANDARD
TZOFFSETFROM:-0700
TZOFFSETTO:-0800
TZNAME:PST
DTSTART:20241103T090000
END:STANDARD
BEGIN:DAYLIGHT
TZOFFSETFROM:-0800
TZOFFSETTO:-0700
TZNAME:PDT
DTSTART:20250309T100000
END:DAYLIGHT
BEGIN:STANDARD
TZOFFSETFROM:-0700
TZOFFSETTO:-0800
TZNAME:PST
DTSTART:20251102T090000
END:STANDARD
END:VTIMEZONE
BEGIN:VEVENT
DTSTART;TZID=America/New_York:20250412T100000
DTEND;TZID=America/New_York:20250412T110000
DTSTAMP:20260423T133814
CREATED:20250224T040752Z
LAST-MODIFIED:20250428T035804Z
UID:10002301-1744452000-1744455600@prisonfamiliesalliance.org
SUMMARY:(In Person) General Support Meeting – Westminster\, Maryland
DESCRIPTION:Join us for in-person General Support meetings\, offering compassion\, information\, and support for individuals who have had or currently have a loved one in the prison system. We understand the stress and challenges that come with this experience. Come connect with others who share insights\, perspectives\, and personal experiences. Let’s support each other through these difficult times. Please note\, this meeting is for adults only. \nThis meeting takes place at 147 Sullivan Road\, Westminster\, MD  21157. (Note: The Westminster Church of the Nazarene has graciously provided space for these PFA meetings.) \n10:00am – 11:00am East Coast Time Zone
URL:https://prisonfamiliesalliance.org/event/in-person-general-support-meeting-westminster-maryland-9/
LOCATION:Westminster First Church of the Nazerene\, 127 Sullivan Road\, Westminster\, 21157\, United States
CATEGORIES:Support Group Meeting
END:VEVENT
BEGIN:VEVENT
DTSTART;TZID=America/New_York:20250315T100000
DTEND;TZID=America/New_York:20250315T110000
DTSTAMP:20260423T133814
CREATED:20250224T040727Z
LAST-MODIFIED:20250224T043843Z
UID:10002300-1742032800-1742036400@prisonfamiliesalliance.org
SUMMARY:(In Person) General Support Meeting – Westminster\, Maryland
DESCRIPTION:Join us for in-person General Support meetings\, offering compassion\, information\, and support for individuals who have had or currently have a loved one in the prison system. We understand the stress and challenges that come with this experience. Come connect with others who share insights\, perspectives\, and personal experiences. Let’s support each other through these difficult times. Please note\, this meeting is for adults only. \nThis meeting takes place at 147 Sullivan Road\, Westminster\, MD  21157. (Note: The Westminster Church of the Nazarene has graciously provided space for these PFA meetings.) \n10:00am – 11:00am East Coast Time Zone
URL:https://prisonfamiliesalliance.org/event/in-person-general-support-meeting-westminster-maryland-8/
LOCATION:Westminster First Church of the Nazerene\, 127 Sullivan Road\, Westminster\, 21157\, United States
CATEGORIES:Support Group Meeting
END:VEVENT
BEGIN:VEVENT
DTSTART;TZID=America/New_York:20250215T100000
DTEND;TZID=America/New_York:20250215T110000
DTSTAMP:20260423T133814
CREATED:20250113T022229Z
LAST-MODIFIED:20250115T232949Z
UID:10002249-1739613600-1739617200@prisonfamiliesalliance.org
SUMMARY:(In Person) General Support Meeting – Westminster\, Maryland (10AM ET)
DESCRIPTION:Join us for in-person General Support meetings\, offering compassion\, information\, and support for individuals who have had or currently have a loved one in the prison system. We understand the stress and challenges that come with this experience. Come connect with others who share insights\, perspectives\, and personal experiences. Let’s support each other through these difficult times. Please note\, this meeting is for adults only. \nThis meeting takes place at 147 Sullivan Road\, Westminster\, MD  21157. (Note: The Westminster Church of the Nazarene has graciously provided space for these PFA meetings.) \n10:00am – 11:00am East Coast Time Zone
URL:https://prisonfamiliesalliance.org/event/in-person-general-support-meeting-westminster-maryland-7/
LOCATION:Westminster First Church of the Nazerene\, 127 Sullivan Road\, Westminster\, 21157\, United States
CATEGORIES:Support Group Meeting
END:VEVENT
BEGIN:VEVENT
DTSTART;TZID=America/New_York:20250111T100000
DTEND;TZID=America/New_York:20250111T110000
DTSTAMP:20260423T133814
CREATED:20241217T050852Z
LAST-MODIFIED:20241217T050852Z
UID:10002220-1736589600-1736593200@prisonfamiliesalliance.org
SUMMARY:(In Person) General Support Meeting – Westminster\, Maryland
DESCRIPTION:Join us for in-person General Support meetings\, offering compassion\, information\, and support for individuals who have had or currently have a loved one in the prison system. We understand the stress and challenges that come with this experience. Come connect with others who share insights\, perspectives\, and personal experiences. Let’s support each other through these difficult times. Please note\, this meeting is for adults only. \nThis meeting takes place at 147 Sullivan Road\, Westminster\, MD  21157. (Note: The Westminster Church of the Nazarene has graciously provided space for these PFA meetings.) \n10:00am – 11:00am East Coast Time Zone
URL:https://prisonfamiliesalliance.org/event/in-person-general-support-meeting-westminster-maryland-6/
LOCATION:Westminster First Church of the Nazerene\, 127 Sullivan Road\, Westminster\, 21157\, United States
CATEGORIES:Support Group Meeting
END:VEVENT
BEGIN:VEVENT
DTSTART;TZID=America/New_York:20241214T100000
DTEND;TZID=America/New_York:20241214T110000
DTSTAMP:20260423T133814
CREATED:20241104T024946Z
LAST-MODIFIED:20241104T024946Z
UID:10002195-1734170400-1734174000@prisonfamiliesalliance.org
SUMMARY:(In Person) General Support Meeting – Westminster\, Maryland
DESCRIPTION:Join us for in-person General Support meetings\, offering compassion\, information\, and support for individuals who have had or currently have a loved one in the prison system. We understand the stress and challenges that come with this experience. Come connect with others who share insights\, perspectives\, and personal experiences. Let’s support each other through these difficult times. Please note\, this meeting is for adults only. \nThis meeting takes place at 147 Sullivan Road\, Westminster\, MD  21157. (Note: The Westminster Church of the Nazarene has graciously provided space for these PFA meetings.) \n10:00am – 11:00am East Coast Time Zone
URL:https://prisonfamiliesalliance.org/event/in-person-general-support-meeting-westminster-maryland-5/
LOCATION:Westminster First Church of the Nazerene\, 127 Sullivan Road\, Westminster\, 21157\, United States
CATEGORIES:Support Group Meeting
END:VEVENT
BEGIN:VEVENT
DTSTART;TZID=America/New_York:20241109T100000
DTEND;TZID=America/New_York:20241109T110000
DTSTAMP:20260423T133814
CREATED:20241013T061203Z
LAST-MODIFIED:20241013T062612Z
UID:10002168-1731146400-1731150000@prisonfamiliesalliance.org
SUMMARY:(In Person) General Support Meeting – Westminster\, Maryland
DESCRIPTION:Join us for in-person General Support meetings\, offering compassion\, information\, and support for individuals who have had or currently have a loved one in the prison system. We understand the stress and challenges that come with this experience. Come connect with others who share insights\, perspectives\, and personal experiences. Let’s support each other through these difficult times. Please note\, this meeting is for adults only. \nThis meeting takes place at 147 Sullivan Road\, Westminster\, MD  21157. (Note: The Westminster Church of the Nazarene has graciously provided space for these PFA meetings.) \n10:00am – 11:00am East Coast Time Zone
URL:https://prisonfamiliesalliance.org/event/cancelled-only-this-month-in-person-general-support-meeting-westminster-maryland/
LOCATION:Westminster First Church of the Nazerene\, 127 Sullivan Road\, Westminster\, 21157\, United States
CATEGORIES:Support Group Meeting
END:VEVENT
BEGIN:VEVENT
DTSTART;TZID=America/New_York:20241012T100000
DTEND;TZID=America/New_York:20241012T110000
DTSTAMP:20260423T133814
CREATED:20240811T170841Z
LAST-MODIFIED:20241011T154639Z
UID:10002153-1728727200-1728730800@prisonfamiliesalliance.org
SUMMARY:CANCELLED ONLY THIS MONTH: (In Person) General Support Meeting – Westminster\, Maryland
DESCRIPTION:OCTOBER MEETING CANCELLED – SEE YOU IN NOVEMBER! – Join us for in-person General Support meetings\, offering compassion\, information\, and support for individuals who have had or currently have a loved one in the prison system. We understand the stress and challenges that come with this experience. Come connect with others who share insights\, perspectives\, and personal experiences. Let’s support each other through these difficult times. Please note\, this meeting is for adults only. \nThis meeting takes place at 147 Sullivan Road\, Westminster\, MD  21157. (Note: The Westminster Church of the Nazarene has graciously provided space for these PFA meetings.) \n10:00am – 11:00am East Coast Time Zone
URL:https://prisonfamiliesalliance.org/event/in-person-general-support-meeting-westminster-maryland-4/
LOCATION:Westminster First Church of the Nazerene\, 127 Sullivan Road\, Westminster\, 21157\, United States
CATEGORIES:Support Group Meeting
END:VEVENT
BEGIN:VEVENT
DTSTART;TZID=America/New_York:20240914T100000
DTEND;TZID=America/New_York:20240914T110000
DTSTAMP:20260423T133814
CREATED:20240714T015008Z
LAST-MODIFIED:20240811T174034Z
UID:10002110-1726308000-1726311600@prisonfamiliesalliance.org
SUMMARY:(***NEW*** In Person) General Support Meeting – Westminster\, Maryland
DESCRIPTION:Join us for in-person General Support meetings\, offering compassion\, information\, and support for individuals who have had or currently have a loved one in the prison system. We understand the stress and challenges that come with this experience. Come connect with others who share insights\, perspectives\, and personal experiences. Let’s support each other through these difficult times. Please note\, this meeting is for adults only. \nThis meeting takes place at 147 Sullivan Road\, Westminster\, MD  21157. (Note: The Westminster Church of the Nazarene has graciously provided space for these PFA meetings.) \n10:00am – 11:00am East Coast Time Zone
URL:https://prisonfamiliesalliance.org/event/in-person-general-support-meeting-westminster-maryland-3/
LOCATION:Westminster First Church of the Nazerene\, 127 Sullivan Road\, Westminster\, 21157\, United States
CATEGORIES:Support Group Meeting
END:VEVENT
BEGIN:VEVENT
DTSTART;TZID=America/New_York:20240910T183000
DTEND;TZID=America/New_York:20240910T193000
DTSTAMP:20260423T133814
CREATED:20240811T180641Z
LAST-MODIFIED:20240827T164959Z
UID:10002160-1725993000-1725996600@prisonfamiliesalliance.org
SUMMARY:(*** NEW *** In Person) General Support Meeting – Sandusky\, Ohio
DESCRIPTION:Join us for in-person General Support meetings\, offering compassion\, information\, and support for individuals who have had or currently have a loved one in the prison system. We understand the stress and challenges that come with this experience. Come connect with others who share insights\, perspectives\, and personal experiences. Let’s support each other through these difficult times. Please note\, this meeting is for adults only. \nThis meeting takes place at 4444 Galloway Road\, Sandusky\, OH 44870. (Note: The Chapel has graciously provided space for these meetings.) \n6:30pm – 7:30pm East Coast Time Zone \n 
URL:https://prisonfamiliesalliance.org/event/new-in-person-general-support-meeting-sandusky-ohio/
LOCATION:Westminster First Church of the Nazerene\, 127 Sullivan Road\, Westminster\, 21157\, United States
CATEGORIES:Support Group Meeting
END:VEVENT
BEGIN:VEVENT
DTSTART;TZID=America/New_York:20240713T100000
DTEND;TZID=America/New_York:20240713T110000
DTSTAMP:20260423T133814
CREATED:20240624T005942Z
LAST-MODIFIED:20240624T005942Z
UID:10002089-1720864800-1720868400@prisonfamiliesalliance.org
SUMMARY:(In Person) General Support Meeting – Westminster\, Maryland
DESCRIPTION:Join us for in-person PFA General Support meetings\, offering compassion\, information\, and support for individuals who have had or currently have a loved one in the prison system. We understand the stress and challenges that come with this experience. Come connect with others who share insights\, perspectives\, and personal experiences. Let’s support each other through these difficult times. Please note\, this meeting is for adults only. \nThis meeting takes place at 147 Sullivan Road\, Westminster\, MD  21157. (Note: The Westminster Church of the Nazarene has graciously provided space for these PFA meetings.) \n10:00am – 11:00am East Coast Time Zone
URL:https://prisonfamiliesalliance.org/event/in-person-general-support-meeting-westminster-maryland-2/
LOCATION:Westminster First Church of the Nazerene\, 127 Sullivan Road\, Westminster\, 21157\, United States
CATEGORIES:Support Group Meeting
END:VEVENT
BEGIN:VEVENT
DTSTART;TZID=America/Los_Angeles:20240615T070000
DTEND;TZID=America/Los_Angeles:20240615T200000
DTSTAMP:20260423T133814
CREATED:20240526T231253Z
LAST-MODIFIED:20240527T021619Z
UID:10002065-1718434800-1718481600@prisonfamiliesalliance.org
SUMMARY:(In Person-10am ET) General Support Meeting – Westminster\, Maryland
DESCRIPTION:Join us for in-person PFA General Support meetings\, offering compassion\, information\, and support for individuals who have had or currently have a loved one in the prison system. We understand the stress and challenges that come with this experience. Come connect with others who share insights\, perspectives\, and personal experiences. Let’s support each other through these difficult times. Please note\, this meeting is for adults only. \nThis meeting takes place at 147 Sullivan Road\, Westminster\, MD  21157. (Note: The Westminster Church of the Nazarene has graciously provided space for these PFA meetings.) \n10:00am – 11:00am East Coast Time Zone
URL:https://prisonfamiliesalliance.org/event/in-person-general-support-meeting-westminster-maryland/
LOCATION:Westminster First Church of the Nazerene\, 127 Sullivan Road\, Westminster\, 21157\, United States
CATEGORIES:Support Group Meeting
END:VEVENT
BEGIN:VEVENT
DTSTART;TZID=America/New_York:20240511T100000
DTEND;TZID=America/New_York:20240511T110000
DTSTAMP:20260423T133814
CREATED:20240429T060959Z
LAST-MODIFIED:20240429T062623Z
UID:10002038-1715421600-1715425200@prisonfamiliesalliance.org
SUMMARY:General Support Group In Person\, Westminster\, Maryland
DESCRIPTION:May 11 @ 10:00am – 11:00am East Cost Time Zone\n\n\n\nCompassionate\, informative\, and supportive meetings for anyone who has or had a loved one in the prison system. This can be a stressful and challenging time. Join people who understand and share information\, their perspectives\, and personal experiences. Come on out and let’s support each other through these challenging times.  This is an adults only meeting. \nThis meeting takes place on second Saturday of the month from 10am-11am ET\, at 147 Sullivan Road\, Westminster\, MD  21157. (Note: The Westminster Church of the Nazarene has graciously provided space for these PFA meetings.)
URL:https://prisonfamiliesalliance.org/event/general-support-group-in-person-westminster-maryland/
LOCATION:Westminster First Church of the Nazerene\, 127 Sullivan Road\, Westminster\, 21157\, United States
CATEGORIES:Support Group Meeting
END:VEVENT
BEGIN:VEVENT
DTSTART;TZID=America/Los_Angeles:20240413T100000
DTEND;TZID=America/Los_Angeles:20240413T110000
DTSTAMP:20260423T133814
CREATED:20240324T145706Z
LAST-MODIFIED:20240324T150039Z
UID:10001733-1713002400-1713006000@prisonfamiliesalliance.org
SUMMARY:*NEW* - General Support Meeting In Person\, Westminster\, Maryland
DESCRIPTION:Compassionate\, informative\, and supportive meetings for anyone who has or had a loved one in the prison system. This can be a stressful and challenging time. Join people who understand and share information\, their perspectives\, and personal experiences. Come on out and let’s support each other through these challenging times.  This is an adults only meeting. \nThis meeting takes place on second Saturday of the month from 10am-11am ET\, at 147 Sullivan Road\, Westminster\, MD  21157. (Note: The Westminster Church of the Nazarene has graciously provided space for these PFA meetings.) \n  \n10:00am – 11:00am East Coast time zone \n 
URL:https://prisonfamiliesalliance.org/event/new-general-support-meeting-in-person-westminster-maryland/
LOCATION:Westminster First Church of the Nazerene\, 127 Sullivan Road\, Westminster\, 21157\, United States
CATEGORIES:Support Group Meeting
END:VEVENT
END:VCALENDAR